BEGIN:VCALENDAR
VERSION:2.0
PRODID:-//Jackson Tourism - ECPv6.15.20//NONSGML v1.0//EN
CALSCALE:GREGORIAN
METHOD:PUBLISH
X-WR-CALNAME:Jackson Tourism
X-ORIGINAL-URL:https://visitjacksontn.com
X-WR-CALDESC:Events for Jackson Tourism
REFRESH-INTERVAL;VALUE=DURATION:PT1H
X-Robots-Tag:noindex
X-PUBLISHED-TTL:PT1H
BEGIN:VTIMEZONE
TZID:America/Chicago
BEGIN:DAYLIGHT
TZOFFSETFROM:-0600
TZOFFSETTO:-0500
TZNAME:CDT
DTSTART:20230312T080000
END:DAYLIGHT
BEGIN:STANDARD
TZOFFSETFROM:-0500
TZOFFSETTO:-0600
TZNAME:CST
DTSTART:20231105T070000
END:STANDARD
BEGIN:DAYLIGHT
TZOFFSETFROM:-0600
TZOFFSETTO:-0500
TZNAME:CDT
DTSTART:20240310T080000
END:DAYLIGHT
BEGIN:STANDARD
TZOFFSETFROM:-0500
TZOFFSETTO:-0600
TZNAME:CST
DTSTART:20241103T070000
END:STANDARD
BEGIN:DAYLIGHT
TZOFFSETFROM:-0600
TZOFFSETTO:-0500
TZNAME:CDT
DTSTART:20250309T080000
END:DAYLIGHT
BEGIN:STANDARD
TZOFFSETFROM:-0500
TZOFFSETTO:-0600
TZNAME:CST
DTSTART:20251102T070000
END:STANDARD
END:VTIMEZONE
BEGIN:VEVENT
DTSTART;TZID=America/Chicago:20240211T000000
DTEND;TZID=America/Chicago:20240211T055000
DTSTAMP:20260423T060605
CREATED:20240411T190222Z
LAST-MODIFIED:20240411T190222Z
UID:10001418-1707609600-1707630600@visitjacksontn.com
SUMMARY:Doubletree's Valentines Dinner Theatre
DESCRIPTION:Saturday\, February 10 Doors Open at 6:00 pm\, Dinner Starts at 6:30 pm Dinner will consist of: – Salad – Steak Medalions – Grilled Chicken – Garlic Roasted Potatoes – Green Beans – A Glass of Wine or Sparkling Juice Dessert: Chocolate Tart $75/Couple $38/Individuals $199/Couple: Romance package includes one night king room\, along with dinner theatre. For reservations\, call 731-410-2036.
URL:https://visitjacksontn.com/event/doubletrees-valentines-dinner-theatre/
CATEGORIES:Music,Sports & Outdoor
ATTACH;FMTTYPE=image/jpeg:https://visitjacksontn.com/wp-content/uploads/416346629_1099463774647714_278123945848810574_n-43fVDe.tmp_.jpg
END:VEVENT
END:VCALENDAR