BEGIN:VCALENDAR
VERSION:2.0
PRODID:-//Jackson Tourism - ECPv6.15.20//NONSGML v1.0//EN
CALSCALE:GREGORIAN
METHOD:PUBLISH
X-WR-CALNAME:Jackson Tourism
X-ORIGINAL-URL:https://visitjacksontn.com
X-WR-CALDESC:Events for Jackson Tourism
REFRESH-INTERVAL;VALUE=DURATION:PT1H
X-Robots-Tag:noindex
X-PUBLISHED-TTL:PT1H
BEGIN:VTIMEZONE
TZID:America/Chicago
BEGIN:DAYLIGHT
TZOFFSETFROM:-0600
TZOFFSETTO:-0500
TZNAME:CDT
DTSTART:20220313T080000
END:DAYLIGHT
BEGIN:STANDARD
TZOFFSETFROM:-0500
TZOFFSETTO:-0600
TZNAME:CST
DTSTART:20221106T070000
END:STANDARD
BEGIN:DAYLIGHT
TZOFFSETFROM:-0600
TZOFFSETTO:-0500
TZNAME:CDT
DTSTART:20230312T080000
END:DAYLIGHT
BEGIN:STANDARD
TZOFFSETFROM:-0500
TZOFFSETTO:-0600
TZNAME:CST
DTSTART:20231105T070000
END:STANDARD
BEGIN:DAYLIGHT
TZOFFSETFROM:-0600
TZOFFSETTO:-0500
TZNAME:CDT
DTSTART:20240310T080000
END:DAYLIGHT
BEGIN:STANDARD
TZOFFSETFROM:-0500
TZOFFSETTO:-0600
TZNAME:CST
DTSTART:20241103T070000
END:STANDARD
END:VTIMEZONE
BEGIN:VEVENT
DTSTART;TZID=America/Chicago:20231216T190000
DTEND;TZID=America/Chicago:20231216T233000
DTSTAMP:20260423T135608
CREATED:20240411T192111Z
LAST-MODIFIED:20240411T192111Z
UID:10001591-1702753200-1702769400@visitjacksontn.com
SUMMARY:LOLO's Christmas Show
DESCRIPTION:Due to high demand\, The 8th Annual LOLO Christmas Show and Gospel Brunch returns to Hub City Brewing and has added an additional evening performance! LOLO is bringing the holiday spirit to the Jackson community and raise money to benefit RIFA’s Snack Backpack ministry. LOLO is a Grammy-nominated singer\, songwriter and Broadway star who was born and raised in Jackson\, Tennessee. This event was created because of LOLO’s love for her hometown and her desire to help children in need. Doors open at 7 pm and the show will begin at 7:30 pm. Presale tickets are $20. Tickets are $25 the day of the show. This performance is general admission and open to ALL ages! Bring the whole family for some good ol’ decking of the halls and make sure you wear your favorite Ugly Christmas sweater! In addition to performances by LOLO and her band\, other featured performers include Hub City Mass Choir\, Emily McGill\, The Jukes\, Vonda Peete\, Hunter Cross\, Paula Bridges\, Katie McGill\, Will Burton\, and Cadence Weaver. Click learn more for tickets and more information.  
URL:https://visitjacksontn.com/event/lolos-christmas-show/
LOCATION:Hub City Brewing\, 250 West Main Street\, Jackson\, TN\, 38301\, United States
CATEGORIES:Arts & Culture,Music,Sports & Outdoor
ATTACH;FMTTYPE=image/jpeg:https://visitjacksontn.com/wp-content/uploads/382379212_694218812751499_3574900746988672971_n-e1696363071882-NLiLUL.tmp_.jpg
END:VEVENT
END:VCALENDAR