BEGIN:VCALENDAR
VERSION:2.0
PRODID:-//Jackson Tourism - ECPv6.15.20//NONSGML v1.0//EN
CALSCALE:GREGORIAN
METHOD:PUBLISH
X-ORIGINAL-URL:https://visitjacksontn.com
X-WR-CALDESC:Events for Jackson Tourism
REFRESH-INTERVAL;VALUE=DURATION:PT1H
X-Robots-Tag:noindex
X-PUBLISHED-TTL:PT1H
BEGIN:VTIMEZONE
TZID:America/Chicago
BEGIN:DAYLIGHT
TZOFFSETFROM:-0600
TZOFFSETTO:-0500
TZNAME:CDT
DTSTART:20220313T080000
END:DAYLIGHT
BEGIN:STANDARD
TZOFFSETFROM:-0500
TZOFFSETTO:-0600
TZNAME:CST
DTSTART:20221106T070000
END:STANDARD
BEGIN:DAYLIGHT
TZOFFSETFROM:-0600
TZOFFSETTO:-0500
TZNAME:CDT
DTSTART:20230312T080000
END:DAYLIGHT
BEGIN:STANDARD
TZOFFSETFROM:-0500
TZOFFSETTO:-0600
TZNAME:CST
DTSTART:20231105T070000
END:STANDARD
BEGIN:DAYLIGHT
TZOFFSETFROM:-0600
TZOFFSETTO:-0500
TZNAME:CDT
DTSTART:20240310T080000
END:DAYLIGHT
BEGIN:STANDARD
TZOFFSETFROM:-0500
TZOFFSETTO:-0600
TZNAME:CST
DTSTART:20241103T070000
END:STANDARD
END:VTIMEZONE
BEGIN:VEVENT
DTSTART;VALUE=DATE:20230731
DTEND;VALUE=DATE:20230801
DTSTAMP:20260423T211408
CREATED:20240411T192541Z
LAST-MODIFIED:20240411T192541Z
UID:10001770-1690761600-1690847999@visitjacksontn.com
SUMMARY:731Day
DESCRIPTION:#731Dayis a celebration of Jackson and all those who are proud to be a part of West Tennessee! Every July 31 (7/31) we choose to enjoy the beauty of our city and the people who make it better every day. Join us Saturday\, July 31\, for our sixth annual celebration of 731Day. Get out in your community this 731Day\, and don’t forget to tag your posts with#731day2023! Businesses across town will be offering discounts\, special events\, and more. Sign up to participate: https://www.ourjacksonhome.com/be-a-part-2023 Click learn more for more information.
URL:https://visitjacksontn.com/event/731day/
LOCATION:The Co\, 541 Wiley Parker Road\, Jackson\, TN\, 38305\, United States
CATEGORIES:Arts & Culture,Music,Sports & Outdoor
ATTACH;FMTTYPE=image/jpeg:https://visitjacksontn.com/wp-content/uploads/352817540_646153274219983_7266033082322797134_n-UYP7Af.tmp_.jpg
END:VEVENT
END:VCALENDAR