BEGIN:VCALENDAR
VERSION:2.0
PRODID:-//Jackson Tourism - ECPv6.15.20//NONSGML v1.0//EN
CALSCALE:GREGORIAN
METHOD:PUBLISH
X-ORIGINAL-URL:https://visitjacksontn.com
X-WR-CALDESC:Events for Jackson Tourism
REFRESH-INTERVAL;VALUE=DURATION:PT1H
X-Robots-Tag:noindex
X-PUBLISHED-TTL:PT1H
BEGIN:VTIMEZONE
TZID:America/Chicago
BEGIN:DAYLIGHT
TZOFFSETFROM:-0600
TZOFFSETTO:-0500
TZNAME:CDT
DTSTART:20220313T080000
END:DAYLIGHT
BEGIN:STANDARD
TZOFFSETFROM:-0500
TZOFFSETTO:-0600
TZNAME:CST
DTSTART:20221106T070000
END:STANDARD
BEGIN:DAYLIGHT
TZOFFSETFROM:-0600
TZOFFSETTO:-0500
TZNAME:CDT
DTSTART:20230312T080000
END:DAYLIGHT
BEGIN:STANDARD
TZOFFSETFROM:-0500
TZOFFSETTO:-0600
TZNAME:CST
DTSTART:20231105T070000
END:STANDARD
BEGIN:DAYLIGHT
TZOFFSETFROM:-0600
TZOFFSETTO:-0500
TZNAME:CDT
DTSTART:20240310T080000
END:DAYLIGHT
BEGIN:STANDARD
TZOFFSETFROM:-0500
TZOFFSETTO:-0600
TZNAME:CST
DTSTART:20241103T070000
END:STANDARD
END:VTIMEZONE
BEGIN:VEVENT
DTSTART;TZID=America/Chicago:20230422T100000
DTEND;TZID=America/Chicago:20230422T180000
DTSTAMP:20260424T190217
CREATED:20240411T192900Z
LAST-MODIFIED:20240411T192900Z
UID:10001901-1682157600-1682186400@visitjacksontn.com
SUMMARY:420 Hemp Festival
DESCRIPTION:The 2nd annual 420 Hemp Festival will be on Saturday\, April 22nd\, 2023 at 10:00am. Street festival in front of The Downtown Tavern on N. Liberty St and E. College St. Support local businesses of the Hemp/CBD industry\, learn about Legalization efforts\, and more. Live music\, Games\, Food Trucks\, Vendors. Contact: Kindall Thomas 731-343-1202 Visit their Facebook page at: https://www.facebook.com/JacksonTNHempFestival?mibextid=ZbWKwL Click Learn More for more information.
URL:https://visitjacksontn.com/event/420-hemp-festival/
LOCATION:The Downtown Tavern\, 208 North Liberty Street\, Jackson\, TN\, 38301\, United States
CATEGORIES:Music,Sports & Outdoor
ATTACH;FMTTYPE=image/jpeg:https://visitjacksontn.com/wp-content/uploads/420-hemp-festival-WRcvRO.tmp_.jpg
END:VEVENT
BEGIN:VEVENT
DTSTART;TZID=America/Chicago:20230422T193000
DTEND;TZID=America/Chicago:20230422T213000
DTSTAMP:20260424T190218
CREATED:20240411T193023Z
LAST-MODIFIED:20240411T193023Z
UID:10001978-1682191800-1682199000@visitjacksontn.com
SUMMARY:MARC BROUSSARD
DESCRIPTION:MARC BROUSSARD is an artist with a unique gift of channeling the spirits of classic R&B\, rock\, and soul into contemporary terms. His father\, Louisiana Hall of Fame guitarist Ted Broussard of ‘The Boogie Kings’ nurtured his musical gifts at an early age\, and the vibrant Lafayette\, Louisiana music scene gave Broussard the opportunity to practice his craft consistently from childhood through early adulthood. After releasing a successful independent EP at age 20\, Marc signed a record deal with Island Records and made his major-label debut with Carencro. The album featured the hit ‘Home.’ The song was highly successful on radio and catapulted him into the national spotlight. Broussard released multiple albums with major labels over the next 10 years but has recently returned to his independent roots having released several acclaimed original and charitable cover albums via his SOS Foundation (Save our Soul). Marc is bringing his talents to The Dixie Carter Performing Arts Center on Saturday\, April 22\, from 7:30 pm – 9:30 pm.
URL:https://visitjacksontn.com/event/marc-broussard/
LOCATION:Dixie Carter Performing Arts Center\, 191 Court Square\, Huntingdon\, TN\, 38344\, United States
CATEGORIES:Music,Sports & Outdoor
ATTACH;FMTTYPE=image/jpeg:https://visitjacksontn.com/wp-content/uploads/image-wVV6fd.tmp_.jpg
END:VEVENT
END:VCALENDAR