BEGIN:VCALENDAR
VERSION:2.0
PRODID:-//Jackson Tourism - ECPv6.15.20//NONSGML v1.0//EN
CALSCALE:GREGORIAN
METHOD:PUBLISH
X-WR-CALNAME:Jackson Tourism
X-ORIGINAL-URL:https://visitjacksontn.com
X-WR-CALDESC:Events for Jackson Tourism
REFRESH-INTERVAL;VALUE=DURATION:PT1H
X-Robots-Tag:noindex
X-PUBLISHED-TTL:PT1H
BEGIN:VTIMEZONE
TZID:America/Chicago
BEGIN:DAYLIGHT
TZOFFSETFROM:-0600
TZOFFSETTO:-0500
TZNAME:CDT
DTSTART:20220313T080000
END:DAYLIGHT
BEGIN:STANDARD
TZOFFSETFROM:-0500
TZOFFSETTO:-0600
TZNAME:CST
DTSTART:20221106T070000
END:STANDARD
BEGIN:DAYLIGHT
TZOFFSETFROM:-0600
TZOFFSETTO:-0500
TZNAME:CDT
DTSTART:20230312T080000
END:DAYLIGHT
BEGIN:STANDARD
TZOFFSETFROM:-0500
TZOFFSETTO:-0600
TZNAME:CST
DTSTART:20231105T070000
END:STANDARD
BEGIN:DAYLIGHT
TZOFFSETFROM:-0600
TZOFFSETTO:-0500
TZNAME:CDT
DTSTART:20240310T080000
END:DAYLIGHT
BEGIN:STANDARD
TZOFFSETFROM:-0500
TZOFFSETTO:-0600
TZNAME:CST
DTSTART:20241103T070000
END:STANDARD
END:VTIMEZONE
BEGIN:VEVENT
DTSTART;TZID=America/Chicago:20230331T190000
DTEND;TZID=America/Chicago:20230331T213000
DTSTAMP:20260425T122815
CREATED:20240411T193017Z
LAST-MODIFIED:20240411T193017Z
UID:10001974-1680289200-1680298200@visitjacksontn.com
SUMMARY:Big/Gun #1 AC/DC Tribute
DESCRIPTION:BIG GUN\, the #1 AC/DC Tributecomes to Williams Auditorium in Henderson\, TN Friday March 31\, 2023at 7:00pm. All seats reserved. Gold Circle Seat $55.00 | Premium Reserved Seat $45.00 | Value Reserved Seat $35.00 – For ADA accessible seating\, call 731-435-3150. Come hear a great night of classic rock! Click ‘Learn More’ for more info and tickets.
URL:https://visitjacksontn.com/event/big-gun-1-ac-dc-tribute/
LOCATION:Williams Auditorium\, 634 E. Main St.\, Henderson\, TN\, 38340\, United States
CATEGORIES:Music,Sports & Outdoor
ATTACH;FMTTYPE=image/png:https://visitjacksontn.com/wp-content/uploads/image-8-odefgC.tmp_.png
END:VEVENT
END:VCALENDAR