BEGIN:VCALENDAR
VERSION:2.0
PRODID:-//Jackson Tourism - ECPv6.15.20//NONSGML v1.0//EN
CALSCALE:GREGORIAN
METHOD:PUBLISH
X-WR-CALNAME:Jackson Tourism
X-ORIGINAL-URL:https://visitjacksontn.com
X-WR-CALDESC:Events for Jackson Tourism
REFRESH-INTERVAL;VALUE=DURATION:PT1H
X-Robots-Tag:noindex
X-PUBLISHED-TTL:PT1H
BEGIN:VTIMEZONE
TZID:America/Chicago
BEGIN:DAYLIGHT
TZOFFSETFROM:-0600
TZOFFSETTO:-0500
TZNAME:CDT
DTSTART:20230312T080000
END:DAYLIGHT
BEGIN:STANDARD
TZOFFSETFROM:-0500
TZOFFSETTO:-0600
TZNAME:CST
DTSTART:20231105T070000
END:STANDARD
BEGIN:DAYLIGHT
TZOFFSETFROM:-0600
TZOFFSETTO:-0500
TZNAME:CDT
DTSTART:20240310T080000
END:DAYLIGHT
BEGIN:STANDARD
TZOFFSETFROM:-0500
TZOFFSETTO:-0600
TZNAME:CST
DTSTART:20241103T070000
END:STANDARD
BEGIN:DAYLIGHT
TZOFFSETFROM:-0600
TZOFFSETTO:-0500
TZNAME:CDT
DTSTART:20250309T080000
END:DAYLIGHT
BEGIN:STANDARD
TZOFFSETFROM:-0500
TZOFFSETTO:-0600
TZNAME:CST
DTSTART:20251102T070000
END:STANDARD
END:VTIMEZONE
BEGIN:VEVENT
DTSTART;TZID=America/Chicago:20240906T190000
DTEND;TZID=America/Chicago:20240906T220000
DTSTAMP:20260422T195711
CREATED:20240528T170202Z
LAST-MODIFIED:20240528T170202Z
UID:10002258-1725649200-1725660000@visitjacksontn.com
SUMMARY:Rhonda Vincent and The Rage
DESCRIPTION:The Queen of Bluegrass is coming to Henderson\, TN … Rhonda Vincent and The Rage! \nClick here for tickets and more event information. \n__ \nRhonda Vincent and The Rage are the most decorated band in bluegrass\, with over 100 awards to their credit. Among their honors are a Grammy for Best Bluegrass Album; Song of the Year\, Entertainer of the Year\, and an unrivaled seven consecutive (plus an 8th) Female Vocalist of the Year awards from the International Bluegrass Music Association (IBMA). 8 career Grammy nominations! \nInducted as a Member of the Grand Ole Opry\, Rhonda and her brother Darrin (of Dailey & Vincent)\, are the first brother & sister to hold separate Opry memberships. \nGuest appearances include harmony vocals with Cody Johnson on the song “Treasure”; and with Dolly Parton on the song “Firecracker.”
URL:https://visitjacksontn.com/event/rhonda-vincent-and-the-rage/
LOCATION:Williams Auditorium\, 634 E. Main St.\, Henderson\, TN\, 38340\, United States
CATEGORIES:Events,Music
ATTACH;FMTTYPE=image/jpeg:https://visitjacksontn.com/wp-content/uploads/445046941_1007860621219987_1421131013787388118_n.jpg
END:VEVENT
BEGIN:VEVENT
DTSTART;TZID=America/Chicago:20240906T193000
DTEND;TZID=America/Chicago:20240906T220000
DTSTAMP:20260422T195711
CREATED:20240410T201228Z
LAST-MODIFIED:20240410T201228Z
UID:10000695-1725651000-1725660000@visitjacksontn.com
SUMMARY:AMP Concert Series: Smooth Jazz Progressions
DESCRIPTION:Do you hear it? Only the music of Jackson and West Tennessee could connect Memphis’ Beale Street and Nashville’s Music Row. Join us as we celebrate the rich musical legacy of our region with the 2024 season of Jackson’s Award Winning music venue Jackson‘s Amphitheater at the Market (AMP).Located in the heart of Jackson behind the West Tennessee Farmers’ Market and within walking distance of the Jackson Walk\, the AMP kicks off the 2024 Season on April 26\, 2024. Ten Free performances are planned for the ninth season and the dates are listed below. \nSeptember 20: LoLo \nSponsorship is key to maintaining the season. Special thanks to the following Sponsors who have committed to the 2024 series:\nThe Allison Insurance Group\, Inc.\nThe Bank of Jackson Travel Club\nBud Light / Central Distributors\nCity of Jackson\nCommunity Foundation of West Tennessee\nDeWaynes Quality Metal Coatings\nFirst Horizon Bank\nHealthy Community\, LLC.\nJackson Energy Authority\nGreater Jackson Chamber\nMadison County\nMemphis Travel\nMidtown Property Solutions\nMurray Guard Foundation\nPersonnel Placements\, LLC.\nSimmons Bank\nThompson Smith Insurance\nTim Ferguson\, Plumbing\, Air & Electric\nVisit Jackson\, TN\nVOYA Financial\nWindow World \nAdditional recognition is also extended to media sponsors and WBBJ-TV. Their continued coverage of the AMP has helped to grow the awareness and attendance and is deeply appreciated. \nMusic on the main stage will begin at 7:30 pm. Blankets and lawn chairs are welcome at this family friendly event! Free parking is available throughout Downtown. The open-air venue encourages guests to bring their picnic basket or visit one of the food concessions. In the event of rain\, please refer to the AMP’s facebook page for updates. \nJackson’s Amphitheater at the Market is a collaborative project between the City of Jackson/West Tennessee Farmers Market\, Visit Jackson Tennessee and numerous community volunteers. To connect with what’s happening at the AMP\, visit them on Facebook at https://www.facebook.com/JacksonAMPattheMarket/
URL:https://visitjacksontn.com/event/amp-concert-series-smooth-jazz-progressions/
LOCATION:Jackson’s Amp at The Market\, 91 New Market Street\, Jackson\, TN\, 38301\, United States
CATEGORIES:Music
ATTACH;FMTTYPE=image/jpeg:https://visitjacksontn.com/wp-content/uploads/435083716_1020720499708292_7106908119805518280_n.jpg
END:VEVENT
BEGIN:VEVENT
DTSTART;TZID=America/Chicago:20240907T190000
DTEND;TZID=America/Chicago:20240907T210000
DTSTAMP:20260422T195711
CREATED:20240520T174018Z
LAST-MODIFIED:20240815T160026Z
UID:10002228-1725735600-1725742800@visitjacksontn.com
SUMMARY:The Jackson Symphony presents Appalachian Spring
DESCRIPTION:The Jackson Symphony presents its 64th season. \nJoin the Symphony on September 7 at 7 pm at the Ned for the “Appalachian Spring” concert. \nAn Appalachian adventure with selections from Darius Milhaud and Samuel Barber\, alongside a premiere performance of “Northern Lights\,” inspired by the spring 2024 display of the aurora borealis and written by regional composer\, Dawson Hull. Topping off the evening will be the delightful full stage performance of Aaron Copland’s “Appalachian Spring” by special guest Ballet Arts\, Inc. of Jackson. \nTo purchase tickets\, click here. \n 
URL:https://visitjacksontn.com/event/appalachian-spring/
LOCATION:The NED\, 314 East Main Street\, Jackson\, TN\, 38301\, United States
CATEGORIES:Arts & Culture,Events,Music
ATTACH;FMTTYPE=image/jpeg:https://visitjacksontn.com/wp-content/uploads/455123514_1399173024363586_2022571881474552987_n.jpg
END:VEVENT
BEGIN:VEVENT
DTSTART;TZID=America/Chicago:20240907T190000
DTEND;TZID=America/Chicago:20240907T220000
DTSTAMP:20260422T195711
CREATED:20240613T152652Z
LAST-MODIFIED:20240613T152652Z
UID:10002309-1725735600-1725746400@visitjacksontn.com
SUMMARY:Voices in the Vineyard - Blue Eyed Sun
DESCRIPTION:Join us at Century Farm Winery for a fantastic evening of music and fun! Our Voices in the Vineyard Free Concert Series continues with the amazing band\, Blue Eyed Sun\, on September 7\, 2024\, at 7 PM! \nHailing from West Tennessee\, Blue Eyed Sun will be rocking the vineyard with their unique blend of Americana\, traditional country\, and rock deep cuts. It’s a night you won’t want to miss! \nWe’ve got your taste buds covered too! The Beach Bum Snack Shack and Tete’s Food Wagon will be on-site serving up delicious eats all night long. \nGrab your friends\, bring a blanket\, and come enjoy an unforgettable evening under the stars with great music\, tasty food\, and of course\, our finest wines! \nClick here for more event information.
URL:https://visitjacksontn.com/event/voices-in-the-vineyard-blue-eyed-sun/
LOCATION:Century Farm Winery\, 1548 Lower Brownsville Rd.\, Jackson\, TN\, 38301\, United States
CATEGORIES:Events,Music
ATTACH;FMTTYPE=image/jpeg:https://visitjacksontn.com/wp-content/uploads/446983499_972012018262773_600462644624154707_n.jpg
END:VEVENT
BEGIN:VEVENT
DTSTART;TZID=America/Chicago:20240920T193000
DTEND;TZID=America/Chicago:20240920T220000
DTSTAMP:20260422T195711
CREATED:20240410T201304Z
LAST-MODIFIED:20240410T201304Z
UID:10000696-1726860600-1726869600@visitjacksontn.com
SUMMARY:AMP Concert Series: Lolo
DESCRIPTION:Do you hear it? Only the music of Jackson and West Tennessee could connect Memphis’ Beale Street and Nashville’s Music Row. Join us as we celebrate the rich musical legacy of our region with the 2024 season of Jackson’s Award Winning music venue Jackson‘s Amphitheater at the Market (AMP).Located in the heart of Jackson behind the West Tennessee Farmers’ Market and within walking distance of the Jackson Walk\, the AMP kicks off the 2024 Season on April 26\, 2024. Ten Free performances are planned for the ninth season. \nSponsorship is key to maintaining the season. Special thanks to the following Sponsors who have committed to the 2024 series:\nThe Allison Insurance Group\, Inc.\nThe Bank of Jackson Travel Club\nBud Light / Central Distributors\nCity of Jackson\nCommunity Foundation of West Tennessee\nDeWaynes Quality Metal Coatings\nFirst Horizon Bank\nHealthy Community\, LLC.\nJackson Energy Authority\nGreater Jackson Chamber\nMadison County\nMemphis Travel\nMidtown Property Solutions\nMurray Guard Foundation\nPersonnel Placements\, LLC.\nSimmons Bank\nThompson Smith Insurance\nTim Ferguson\, Plumbing\, Air & Electric\nVisit Jackson\, TN\nVOYA Financial\nWindow World \nAdditional recognition is also extended to media sponsors and WBBJ-TV. Their continued coverage of the AMP has helped to grow the awareness and attendance and is deeply appreciated. \nMusic on the main stage will begin at 7:30 pm. Blankets and lawn chairs are welcome at this family friendly event! Free parking is available throughout Downtown. The open-air venue encourages guests to bring their picnic basket or visit one of the food concessions. In the event of rain\, please refer to the AMP’s facebook page for updates. \nJackson’s Amphitheater at the Market is a collaborative project between the City of Jackson/West Tennessee Farmers Market\, Visit Jackson Tennessee and numerous community volunteers. To connect with what’s happening at the AMP\, visit them on Facebook at https://www.facebook.com/JacksonAMPattheMarket/
URL:https://visitjacksontn.com/event/amp-concert-series-lolo/
LOCATION:Jackson’s Amp at The Market\, 91 New Market Street\, Jackson\, TN\, 38301\, United States
CATEGORIES:Music
ATTACH;FMTTYPE=image/jpeg:https://visitjacksontn.com/wp-content/uploads/435083716_1020720499708292_7106908119805518280_n.jpg
END:VEVENT
BEGIN:VEVENT
DTSTART;TZID=America/Chicago:20240921T190000
DTEND;TZID=America/Chicago:20240921T210000
DTSTAMP:20260422T195711
CREATED:20240805T134512Z
LAST-MODIFIED:20240805T134820Z
UID:10002449-1726945200-1726952400@visitjacksontn.com
SUMMARY:A Tribute to Legends Sarah Vaughn and John Coltrane
DESCRIPTION:The Jazz Foundation of West Tennessee presents a tribute to legends Sarah Vaughn and John Coltrane on September 21st\, 7 pm\, at the Ned R. McWherter Cultural Arts Center in Downtown Jackson\, Tennessee. The concert features vocalist Jamille “Jam” Hunter and saxophonist Don Aliquo. Hunter will perform from her CD “Sassy Returns\,” a tribute to Sarah Vaughn\, and Aliquo will play John Coltrane 1961\, a year that was instrumental in the development of the now-icon jazz musician. \nJAMILLE “JAM” HUNTER is a Michigan-born\, Memphis-based jazz and soul singer-songwriter who is making her mark on the music scene with her mesmerizing vocals and contemporary approach to classic and modern jazz. With years of gigging in the R&B and soul arena under her belt and previous classical training\, Jam began to train intensively as a jazz vocalist in Los Angeles at the world Stage of Leimert Part. Practicing technique under the guidance of drummer Billy Higgins\, bassists Al McKibbon and Kevin O’Neal and pianist Dini Clark\, she fell in love with jazz and never looked back. Seeking an international experience\, she left Los Angeles and hit the state in Nagoya\, Japan\, where she honed her craft as the lead vocalist at the Stardust Jazz Lounge. Recently\, Jam released her live recorded CD titled “Sassy Returns: The SV Project.” This tribute to the late\, great Sarah Vaughn was a credit to Jam’s greatest inspiration. Jam\, along with her band\, Mood Swing\, has performed at the River Arts Fest\, The On Location International Film and Music Festival\, The black Arts Fest\, the Memphis International Jazz Festival and the Soulsville Music Fest\, in addition to numerous clubs and venues. \nDON ALIQUO was born in Pittsburgh on May 10th\, 1960. His father\, a proud Italian\, hooked his son on jazz at an early age\, including John Coltrane’s Giant Steps (“Coltrane was my main inspiration”) and Sonny Rollins classics\, including “Strode Rode” and “Pent-Up House.” He has muis degrees from Duquesne University as well as the Berkelee College of Music and has performed with such greats as Greg Osby\, Marvin Stamm\, Roger Humphries\, Eddie Harris\, George Benson\, Stanley Turrentine and others. Aliquo has recorded six CDs\, has taught in China\, Columbia\, and Spain\, and is currently on the faculty at Middle Tennessee State University as a professor of music. \nFor tickets or more event information\, click here.
URL:https://visitjacksontn.com/event/a-tribute-to-legends-sarah-vaughn-and-john-coltrane/
LOCATION:The NED\, 314 East Main Street\, Jackson\, TN\, 38301\, United States
CATEGORIES:Arts & Culture,Events,Music
ATTACH;FMTTYPE=image/jpeg:https://visitjacksontn.com/wp-content/uploads/454412157_1048557006917398_5994089540149397566_n.jpg
END:VEVENT
BEGIN:VEVENT
DTSTART;TZID=America/Chicago:20240921T190000
DTEND;TZID=America/Chicago:20240921T220000
DTSTAMP:20260422T195711
CREATED:20240530T162452Z
LAST-MODIFIED:20240530T162452Z
UID:10002269-1726945200-1726956000@visitjacksontn.com
SUMMARY:Voices in the Vineyard - Dirt Pilgrims
DESCRIPTION:We’re thrilled to announce our Voices in the Vineyard free concert featuring the incredible Dirt Pilgrims on September 21st at 7 PM! \nCome enjoy an unforgettable evening of live music\, delicious wine\, and mouthwatering bites from TeTes Food Wagon and 901 Eats and Treats. Whether you’re a long-time fan or new to the winery\, this is an event you won’t want to miss! \nBring your friends\, family\, and a love for great tunes. See you there! \nClick here for more event information.
URL:https://visitjacksontn.com/event/voices-in-the-vineyard-dirt-pilgrims/
LOCATION:Century Farm Winery\, 1548 Lower Brownsville Rd.\, Jackson\, TN\, 38301\, United States
CATEGORIES:Events,Music
ATTACH;FMTTYPE=image/jpeg:https://visitjacksontn.com/wp-content/uploads/445575454_972065888257386_5282661076680285936_n.jpg
END:VEVENT
BEGIN:VEVENT
DTSTART;TZID=America/Chicago:20240921T193000
DTEND;TZID=America/Chicago:20240921T220000
DTSTAMP:20260422T195711
CREATED:20240530T162746Z
LAST-MODIFIED:20240530T162746Z
UID:10002270-1726947000-1726956000@visitjacksontn.com
SUMMARY:Shenandoah
DESCRIPTION:SHENANDOAH\nSaturday\, September 21\, 2024\nWilliams Auditorium\nHenderson\, TN \nClick here for tickets and more information. \n— \nWhen country music lovers talk about the greatest groups in the genre\, Shenandoah is always at the forefront of any discussion. Fueled by Marty Raybon’s distinctive vocals and the band’s skilled musicianship\, Shenandoah became well known for delivering such hits as “Two Dozen Roses”\, “Church on Cumberland Road” and “Next to You\, Next to Me” as well as such achingly beautiful classics as “I Want to be Loved Like That” and the Grammy winning “Somewhere in the Vicinity of the Heart” duet with Alison Krauss. \nThe boys from Muscle Shoals have left a potent legacy in country music with more than 300 million streams\, over 8 million combined album sales\, and 13 No. 1 radio singles over the course of more than three decades.
URL:https://visitjacksontn.com/event/shenandoah/
LOCATION:Williams Auditorium\, 634 E. Main St.\, Henderson\, TN\, 38340\, United States
CATEGORIES:Events,Music
ATTACH;FMTTYPE=image/jpeg:https://visitjacksontn.com/wp-content/uploads/447021763_1008804004458982_1010598816616764439_n.jpg
END:VEVENT
BEGIN:VEVENT
DTSTART;TZID=America/Chicago:20240922T180000
DTEND;TZID=America/Chicago:20240922T200000
DTSTAMP:20260422T195711
CREATED:20240826T144045Z
LAST-MODIFIED:20240826T144045Z
UID:10002509-1727028000-1727035200@visitjacksontn.com
SUMMARY:A Night of Harmony
DESCRIPTION:Join us for “Night of Harmony\,” a family-friendly evening filled with uplifting praise songs and timeless hymns performed by talented local music artists. Bring the whole family to experience an atmosphere of joy\, community\, and heartfelt worship. It’s a perfect night to come together\, sing along\, and create cherished memories in a welcoming environment. Don’t miss this special opportunity to connect with others and celebrate through the power of music! \nClick here for more information.
URL:https://visitjacksontn.com/event/a-night-of-harmony/
LOCATION:First Methodist – Downtown Jackson\, TN\, 200 S. Church St\, Jackson\, TN\, 38301\, United States
CATEGORIES:Events,Music
ATTACH;FMTTYPE=image/jpeg:https://visitjacksontn.com/wp-content/uploads/456437680_920889256740488_8266578276165534118_n.jpg
END:VEVENT
BEGIN:VEVENT
DTSTART;VALUE=DATE:20240927
DTEND;VALUE=DATE:20240930
DTSTAMP:20260422T195711
CREATED:20240920T205751Z
LAST-MODIFIED:20240920T205846Z
UID:10002600-1727395200-1727654399@visitjacksontn.com
SUMMARY:Tina Turner Celebration
DESCRIPTION:Brownsville and Haywood County will host Tina Turner Hertiage Days on September 27-29\, celebrating the 10th anniversary of the Flagg Grove School opening. Fans can explore Tina’s hometown of Nutbush\, visit the Tina Turner Musem\, and enjoy special events like a fan gathering\, a tribute concert\, and a zoom session with her former artist\, Joel Campbell. The weekend also includes exclusive tour footage and a chance to worship at Tina’s home church on Sunday. \n  \nFriday\, September 27 \n10PM | Nutbush Tour – includes Nutbush\, Ripley and the Alex Haley Museum in Henning. Reservations are required. \n5:30PM | Fan gathering\, special presentations and Tinaoke (Tina karaoke) \n  \nSaturday\, September 28 \n9AM & 1PM | Nutbush Tour. Tour Tina’s childhood communities (Nutbush\, former home sites\, church\, etc.) Limited Seating. Reservations required.  \n2PM | Zoom with Joel Campbell\, pianist during three Tina tours\, including her 50th Anniversary Tour. Q&A to follow. \n5PM | “Break Every Rule” video premier\, with never-before-seen footage\, produced by Deric Dyer\, saxophonist during the BER tour\, and introduced by Dr. Ralph Craig\, author of “Dancing in my Dream.” \n7:30PM | Elevation Memphis: A Tina Turner Tribute Experience Concert. Outdoor event; bring your lawn chairs. \n  \nSunday\, September 29 \n8AM |  Woodlawn Missionary Baptist Church service (Tina’s former place of worship). Fans may gather at the WTDHC and carpool. \n  \n  \nConcessions will be onsite throughout the event. For more information about Tina Turner Heritage Days\, visit www.TinaTurnerHeritageDays.com or call the Delta Heritage Center at 731-779-9000. \n  \n*Tickets for tours can be purchased online. All other activities are free\, including the concert.*
URL:https://visitjacksontn.com/event/tina-turner-celebration/
LOCATION:Tina Turner Museum\, 121 Sunny Hill Cv\, Brownsville\, TN\, 38012\, United States
CATEGORIES:Arts & Culture,Events,Music
ATTACH;FMTTYPE=image/jpeg:https://visitjacksontn.com/wp-content/uploads/Tina-Tuner-photo-e1727106606523.jpg
END:VEVENT
BEGIN:VEVENT
DTSTART;TZID=America/Chicago:20240928T190000
DTEND;TZID=America/Chicago:20240928T210000
DTSTAMP:20260422T195711
CREATED:20240520T174848Z
LAST-MODIFIED:20240814T174435Z
UID:10002229-1727550000-1727557200@visitjacksontn.com
SUMMARY:44th Annual Starlight Symphony
DESCRIPTION:The Jackson Symphony presents its 64th season. \nJoin the Symphony on Saturday\, September 28 at 7 pm at First Presbyterian Church for the 44th Annual Starlight Symphony concert. Celebrate Maestro Peter Shannon’s 10 Years as Conductor of The Jackson Symphony – hear both his and the community’s Pops favorites from the last decade\, as well as a season sneak peek! \nTo purchase season tickets\, click here. \n 
URL:https://visitjacksontn.com/event/44th-annual-starlight-symphony/
LOCATION:First Presbyterian Church\, 1573 North Highland Ave.\, Jackson\, TN\, 38301\, United States
CATEGORIES:Arts & Culture,Events,Music
ATTACH;FMTTYPE=image/jpeg:https://visitjacksontn.com/wp-content/uploads/455313977_1399175394363349_1524832934209780711_n.jpg
END:VEVENT
END:VCALENDAR