BEGIN:VCALENDAR
VERSION:2.0
PRODID:-//Jackson Tourism - ECPv6.15.20//NONSGML v1.0//EN
CALSCALE:GREGORIAN
METHOD:PUBLISH
X-ORIGINAL-URL:https://visitjacksontn.com
X-WR-CALDESC:Events for Jackson Tourism
REFRESH-INTERVAL;VALUE=DURATION:PT1H
X-Robots-Tag:noindex
X-PUBLISHED-TTL:PT1H
BEGIN:VTIMEZONE
TZID:America/Chicago
BEGIN:DAYLIGHT
TZOFFSETFROM:-0600
TZOFFSETTO:-0500
TZNAME:CDT
DTSTART:20230312T080000
END:DAYLIGHT
BEGIN:STANDARD
TZOFFSETFROM:-0500
TZOFFSETTO:-0600
TZNAME:CST
DTSTART:20231105T070000
END:STANDARD
BEGIN:DAYLIGHT
TZOFFSETFROM:-0600
TZOFFSETTO:-0500
TZNAME:CDT
DTSTART:20240310T080000
END:DAYLIGHT
BEGIN:STANDARD
TZOFFSETFROM:-0500
TZOFFSETTO:-0600
TZNAME:CST
DTSTART:20241103T070000
END:STANDARD
BEGIN:DAYLIGHT
TZOFFSETFROM:-0600
TZOFFSETTO:-0500
TZNAME:CDT
DTSTART:20250309T080000
END:DAYLIGHT
BEGIN:STANDARD
TZOFFSETFROM:-0500
TZOFFSETTO:-0600
TZNAME:CST
DTSTART:20251102T070000
END:STANDARD
END:VTIMEZONE
BEGIN:VEVENT
DTSTART;TZID=America/Chicago:20240113T190000
DTEND;TZID=America/Chicago:20240113T220000
DTSTAMP:20260423T123256
CREATED:20240411T190102Z
LAST-MODIFIED:20240411T190102Z
UID:10001411-1705172400-1705183200@visitjacksontn.com
SUMMARY:Live Music at Crown Winery
DESCRIPTION:Join Crown Winery for live music every Saturday and Sunday in January from 1 pm-4 pm! See calendar below for more events and hours of operation at Crown Winery. Click learn more for more details.
URL:https://visitjacksontn.com/event/live-music-at-crown-winery-5/
LOCATION:Crown Winery\, 3638 E. Mitchell St.\, Humboldt\, TN\, 38343\, United States
CATEGORIES:Arts & Culture,Music,Sports & Outdoor
ATTACH;FMTTYPE=image/jpeg:https://visitjacksontn.com/wp-content/uploads/crown-winery-aBuu5t.tmp_.jpg
END:VEVENT
BEGIN:VEVENT
DTSTART;TZID=America/Chicago:20240114T170000
DTEND;TZID=America/Chicago:20240114T200000
DTSTAMP:20260423T123256
CREATED:20240411T190102Z
LAST-MODIFIED:20240411T190102Z
UID:10001410-1705251600-1705262400@visitjacksontn.com
SUMMARY:Brunch & Live Music at Crown Winery
DESCRIPTION:Join Crown Winery for brunch and live music Sunday\, January 14 from 11 am-2 pm! Reservations are required to attend the brunch. See calendar below for more events and hours of operation at Crown Winery. Click learn more for more details.
URL:https://visitjacksontn.com/event/brunch-live-music-at-crown-winery/
LOCATION:Crown Winery\, 3638 E. Mitchell St.\, Humboldt\, TN\, 38343\, United States
CATEGORIES:Arts & Culture,Music,Sports & Outdoor
ATTACH;FMTTYPE=image/jpeg:https://visitjacksontn.com/wp-content/uploads/crown-winery-aBuu5t.tmp_.jpg
END:VEVENT
BEGIN:VEVENT
DTSTART;TZID=America/Chicago:20240120T190000
DTEND;TZID=America/Chicago:20240120T220000
DTSTAMP:20260423T123256
CREATED:20240411T190101Z
LAST-MODIFIED:20240411T190101Z
UID:10001409-1705777200-1705788000@visitjacksontn.com
SUMMARY:Live Music at Crown Winery
DESCRIPTION:Join Crown Winery for live music every Saturday and Sunday in January from 1 pm-4 pm! See calendar below for more events and hours of operation at Crown Winery. Click learn more for more details.
URL:https://visitjacksontn.com/event/live-music-at-crown-winery-4/
LOCATION:Crown Winery\, 3638 E. Mitchell St.\, Humboldt\, TN\, 38343\, United States
CATEGORIES:Arts & Culture,Music,Sports & Outdoor
ATTACH;FMTTYPE=image/jpeg:https://visitjacksontn.com/wp-content/uploads/crown-winery-aBuu5t.tmp_.jpg
END:VEVENT
BEGIN:VEVENT
DTSTART;TZID=America/Chicago:20240121T010000
DTEND;TZID=America/Chicago:20240121T055000
DTSTAMP:20260423T123256
CREATED:20240411T190915Z
LAST-MODIFIED:20240411T190915Z
UID:10001472-1705798800-1705816200@visitjacksontn.com
SUMMARY:The Sound of Freedom: A Jazz Tribute to the Life & Legacy of Dr. Martin Luther King\, Jr.
DESCRIPTION:The Jazz Foundation of West Tennessee and Leaders Credit Union present ‘The Sound of Freedom: A Jazz Tribute to the Life and Legacy of Dr. Martin Luther King\, Jr.’ Guest Performances by the Alex Upton Quartet and the Rod McGaha Quintet. In 2022\, Alex Upton was selected as the winner of the North American Saxophone Alliance’s Jazz Saxophone Competition\, a prestigious biennial competition featuring the best undergraduate\, graduate\, and doctoral saxophonists across the country. He is a doctoral candidate at the University of Memphis Rudi E. Scheidt School of Music. Rod McGaha’s incredible jazz trumpet playing has taken him through many cities in the U.S. and around the world. He has performed with such artists as Lou Rawls\, the O’Jays\, Bebe and Cece Winans\, Take Six\, Kirk Whalum\, Max and his Brass Quintet. His latest recording\, Black Flower Project\, is one of six recordings. A visual artist as well\, McGaha has exhibitions at both the Frist Museum and the Fisk University Carl Van Vechten Galleries in Nashville. This event will be held at The Ned on January 20\, beginning at 7:00 pm. For tickets\, click here. For more information\, click learn more.
URL:https://visitjacksontn.com/event/the-sound-of-freedom-a-jazz-tribute-to-the-life-legacy-of-dr-martin-luther-king-jr/
LOCATION:The NED\, 314 East Main Street\, Jackson\, TN\, 38301\, United States
CATEGORIES:Music,Sports & Outdoor
ATTACH;FMTTYPE=image/jpeg:https://visitjacksontn.com/wp-content/uploads/414678219_919049733201460_1129391001215948283_n-1-JJbHVa.tmp_.jpg
END:VEVENT
BEGIN:VEVENT
DTSTART;TZID=America/Chicago:20240121T190000
DTEND;TZID=America/Chicago:20240121T220000
DTSTAMP:20260423T123256
CREATED:20240411T190029Z
LAST-MODIFIED:20240411T190029Z
UID:10001408-1705863600-1705874400@visitjacksontn.com
SUMMARY:Live Music at Crown Winery
DESCRIPTION:Join Crown Winery for live music every Saturday and Sunday in January from 1 pm-4 pm! See calendar below for more events and hours of operation at Crown Winery. Click learn more for more details.
URL:https://visitjacksontn.com/event/live-music-at-crown-winery-3/
LOCATION:Crown Winery\, 3638 E. Mitchell St.\, Humboldt\, TN\, 38343\, United States
CATEGORIES:Arts & Culture,Music,Sports & Outdoor
ATTACH;FMTTYPE=image/jpeg:https://visitjacksontn.com/wp-content/uploads/crown-winery-aBuu5t.tmp_.jpg
END:VEVENT
BEGIN:VEVENT
DTSTART;VALUE=DATE:20240127
DTEND;VALUE=DATE:20240128
DTSTAMP:20260423T123256
CREATED:20240411T192100Z
LAST-MODIFIED:20240411T192100Z
UID:10001579-1706313600-1706399999@visitjacksontn.com
SUMMARY:TN Songwriters Preliminary Round
DESCRIPTION:Details to follow.
URL:https://visitjacksontn.com/event/tn-songwriters-preliminary-round/
CATEGORIES:Music,Sports & Outdoor
ATTACH;FMTTYPE=image/jpeg:https://visitjacksontn.com/wp-content/uploads/Screenshot-2023-10-10-112940-IF5nyj.tmp_.jpg
END:VEVENT
BEGIN:VEVENT
DTSTART;TZID=America/Chicago:20240127T190000
DTEND;TZID=America/Chicago:20240127T220000
DTSTAMP:20260423T123256
CREATED:20240411T190029Z
LAST-MODIFIED:20240411T190029Z
UID:10001407-1706382000-1706392800@visitjacksontn.com
SUMMARY:Live Music at Crown Winery
DESCRIPTION:Join Crown Winery for live music every Saturday and Sunday in January from 1 pm-4 pm! See calendar below for more events and hours of operation at Crown Winery. Click learn more for more details.
URL:https://visitjacksontn.com/event/live-music-at-crown-winery-2/
LOCATION:Crown Winery\, 3638 E. Mitchell St.\, Humboldt\, TN\, 38343\, United States
CATEGORIES:Arts & Culture,Music,Sports & Outdoor
ATTACH;FMTTYPE=image/jpeg:https://visitjacksontn.com/wp-content/uploads/crown-winery-aBuu5t.tmp_.jpg
END:VEVENT
BEGIN:VEVENT
DTSTART;TZID=America/Chicago:20240128T000000
DTEND;TZID=America/Chicago:20240128T055000
DTSTAMP:20260423T123256
CREATED:20240411T190221Z
LAST-MODIFIED:20240411T190221Z
UID:10001415-1706400000-1706421000@visitjacksontn.com
SUMMARY:22nd Annual Crystal Ball
DESCRIPTION:Come out on Saturday\, January 27 at 6:00 p.m. to help celebrate the Jackson Symphony’s 63rd year of art and entertainment! The Crystal Ball is presented by Roberts Jewelers and benefits the Jackson Symphony League. This is a great event with dinner\, dancing\, a live and silent auction\, and most importantly\, supporting the Symphony! Individual tickets: $125 Table of 8: $1000 Sponsorship Tables Available. For more information\, click learn more.
URL:https://visitjacksontn.com/event/22nd-annual-crystal-ball/
LOCATION:Carl Perkins Civic Center\, 400 South Highland Avenue\, Jackson\, TN\, 38301\, United States
CATEGORIES:Arts & Culture,Music,Sports & Outdoor
ATTACH;FMTTYPE=image/jpeg:https://visitjacksontn.com/wp-content/uploads/417936129_689963933244999_2859658132924395313_n-SJK5hi.tmp_.jpg
END:VEVENT
BEGIN:VEVENT
DTSTART;VALUE=DATE:20240128
DTEND;VALUE=DATE:20240211
DTSTAMP:20260423T123256
CREATED:20240411T192523Z
LAST-MODIFIED:20240411T192523Z
UID:10001754-1706400000-1707609599@visitjacksontn.com
SUMMARY:Tennessee Songwriters Week
DESCRIPTION:Tennessee Songwriters Week supports music venues\, supports songwriters with live performances in all genres of music\, drives visitation\, and inspires travelers to experience the state’s music stories\, history\, attractions\, and venues. Songwriters participate in qualifying rounds across the state with a chance to advance to the showcase events during Tennessee Songwriters Week. Jackson hosts a qualifying round for Tennessee Songwriters Week\, providing exposure for Jackson and West Tennessee songwriters and giving them the opportunity to possibly advance to the next round. Stay tuned for more details to come for the 2024 event. For more information\, click learn more.
URL:https://visitjacksontn.com/event/tennessee-songwriters-week/
CATEGORIES:Arts & Culture,Music,Sports & Outdoor
END:VEVENT
BEGIN:VEVENT
DTSTART;TZID=America/Chicago:20240128T190000
DTEND;TZID=America/Chicago:20240128T220000
DTSTAMP:20260423T123256
CREATED:20240411T190029Z
LAST-MODIFIED:20240411T190029Z
UID:10001406-1706468400-1706479200@visitjacksontn.com
SUMMARY:Live Music at Crown Winery
DESCRIPTION:Join Crown Winery for live music every Saturday and Sunday in January from 1 pm-4 pm! See calendar below for more events and hours of operation at Crown Winery. Click learn more for more details.
URL:https://visitjacksontn.com/event/live-music-at-crown-winery/
LOCATION:Crown Winery\, 3638 E. Mitchell St.\, Humboldt\, TN\, 38343\, United States
CATEGORIES:Arts & Culture,Music,Sports & Outdoor
ATTACH;FMTTYPE=image/jpeg:https://visitjacksontn.com/wp-content/uploads/crown-winery-aBuu5t.tmp_.jpg
END:VEVENT
END:VCALENDAR