BEGIN:VCALENDAR
VERSION:2.0
PRODID:-//Jackson Tourism - ECPv6.15.20//NONSGML v1.0//EN
CALSCALE:GREGORIAN
METHOD:PUBLISH
X-ORIGINAL-URL:https://visitjacksontn.com
X-WR-CALDESC:Events for Jackson Tourism
REFRESH-INTERVAL;VALUE=DURATION:PT1H
X-Robots-Tag:noindex
X-PUBLISHED-TTL:PT1H
BEGIN:VTIMEZONE
TZID:America/Chicago
BEGIN:DAYLIGHT
TZOFFSETFROM:-0600
TZOFFSETTO:-0500
TZNAME:CDT
DTSTART:20220313T080000
END:DAYLIGHT
BEGIN:STANDARD
TZOFFSETFROM:-0500
TZOFFSETTO:-0600
TZNAME:CST
DTSTART:20221106T070000
END:STANDARD
BEGIN:DAYLIGHT
TZOFFSETFROM:-0600
TZOFFSETTO:-0500
TZNAME:CDT
DTSTART:20230312T080000
END:DAYLIGHT
BEGIN:STANDARD
TZOFFSETFROM:-0500
TZOFFSETTO:-0600
TZNAME:CST
DTSTART:20231105T070000
END:STANDARD
BEGIN:DAYLIGHT
TZOFFSETFROM:-0600
TZOFFSETTO:-0500
TZNAME:CDT
DTSTART:20240310T080000
END:DAYLIGHT
BEGIN:STANDARD
TZOFFSETFROM:-0500
TZOFFSETTO:-0600
TZNAME:CST
DTSTART:20241103T070000
END:STANDARD
END:VTIMEZONE
BEGIN:VEVENT
DTSTART;VALUE=DATE:20231006
DTEND;VALUE=DATE:20231008
DTSTAMP:20260423T123236
CREATED:20240411T192137Z
LAST-MODIFIED:20240411T192137Z
UID:10001607-1696550400-1696723199@visitjacksontn.com
SUMMARY:Magic Valley Music Fest
DESCRIPTION:The Magic Valley Music Festival will be a live music event that you don’t want to miss! Carrie Folks Strong\, Miss Tennessee 1988 will be the event emcee. There will also be local vendors set up at the Festival. 10/6 – Gates open at 4:00 5:00 Double Edge 7:00 Randal French 9:00 Keith Burns of Trick Pony 10/7 – Gates open at 11:00 2:00 24 Seven 3:30 Pretty Grimm 5:00 Bryan Moffit 6:30 Derrick Brasfield 8:00 Eddie Montgomeryof Montgomery Gentry This is an outdoor event. Please bring your own lawn Chairs NO OUTSIDE FOOD OR DRINKS ALLOWED! Tickets can be purchased online. Pricing will increase the day of the event! For additional information\, click ‘learn more.’
URL:https://visitjacksontn.com/event/magic-valley-music-fest/
CATEGORIES:Music,Sports & Outdoor
ATTACH;FMTTYPE=image/jpeg:https://visitjacksontn.com/wp-content/uploads/372927006_689694689866294_7327577595433552427_n-d5djxf.tmp_.jpg
END:VEVENT
BEGIN:VEVENT
DTSTART;TZID=America/Chicago:20231006T170000
DTEND;TZID=America/Chicago:20231006T220000
DTSTAMP:20260423T123236
CREATED:20240411T192903Z
LAST-MODIFIED:20240411T192903Z
UID:10001905-1696611600-1696629600@visitjacksontn.com
SUMMARY:The Jacob Barker Music Festival
DESCRIPTION:This two-day event is family-friendly and community-focused\, featuring vendors selling local food and drink\, a silent auction\, a cornhole tournament\, activities for kids\, and\, of course\, amazing music performed live by over 20 local musicians. Your attendance directly supports The Make-A-Wish Foundation\, a nonprofit making a difference in the lives of children every day. Best of all\, the concert is free! Friday\, October 6th from 5:00pm – 10:00pm Saturday\, October 7th from 3:00pm – 10:00pm Stay tuned for the 2023 lineup! Click ‘Learn More’ for more information.
URL:https://visitjacksontn.com/event/the-jacob-barker-music-festival-2/
CATEGORIES:Music,Sports & Outdoor
ATTACH;FMTTYPE=image/jpeg:https://visitjacksontn.com/wp-content/uploads/theAMP_crop_web-e1678825653796-RS0byj.tmp_.jpg
END:VEVENT
BEGIN:VEVENT
DTSTART;TZID=America/Chicago:20231007T150000
DTEND;TZID=America/Chicago:20231007T220000
DTSTAMP:20260423T123236
CREATED:20240411T192902Z
LAST-MODIFIED:20240411T192902Z
UID:10001904-1696690800-1696716000@visitjacksontn.com
SUMMARY:The Jacob Barker Music Festival
DESCRIPTION:This two-day event is family-friendly and community-focused\, featuring vendors selling local food and drink\, a silent auction\, a cornhole tournament\, activities for kids\, and\, of course\, amazing music performed live by over 20 local musicians. Your attendance directly supports The Make-A-Wish Foundation\, a nonprofit making a difference in the lives of children every day. Best of all\, the concert is free! Friday\, October 6th from 5:00pm – 10:00pm Saturday\, October 7th from 3:00pm – 10:00pm Stay tuned for the 2023 lineup! Click ‘Learn More’ for more information.
URL:https://visitjacksontn.com/event/the-jacob-barker-music-festival/
CATEGORIES:Music,Sports & Outdoor
ATTACH;FMTTYPE=image/jpeg:https://visitjacksontn.com/wp-content/uploads/theAMP_crop_web-e1678825653796-RS0byj.tmp_.jpg
END:VEVENT
BEGIN:VEVENT
DTSTART;TZID=America/Chicago:20231007T190000
DTEND;TZID=America/Chicago:20231007T210000
DTSTAMP:20260423T123236
CREATED:20240411T192141Z
LAST-MODIFIED:20240411T192141Z
UID:10001611-1696705200-1696712400@visitjacksontn.com
SUMMARY:David Ashley Trent in Concert
DESCRIPTION:Contemporary Christian and country artist David Ashley Trent will be performing a concert of original music at Jackson\, Tennessee’s newest family friendly concert listening room\, Catbird Studio! Americana husband/wife duo\, The Shoemakers\, will perform the opening acoustic set. Doors open at 6:30 pm; show starts at 7:00 pm. Tickets are $13 and can be purchased online or at the door. For tickets and more information\, click ‘learn more.’
URL:https://visitjacksontn.com/event/david-ashley-trent-in-concert/
LOCATION:Catbird Studio\, 2100 Pleasant Plains Ext\, Jackson\, TN\, 38305\, United States
CATEGORIES:Music,Sports & Outdoor
ATTACH;FMTTYPE=image/jpeg:https://visitjacksontn.com/wp-content/uploads/Screenshot-2023-09-20-091629-K5lHel.tmp_.jpg
END:VEVENT
BEGIN:VEVENT
DTSTART;TZID=America/Chicago:20231012T190000
DTEND;TZID=America/Chicago:20231012T235000
DTSTAMP:20260423T123236
CREATED:20240411T192118Z
LAST-MODIFIED:20240411T192118Z
UID:10001593-1697137200-1697154600@visitjacksontn.com
SUMMARY:Lambuth Pop Ensemble - Fall 2023
DESCRIPTION:Hosted in the Hamilton Performing Arts Center on the campus of University of Memphis-Lambuth\, the Fall 2023 Lambuth Pop Ensemble will perform on Thursday\, October 12 at 7 pm. Click ‘learn more’ for more information.
URL:https://visitjacksontn.com/event/lambuth-pop-ensemble-fall-2023/
LOCATION:University of Memphis\, Lambuth\, 299 Maple St.\, Jackson\, TN\, 38301\, United States
CATEGORIES:Arts & Culture,Music,Sports & Outdoor
ATTACH;FMTTYPE=image/jpeg:https://visitjacksontn.com/wp-content/uploads/381225305_10232540563160285_9197508026336497253_n-e1696016576593-1w15wg.tmp_.jpg
END:VEVENT
BEGIN:VEVENT
DTSTART;TZID=America/Chicago:20231014T100000
DTEND;TZID=America/Chicago:20231014T160000
DTSTAMP:20260423T123236
CREATED:20240411T192312Z
LAST-MODIFIED:20240411T192312Z
UID:10001660-1697277600-1697299200@visitjacksontn.com
SUMMARY:2023 Milan Fall Festival
DESCRIPTION:Join us for the 2023 Milan Fall Festival! Presented by the City of Milam\, the Milan Downtown Fall Festival is an annual tradition for our small town! October 14\, 2023 from 10am – 4 pm in downtown Milan! Shopping vendors\, food\, live music and entertainment\, children’s activities.. and more! We have some new things this year\, so be sure to spend the day with us!! We’ll be streaming the TN Vols v. Texas A&M Aggies game (and others) on the BIG screen down by City Hall! For a schedule of events and more information\, click ‘learn more.’
URL:https://visitjacksontn.com/event/2023-milan-fall-festival/
LOCATION:Milan City Hall\, 1061 S. Main St.\, Milan\, TN\, 38358\, United States
CATEGORIES:Music,Sports & Outdoor
ATTACH;FMTTYPE=image/jpeg:https://visitjacksontn.com/wp-content/uploads/357746600_774127094510258_3872364338605518899_n-eDZjfH.tmp_.jpg
END:VEVENT
BEGIN:VEVENT
DTSTART;TZID=America/Chicago:20231019T190000
DTEND;TZID=America/Chicago:20231019T235000
DTSTAMP:20260423T123236
CREATED:20240411T192100Z
LAST-MODIFIED:20240411T192100Z
UID:10001580-1697742000-1697759400@visitjacksontn.com
SUMMARY:The United States Air Force Band & Singing Sergeants
DESCRIPTION:Your United States Air Force Band and Singing Sergeants will host a rare and exciting event to hear great patriotic music\, broadway classics and a salute to celebrate our veterans! This FREE concert will be held at Liberty Technology Magnet High School on Thursday\, October 19 at 7 pm. Doors open at 6:30 pm. Please note that while ticket registration greatly assists The U.S. Air Force Band to plan and market successful events\, tickets are not required for admission to this concert. For more information\, click learn more.
URL:https://visitjacksontn.com/event/the-united-states-air-force-band-singing-sergeants/
LOCATION:Liberty Technology Magnet High School\, 3470 Ridgecrest Rd Exd\, Jackson\, TN\, 38305\, United States
CATEGORIES:Music,Sports & Outdoor
ATTACH;FMTTYPE=image/jpeg:https://visitjacksontn.com/wp-content/uploads/air-force-band-hCIhqw.tmp_.jpg
END:VEVENT
BEGIN:VEVENT
DTSTART;TZID=America/Chicago:20231024T183000
DTEND;TZID=America/Chicago:20231024T235000
DTSTAMP:20260423T123236
CREATED:20240411T192111Z
LAST-MODIFIED:20240411T192111Z
UID:10001592-1698172200-1698191400@visitjacksontn.com
SUMMARY:Made in Jackson Journal Launch
DESCRIPTION:Our Jackson Home is launching the ‘Made In Jackson’ journal! The ‘Made in Jackson’ issue is a collection of stories featuring people in Jackson who are making Jackson in the areas of community\, culture\, change\, and cuisine\, with stories selected from nominations by community members. Come out to Hub City Brewing for a night of stories and celebration of the role each of us have to play in making our community. TALKS BY TRUNETTA ATWATER | OLIVIA ABERNATHY | TRISTA HAVNER | ANTHONY KIRK MUSIC BY STEDMAN ROEBUCK | ALICE HARDIN For more information\, click learn more.
URL:https://visitjacksontn.com/event/made-in-jackson-journal-launch/
LOCATION:Hub City Brewing\, 250 West Main Street\, Jackson\, TN\, 38301\, United States
CATEGORIES:Arts & Culture,Music,Sports & Outdoor
ATTACH;FMTTYPE=image/jpeg:https://visitjacksontn.com/wp-content/uploads/380818180_709400951228548_3544175084565216911_n-WHJyM8.tmp_.jpg
END:VEVENT
BEGIN:VEVENT
DTSTART;TZID=America/Chicago:20231026T180000
DTEND;TZID=America/Chicago:20231026T210000
DTSTAMP:20260423T123236
CREATED:20240411T192227Z
LAST-MODIFIED:20240411T192227Z
UID:10001641-1698343200-1698354000@visitjacksontn.com
SUMMARY:Dancing with the Stars
DESCRIPTION:Dancing with the STARs presented by Leaders Credit Union\, benefiting The STAR Center\, returns for its 8th season on October 26\, 2023 at the Jackson Fairgrounds. Join us for an evening full of dinner\, drinks\, and dancing! Watch as local celebrities & community leaders compete to win the coveted mirror ball trophy. Mark your calendars for the electrifying night on Thursday\, October 26\, 2023 at the Jackson Fairgrounds. Whether you’re a passionate dancer\, a generous donor\, or just someone who loves to have a blast\, this event is for you! Let’s come together\, celebrate our stars\, and #CrushTheNo in style! Stay tuned for more updates\, behind-the-scenes peeks\, and heartwarming stories as we count down to the big night. Follow The Star Center on Facebook for all the latest updates and email dwts@star-center.org to purchase your table today! Click ‘learn more’ for more information\, to purchase tables or donate now!
URL:https://visitjacksontn.com/event/dancing-with-the-stars/
LOCATION:Jackson TN Fairgrounds\, 800 South Highland Ave\, Jackson\, TN\, 38301\, United States
CATEGORIES:Music,Sports & Outdoor
ATTACH;FMTTYPE=image/jpeg:https://visitjacksontn.com/wp-content/uploads/313434489_517388120400763_5462842470715003155_n-GUGgts.tmp_.jpg
END:VEVENT
BEGIN:VEVENT
DTSTART;TZID=America/Chicago:20231028T200000
DTEND;TZID=America/Chicago:20231028T235000
DTSTAMP:20260423T123236
CREATED:20240411T192154Z
LAST-MODIFIED:20240411T192154Z
UID:10001627-1698523200-1698537000@visitjacksontn.com
SUMMARY:2nd Annual Dirt & Disco
DESCRIPTION:It’s that time of year again! Our annual Dirt & Disco party is 80’s prom themed with live DJ performances from local artists Mirza\, Rob & Jay\, $IN\, LUCIIDDAYDREAM\, & Stedman!. Stay tuned for DJ lineup! Drinks provided until we run out\, you’re welcome to bring backup as you wish. Pre-Sale $15 – Ticket prices will increase after August! Tickets will go quick\, so get em while ya can! It’s 80’s attire this year guys\, so bring your game because will be having a costume contest\, food trucks\, and a good time. Sponsored in part by Visit Jackson TN. Click ‘learn more’ for ticket details and more information.
URL:https://visitjacksontn.com/event/2nd-annual-dirt-disco/
LOCATION:Grounded Plant Company\, 114 E Lafayette St\, Jackson\, TN\, 38301-6204\, United States
CATEGORIES:Music,Sports & Outdoor
ATTACH;FMTTYPE=image/jpeg:https://visitjacksontn.com/wp-content/uploads/373054723_685917536903361_5308052587598296047_n-e1693944068852-5430Qn.tmp_.jpg
END:VEVENT
END:VCALENDAR