BEGIN:VCALENDAR
VERSION:2.0
PRODID:-//Jackson Tourism - ECPv6.15.20//NONSGML v1.0//EN
CALSCALE:GREGORIAN
METHOD:PUBLISH
X-ORIGINAL-URL:https://visitjacksontn.com
X-WR-CALDESC:Events for Jackson Tourism
REFRESH-INTERVAL;VALUE=DURATION:PT1H
X-Robots-Tag:noindex
X-PUBLISHED-TTL:PT1H
BEGIN:VTIMEZONE
TZID:America/Chicago
BEGIN:DAYLIGHT
TZOFFSETFROM:-0600
TZOFFSETTO:-0500
TZNAME:CDT
DTSTART:20220313T080000
END:DAYLIGHT
BEGIN:STANDARD
TZOFFSETFROM:-0500
TZOFFSETTO:-0600
TZNAME:CST
DTSTART:20221106T070000
END:STANDARD
BEGIN:DAYLIGHT
TZOFFSETFROM:-0600
TZOFFSETTO:-0500
TZNAME:CDT
DTSTART:20230312T080000
END:DAYLIGHT
BEGIN:STANDARD
TZOFFSETFROM:-0500
TZOFFSETTO:-0600
TZNAME:CST
DTSTART:20231105T070000
END:STANDARD
BEGIN:DAYLIGHT
TZOFFSETFROM:-0600
TZOFFSETTO:-0500
TZNAME:CDT
DTSTART:20240310T080000
END:DAYLIGHT
BEGIN:STANDARD
TZOFFSETFROM:-0500
TZOFFSETTO:-0600
TZNAME:CST
DTSTART:20241103T070000
END:STANDARD
END:VTIMEZONE
BEGIN:VEVENT
DTSTART;TZID=America/Chicago:20230616T180000
DTEND;TZID=America/Chicago:20230616T220000
DTSTAMP:20260424T125027
CREATED:20240411T192654Z
LAST-MODIFIED:20240411T192654Z
UID:10001811-1686938400-1686952800@visitjacksontn.com
SUMMARY:Wine Down at Crown Winery
DESCRIPTION:Crown Winery has announced their Wine Down 2023 schedule! Remember when booking your table reservations to also go ahead and do your pizza reservations. The pizzas are so delicious that the time slots go fast! Visit their website www.crownwinery.com and book online. May 19th – Blue Eyed Sun May 26th – Missing Fifth June 16th – Blue Eyed Sun June 23rd – Rita Mac & Different Drum June 30th – Kimberlie Helton July 7th – Jackson’s Hubtet July 21st – Blue Eyed Sun July 28th – Kimberlie Helton August 11th – Kimberlie Helton August 18th – Missing Fifth August 25th – Rita Mac & Different Drum September 1st – Blue Eyed Sun September 15th – Missing Fifth September 22nd – Rita Mac & Different Drum September 29th – Jackson’s Hubtet For more information\, click ‘Learn More’.
URL:https://visitjacksontn.com/event/wine-down-at-crown-winery-13/
LOCATION:Crown Winery\, 3638 E. Mitchell St.\, Humboldt\, TN\, 38343\, United States
CATEGORIES:Music,Sports & Outdoor
ATTACH;FMTTYPE=image/jpeg:https://visitjacksontn.com/wp-content/uploads/crown-summer-wine-down-schedule-uPjIgV.tmp_.jpg
END:VEVENT
BEGIN:VEVENT
DTSTART;TZID=America/Chicago:20230616T183000
DTEND;TZID=America/Chicago:20230616T193000
DTSTAMP:20260424T125027
CREATED:20240411T192617Z
LAST-MODIFIED:20240411T192617Z
UID:10001789-1686940200-1686943800@visitjacksontn.com
SUMMARY:Live Music in the Delta Room with Hope MacGregor
DESCRIPTION:June 16\, 2023 6:30 PM until 7:30 PM The Casey Jones Village will be having live music in the Delta Room at the Old Country Store from 12-1 p.m. every Tuesday and from 6:30-7:30 p.m. every Friday night. The music is FREE to enjoy while dining at our world famous buffet! For more information\, click ‘Learn More’.
URL:https://visitjacksontn.com/event/live-music-in-the-delta-room-with-hope-macgregor/
LOCATION:Old Country Store\, 56 Casey Jones Lane\, Jackson\, TN\, 38305\, United States
CATEGORIES:Music,Sports & Outdoor
ATTACH;FMTTYPE=image/jpeg:https://visitjacksontn.com/wp-content/uploads/music-nights-old-country-store-e1686857746811-PRFF4m.tmp_.jpg
END:VEVENT
BEGIN:VEVENT
DTSTART;TZID=America/Chicago:20230620T120000
DTEND;TZID=America/Chicago:20230620T130000
DTSTAMP:20260424T125027
CREATED:20240411T192616Z
LAST-MODIFIED:20240411T192616Z
UID:10001788-1687262400-1687266000@visitjacksontn.com
SUMMARY:Live Music in the Delta Room with Tyler Goodson
DESCRIPTION:June 20\, 2023 12:00 PM until 01:00 PM We will be having live music in the Delta Room at the Old Country Store from 12-1 p.m. every Tuesday and from 6:30-7:30 p.m. every Friday night. The music is FREE to enjoy while dining at our world famous buffet! Click ‘Learn More’ for more information.
URL:https://visitjacksontn.com/event/live-music-in-the-delta-room-with-tyler-goodson/
LOCATION:Old Country Store\, 56 Casey Jones Lane\, Jackson\, TN\, 38305\, United States
CATEGORIES:Music,Sports & Outdoor
ATTACH;FMTTYPE=image/jpeg:https://visitjacksontn.com/wp-content/uploads/music-nights-old-country-store-e1686857746811-PRFF4m.tmp_.jpg
END:VEVENT
BEGIN:VEVENT
DTSTART;TZID=America/Chicago:20230623T180000
DTEND;TZID=America/Chicago:20230623T220000
DTSTAMP:20260424T125027
CREATED:20240411T192654Z
LAST-MODIFIED:20240411T192654Z
UID:10001810-1687543200-1687557600@visitjacksontn.com
SUMMARY:Wine Down at Crown Winery
DESCRIPTION:Crown Winery has announced their Wine Down 2023 schedule! Remember when booking your table reservations to also go ahead and do your pizza reservations. The pizzas are so delicious that the time slots go fast! Visit their website www.crownwinery.com and book online. May 19th – Blue Eyed Sun May 26th – Missing Fifth June 16th – Blue Eyed Sun June 23rd – Rita Mac & Different Drum June 30th – Kimberlie Helton July 7th – Jackson’s Hubtet July 21st – Blue Eyed Sun July 28th – Kimberlie Helton August 11th – Kimberlie Helton August 18th – Missing Fifth August 25th – Rita Mac & Different Drum September 1st – Blue Eyed Sun September 15th – Missing Fifth September 22nd – Rita Mac & Different Drum September 29th – Jackson’s Hubtet For more information\, click ‘Learn More’.
URL:https://visitjacksontn.com/event/wine-down-at-crown-winery-12/
LOCATION:Crown Winery\, 3638 E. Mitchell St.\, Humboldt\, TN\, 38343\, United States
CATEGORIES:Music,Sports & Outdoor
ATTACH;FMTTYPE=image/jpeg:https://visitjacksontn.com/wp-content/uploads/crown-summer-wine-down-schedule-uPjIgV.tmp_.jpg
END:VEVENT
BEGIN:VEVENT
DTSTART;TZID=America/Chicago:20230623T183000
DTEND;TZID=America/Chicago:20230623T193000
DTSTAMP:20260424T125027
CREATED:20240411T192608Z
LAST-MODIFIED:20240411T192608Z
UID:10001787-1687545000-1687548600@visitjacksontn.com
SUMMARY:Live Music in the Delta Room with The Shoemakers
DESCRIPTION:June 23\, 2023 6:30 PM until 7:30 PM We will be having live music in the Delta Room at the Old Country Store from 12-1 p.m. every Tuesday and from 6:30-7:30 p.m. every Friday night. The music is FREE to enjoy while dining at our world famous buffet! Click ‘Learn More’ for more information.
URL:https://visitjacksontn.com/event/live-music-in-the-delta-room-with-the-shoemakers/
LOCATION:Old Country Store\, 56 Casey Jones Lane\, Jackson\, TN\, 38305\, United States
CATEGORIES:Music,Sports & Outdoor
ATTACH;FMTTYPE=image/jpeg:https://visitjacksontn.com/wp-content/uploads/music-nights-old-country-store-e1686857746811-PRFF4m.tmp_.jpg
END:VEVENT
BEGIN:VEVENT
DTSTART;VALUE=DATE:20230630
DTEND;VALUE=DATE:20230702
DTSTAMP:20260424T125027
CREATED:20240411T192524Z
LAST-MODIFIED:20240411T192524Z
UID:10001756-1688083200-1688255999@visitjacksontn.com
SUMMARY:45th Annual Savannah Bluegrass Festival
DESCRIPTION:RAIN OR SHINE! Bring your own lawn chairs! Free admission. This year’s festival will be in memory of our substitute emcee\, fiddle player and life long friend\, Jimmy Earl Robinson. Friday\, June 30 – 5:00 pm-8:30 pm @ Wayne Jerrolds Park Saturday\, July 1-11:45 am-8:30 pm @ Savannah Market There will be live performers throughout the weekend and activities for everyone to enjoy! For more information\, call 731-727-6848 or 731-925-3300.  
URL:https://visitjacksontn.com/event/45th-annual-savannah-bluegrass-festival/
LOCATION:Savannah Bluegrass Festival\, Wayne Jerrolds Drive\, Savannah\, TN\, 38372\, United States
CATEGORIES:Arts & Culture,Music,Sports & Outdoor
END:VEVENT
BEGIN:VEVENT
DTSTART;TZID=America/Chicago:20230630T180000
DTEND;TZID=America/Chicago:20230630T220000
DTSTAMP:20260424T125028
CREATED:20240411T192654Z
LAST-MODIFIED:20240411T192654Z
UID:10001809-1688148000-1688162400@visitjacksontn.com
SUMMARY:Wine Down at Crown Winery
DESCRIPTION:Crown Winery has announced their Wine Down 2023 schedule! Remember when booking your table reservations to also go ahead and do your pizza reservations. The pizzas are so delicious that the time slots go fast! Visit their website www.crownwinery.com and book online. May 19th – Blue Eyed Sun May 26th – Missing Fifth June 16th – Blue Eyed Sun June 23rd – Rita Mac & Different Drum June 30th – Kimberlie Helton July 7th – Jackson’s Hubtet July 21st – Blue Eyed Sun July 28th – Kimberlie Helton August 11th – Kimberlie Helton August 18th – Missing Fifth August 25th – Rita Mac & Different Drum September 1st – Blue Eyed Sun September 15th – Missing Fifth September 22nd – Rita Mac & Different Drum September 29th – Jackson’s Hubtet For more information\, click ‘Learn More’.
URL:https://visitjacksontn.com/event/wine-down-at-crown-winery-11/
LOCATION:Crown Winery\, 3638 E. Mitchell St.\, Humboldt\, TN\, 38343\, United States
CATEGORIES:Music,Sports & Outdoor
ATTACH;FMTTYPE=image/jpeg:https://visitjacksontn.com/wp-content/uploads/crown-summer-wine-down-schedule-uPjIgV.tmp_.jpg
END:VEVENT
BEGIN:VEVENT
DTSTART;TZID=America/Chicago:20230630T190000
DTEND;TZID=America/Chicago:20230630T235000
DTSTAMP:20260424T125028
CREATED:20240411T192745Z
LAST-MODIFIED:20240411T192745Z
UID:10001839-1688151600-1688169000@visitjacksontn.com
SUMMARY:Live Music at Williams Auditorium - John Schneider
DESCRIPTION:Live music at Williams Auditorium will begin on April 29\, 2023 and will continue through July 28\, 2023. The schedule is as follows: Apr 29: Gene Watson 7pm May 5: All About Joel | Tribute to Billy Joel from New York 7:30pm May 8: TIFFANY7:30pm May 26: Larry Gatlin 7pm June 4: John Conlee 3pm June 30: John Schneider 7pm Jul 28: The Haggard Brothers (Ben & Noel) | Tribute to Merle Haggard 7pm For more information\, click ‘Learn More’.
URL:https://visitjacksontn.com/event/live-music-at-williams-auditorium-john-schneider/
LOCATION:Williams Auditorium\, 634 E. Main St.\, Henderson\, TN\, 38340\, United States
CATEGORIES:Music,Sports & Outdoor
ATTACH;FMTTYPE=image/jpeg:https://visitjacksontn.com/wp-content/uploads/John-Schneider-FoYJHd.tmp_.jpg
END:VEVENT
END:VCALENDAR