BEGIN:VCALENDAR
VERSION:2.0
PRODID:-//Jackson Tourism - ECPv6.15.20//NONSGML v1.0//EN
CALSCALE:GREGORIAN
METHOD:PUBLISH
X-WR-CALNAME:Jackson Tourism
X-ORIGINAL-URL:https://visitjacksontn.com
X-WR-CALDESC:Events for Jackson Tourism
REFRESH-INTERVAL;VALUE=DURATION:PT1H
X-Robots-Tag:noindex
X-PUBLISHED-TTL:PT1H
BEGIN:VTIMEZONE
TZID:America/Chicago
BEGIN:DAYLIGHT
TZOFFSETFROM:-0600
TZOFFSETTO:-0500
TZNAME:CDT
DTSTART:20220313T080000
END:DAYLIGHT
BEGIN:STANDARD
TZOFFSETFROM:-0500
TZOFFSETTO:-0600
TZNAME:CST
DTSTART:20221106T070000
END:STANDARD
BEGIN:DAYLIGHT
TZOFFSETFROM:-0600
TZOFFSETTO:-0500
TZNAME:CDT
DTSTART:20230312T080000
END:DAYLIGHT
BEGIN:STANDARD
TZOFFSETFROM:-0500
TZOFFSETTO:-0600
TZNAME:CST
DTSTART:20231105T070000
END:STANDARD
BEGIN:DAYLIGHT
TZOFFSETFROM:-0600
TZOFFSETTO:-0500
TZNAME:CDT
DTSTART:20240310T080000
END:DAYLIGHT
BEGIN:STANDARD
TZOFFSETFROM:-0500
TZOFFSETTO:-0600
TZNAME:CST
DTSTART:20241103T070000
END:STANDARD
END:VTIMEZONE
BEGIN:VEVENT
DTSTART;TZID=America/Chicago:20230501T190000
DTEND;TZID=America/Chicago:20230501T235000
DTSTAMP:20260424T210526
CREATED:20240411T192734Z
LAST-MODIFIED:20240411T192734Z
UID:10001837-1682967600-1682985000@visitjacksontn.com
SUMMARY:JACB Spring Concert A Night at the Movies""
DESCRIPTION:Jackson Area Community Bands presents ‘A Night at the Movies’ starring Tony Burris and The Jackson Symphonic Winds and David Kyles and The Jackson Swing Orchestra. Monday\, May 1\, 2023 at 7:00 pm in the Chapel at Union University. For more information\, click ‘Learn More’.
URL:https://visitjacksontn.com/event/jacb-spring-concert-a-night-at-the-movies/
LOCATION:Union University Chapel\, 1050 Union University Drive\, Jackson\, TN\, 38305
CATEGORIES:Music,Sports & Outdoor
ATTACH;FMTTYPE=image/jpeg:https://visitjacksontn.com/wp-content/uploads/JACB-WH1M1S.tmp_.jpg
END:VEVENT
BEGIN:VEVENT
DTSTART;TZID=America/Chicago:20230505T193000
DTEND;TZID=America/Chicago:20230505T235000
DTSTAMP:20260424T210526
CREATED:20240411T192745Z
LAST-MODIFIED:20240411T192745Z
UID:10001841-1683315000-1683330600@visitjacksontn.com
SUMMARY:Live Music at Williams Auditorium - All About Joel
DESCRIPTION:Live music at Williams Auditorium will begin on April 29\, 2023 and will continue through July 28\, 2023. The schedule is as follows: Apr 29: Gene Watson 7pm May 5: All About Joel | Tribute to Billy Joel from New York 7:30pm May 8: TIFFANY7:30pm May 26: Larry Gatlin 7pm June 4: John Conlee 3pm June 30: John Schneider 7pm Jul 28: The Haggard Brothers (Ben & Noel) | Tribute to Merle Haggard 7pm For more information\, click ‘Learn More’.
URL:https://visitjacksontn.com/event/live-music-at-williams-auditorium-all-about-joel/
LOCATION:Williams Auditorium\, 634 E. Main St.\, Henderson\, TN\, 38340\, United States
CATEGORIES:Music,Sports & Outdoor
ATTACH;FMTTYPE=image/jpeg:https://visitjacksontn.com/wp-content/uploads/billy-joel-92WqtT.tmp_.jpg
END:VEVENT
BEGIN:VEVENT
DTSTART;TZID=America/Chicago:20230519T180000
DTEND;TZID=America/Chicago:20230519T220000
DTSTAMP:20260424T210526
CREATED:20240411T192658Z
LAST-MODIFIED:20240411T192658Z
UID:10001813-1684519200-1684533600@visitjacksontn.com
SUMMARY:Wine Down at Crown Winery
DESCRIPTION:Crown Winery has announced their Wine Down 2023 schedule! Remember when booking your table reservations to also go ahead and do your pizza reservations. The pizzas are so delicious that the time slots go fast! Visit their website www.crownwinery.com and book online. May 19th – Blue Eyed Sun May 26th – Missing Fifth June 16th – Blue Eyed Sun June 23rd – Rita Mac & Different Drum June 30th – Kimberlie Helton July 7th – Jackson’s Hubtet July 21st – Blue Eyed Sun July 28th – Kimberlie Helton August 11th – Kimberlie Helton August 18th – Missing Fifth August 25th – Rita Mac & Different Drum September 1st – Blue Eyed Sun September 15th – Missing Fifth September 22nd – Rita Mac & Different Drum September 29th – Jackson’s Hubtet For more information\, click ‘Learn More’.
URL:https://visitjacksontn.com/event/wine-down-at-crown-winery-15/
LOCATION:Crown Winery\, 3638 E. Mitchell St.\, Humboldt\, TN\, 38343\, United States
CATEGORIES:Music,Sports & Outdoor
ATTACH;FMTTYPE=image/jpeg:https://visitjacksontn.com/wp-content/uploads/crown-summer-wine-down-schedule-uPjIgV.tmp_.jpg
END:VEVENT
BEGIN:VEVENT
DTSTART;TZID=America/Chicago:20230525T193000
DTEND;TZID=America/Chicago:20230525T235000
DTSTAMP:20260424T210526
CREATED:20240411T193127Z
LAST-MODIFIED:20240411T193127Z
UID:10002041-1685043000-1685058600@visitjacksontn.com
SUMMARY:Travis Tritt 2023: Jackson\, TN
DESCRIPTION:Mark your calendars\, Travis Tritt and the band are coming back to Jackson! He will be performing at the Carl Perkins Civic Center on May 25th\, 2023 at 7:30pm. Get your tickets before they sell out! Click Learn More for more information.
URL:https://visitjacksontn.com/event/travis-tritt-2023-jackson-tn/
LOCATION:Carl Perkins Civic Center\, 400 South Highland Avenue\, Jackson\, TN\, 38301\, United States
CATEGORIES:Music,Sports & Outdoor
ATTACH;FMTTYPE=image/jpeg:https://visitjacksontn.com/wp-content/uploads/concert-g098ddbe04_1920-7gEF7u.tmp_.jpg
END:VEVENT
BEGIN:VEVENT
DTSTART;TZID=America/Chicago:20230526T180000
DTEND;TZID=America/Chicago:20230526T220000
DTSTAMP:20260424T210526
CREATED:20240411T192655Z
LAST-MODIFIED:20240411T192655Z
UID:10001812-1685124000-1685138400@visitjacksontn.com
SUMMARY:Wine Down at Crown Winery
DESCRIPTION:Crown Winery has announced their Wine Down 2023 schedule! Remember when booking your table reservations to also go ahead and do your pizza reservations. The pizzas are so delicious that the time slots go fast! Visit their website www.crownwinery.com and book online. May 19th – Blue Eyed Sun May 26th – Missing Fifth June 16th – Blue Eyed Sun June 23rd – Rita Mac & Different Drum June 30th – Kimberlie Helton July 7th – Jackson’s Hubtet July 21st – Blue Eyed Sun July 28th – Kimberlie Helton August 11th – Kimberlie Helton August 18th – Missing Fifth August 25th – Rita Mac & Different Drum September 1st – Blue Eyed Sun September 15th – Missing Fifth September 22nd – Rita Mac & Different Drum September 29th – Jackson’s Hubtet For more information\, click ‘Learn More’.
URL:https://visitjacksontn.com/event/wine-down-at-crown-winery-14/
LOCATION:Crown Winery\, 3638 E. Mitchell St.\, Humboldt\, TN\, 38343\, United States
CATEGORIES:Music,Sports & Outdoor
ATTACH;FMTTYPE=image/jpeg:https://visitjacksontn.com/wp-content/uploads/crown-summer-wine-down-schedule-uPjIgV.tmp_.jpg
END:VEVENT
BEGIN:VEVENT
DTSTART;TZID=America/Chicago:20230526T190000
DTEND;TZID=America/Chicago:20230526T235000
DTSTAMP:20260424T210526
CREATED:20240411T192745Z
LAST-MODIFIED:20240411T192745Z
UID:10001840-1685127600-1685145000@visitjacksontn.com
SUMMARY:Live Music at Williams Auditorium - Larry Gatlin
DESCRIPTION:Live music at Williams Auditorium will begin on April 29\, 2023 and will continue through July 28\, 2023. The schedule is as follows: Apr 29: Gene Watson 7pm May 5: All About Joel | Tribute to Billy Joel from New York 7:30pm May 8: TIFFANY7:30pm May 26: Larry Gatlin 7pm June 4: John Conlee 3pm June 30: John Schneider 7pm Jul 28: The Haggard Brothers (Ben & Noel) | Tribute to Merle Haggard 7pm For more information\, click ‘Learn More’.
URL:https://visitjacksontn.com/event/live-music-at-williams-auditorium-larry-gatlin/
LOCATION:Williams Auditorium\, 634 E. Main St.\, Henderson\, TN\, 38340\, United States
CATEGORIES:Music,Sports & Outdoor
ATTACH;FMTTYPE=image/jpeg:https://visitjacksontn.com/wp-content/uploads/larry-gatlin-1-e1682627507540-Q1CR1M.tmp_.jpg
END:VEVENT
BEGIN:VEVENT
DTSTART;VALUE=DATE:20230527
DTEND;VALUE=DATE:20230529
DTSTAMP:20260424T210526
CREATED:20240411T193152Z
LAST-MODIFIED:20240411T193152Z
UID:10002066-1685145600-1685318399@visitjacksontn.com
SUMMARY:Exit 56 Blues Fest
DESCRIPTION:TheWest Tennessee Delta Heritage Center invites blues fans back to Brownsville for the 13thannualExit 56 Blues Fest. Along with local and regional Blues acts\, festivalgoers can enjoy a Corvette Car Show and Classic Car Cruise In\, arts and crafts and great food\, including Brownsville barbecue.   The Exit 56 Blues Fest showcases the region’s top Blues performers and offers a mix of traditional blues\, rhythm and blues\, rockin’ blues and everything in between. The festival takes place on the grounds of the Delta Heritage Center located at Exit 56 off of Interstate 40.   The full schedule is coming soon.   Admission is free. More information about the event can be found atwww.Exit56Blues.comor contact the Delta Heritage Center at 731-779-9000 orinfo@westtnheritage.com.
URL:https://visitjacksontn.com/event/exit-56-blues-fest-2/
LOCATION:West Tennessee Delta Heritage Center\, 121 Sunny Hill Cove\, Brownsville\, TN\, 38012\, United States
CATEGORIES:Music,Sports & Outdoor
ATTACH;FMTTYPE=image/jpeg:https://visitjacksontn.com/wp-content/uploads/bluesfest-t5VHr1.tmp_.jpg
END:VEVENT
END:VCALENDAR