BEGIN:VCALENDAR
VERSION:2.0
PRODID:-//Jackson Tourism - ECPv6.15.18//NONSGML v1.0//EN
CALSCALE:GREGORIAN
METHOD:PUBLISH
X-ORIGINAL-URL:https://visitjacksontn.com
X-WR-CALDESC:Events for Jackson Tourism
REFRESH-INTERVAL;VALUE=DURATION:PT1H
X-Robots-Tag:noindex
X-PUBLISHED-TTL:PT1H
BEGIN:VTIMEZONE
TZID:America/Chicago
BEGIN:DAYLIGHT
TZOFFSETFROM:-0600
TZOFFSETTO:-0500
TZNAME:CDT
DTSTART:20240310T080000
END:DAYLIGHT
BEGIN:STANDARD
TZOFFSETFROM:-0500
TZOFFSETTO:-0600
TZNAME:CST
DTSTART:20241103T070000
END:STANDARD
BEGIN:DAYLIGHT
TZOFFSETFROM:-0600
TZOFFSETTO:-0500
TZNAME:CDT
DTSTART:20250309T080000
END:DAYLIGHT
BEGIN:STANDARD
TZOFFSETFROM:-0500
TZOFFSETTO:-0600
TZNAME:CST
DTSTART:20251102T070000
END:STANDARD
BEGIN:DAYLIGHT
TZOFFSETFROM:-0600
TZOFFSETTO:-0500
TZNAME:CDT
DTSTART:20260308T080000
END:DAYLIGHT
BEGIN:STANDARD
TZOFFSETFROM:-0500
TZOFFSETTO:-0600
TZNAME:CST
DTSTART:20261101T070000
END:STANDARD
END:VTIMEZONE
BEGIN:VEVENT
DTSTART;TZID=America/Chicago:20250716T103000
DTEND;TZID=America/Chicago:20250716T143000
DTSTAMP:20260420T014025
CREATED:20250716T162857Z
LAST-MODIFIED:20250716T162857Z
UID:10005678-1752661800-1752676200@visitjacksontn.com
SUMMARY:Lost in the Rhythm: An Escape Room Adventure
DESCRIPTION:Don’t miss a free fun escape room adventure at the Carnegie! \n​”Welcome to the Carnegie Center for Arts and History\, where the spirit of blue suede legends echoes through every record and signed guitar. You came for an exclusive tour of the West Tennessee musicians exhibit\, but when one of you accidentally nudges an old guitar stand near the front desk\, a forgotten security system is triggered leading to a lockdown! Can you retrace the beat\, decode the legends\, and escape the museum before you become part of the exhibit?” \nThis escape room is for ages 13+ years old. Sign up here: https://lu.ma/2byl6cja.
URL:https://visitjacksontn.com/event/lost-in-the-rhythm-an-escape-room-adventure/
LOCATION:The Carnegie Center for Arts and History\, 305 E. College Street\, Jackson\, T\, 38301\, United States
CATEGORIES:Arts & Culture,Events
ATTACH;FMTTYPE=image/png:https://visitjacksontn.com/wp-content/uploads/EscapeRoomFlyer.png
END:VEVENT
END:VCALENDAR