BEGIN:VCALENDAR
VERSION:2.0
PRODID:-//Jackson Tourism - ECPv6.15.18//NONSGML v1.0//EN
CALSCALE:GREGORIAN
METHOD:PUBLISH
X-WR-CALNAME:Jackson Tourism
X-ORIGINAL-URL:https://visitjacksontn.com
X-WR-CALDESC:Events for Jackson Tourism
REFRESH-INTERVAL;VALUE=DURATION:PT1H
X-Robots-Tag:noindex
X-PUBLISHED-TTL:PT1H
BEGIN:VTIMEZONE
TZID:America/Chicago
BEGIN:DAYLIGHT
TZOFFSETFROM:-0600
TZOFFSETTO:-0500
TZNAME:CDT
DTSTART:20240310T080000
END:DAYLIGHT
BEGIN:STANDARD
TZOFFSETFROM:-0500
TZOFFSETTO:-0600
TZNAME:CST
DTSTART:20241103T070000
END:STANDARD
BEGIN:DAYLIGHT
TZOFFSETFROM:-0600
TZOFFSETTO:-0500
TZNAME:CDT
DTSTART:20250309T080000
END:DAYLIGHT
BEGIN:STANDARD
TZOFFSETFROM:-0500
TZOFFSETTO:-0600
TZNAME:CST
DTSTART:20251102T070000
END:STANDARD
BEGIN:DAYLIGHT
TZOFFSETFROM:-0600
TZOFFSETTO:-0500
TZNAME:CDT
DTSTART:20260308T080000
END:DAYLIGHT
BEGIN:STANDARD
TZOFFSETFROM:-0500
TZOFFSETTO:-0600
TZNAME:CST
DTSTART:20261101T070000
END:STANDARD
END:VTIMEZONE
BEGIN:VEVENT
DTSTART;VALUE=DATE:20250626
DTEND;VALUE=DATE:20250630
DTSTAMP:20260419T234823
CREATED:20250311T135916Z
LAST-MODIFIED:20250505T160512Z
UID:10005383-1750896000-1751241599@visitjacksontn.com
SUMMARY:The Hunchback of Notre Dame
DESCRIPTION:Experience the powerful and breathtaking musical adaptation of The Hunchback of Notre Dame! \nBased on Victor Hugo’s timeless novel and featuring songs from Disney’s beloved animated film\, this production brings fifteenth-century Paris to life with a soaring Academy Award-nominated score by Alan Menken and Stephen Schwartz. Follow Quasimodo’s journey from the bell towers of Notre Dame to the heart of the Feast of Fools\, where love\, fate\, and courage collide in an unforgettable tale.
URL:https://visitjacksontn.com/event/the-hunchback-of-notre-dame/
LOCATION:The Ned McWherter West TN Cultural Arts Center\, 314 E. Main St.\, Jackson\, TN\, 38301\, United States
CATEGORIES:Arts & Culture,Events,Music
ATTACH;FMTTYPE=image/jpeg:https://visitjacksontn.com/wp-content/uploads/482901112_18379725931138986_4982906796969938936_n-1.jpg
END:VEVENT
BEGIN:VEVENT
DTSTART;TZID=America/Chicago:20250626T180000
DTEND;TZID=America/Chicago:20250626T200000
DTSTAMP:20260419T234823
CREATED:20250611T144828Z
LAST-MODIFIED:20250611T144849Z
UID:10005614-1750960800-1750968000@visitjacksontn.com
SUMMARY:Oldtime Stringband Scramble
DESCRIPTION:The Carnegie Center for Arts and History is pleased to announce the upcoming Oldtime Stringband Scramble\, held in conjunction with the Tennessee Music Boxes exhibition from the Ellis Truett Collection. Musicians of all skill levels are invited to participate in this unique and entertaining event. \nFor those unfamiliar with a “Scramble\,” here’s how it works: \nThe band scramble is a long-standing tradition at music festivals and gatherings\, offering a relaxed\, enjoyable opportunity for musicians to play together. The focus is on participation\, fun\, and community—not competition. \nHere’s how to join: \n\nRegister at the event and drop your name into the bucket for your instrument.\nBands will be formed at random from the pool of registered musicians.\nEach band will take turns performing a song selected by its members.\nOnce a band finishes\, the next will be announced\, continuing until all participants have had a chance to perform. (Musicians playing less common instruments may be invited to join multiple bands.)\n\nWhether you’ve participated in jam sessions before or can simply play a few basic chords in time\, you’re welcome to join in. This is a wonderful way to connect with fellow musicians\, try something new\, and enjoy making music together in a relaxed\, supportive environment.
URL:https://visitjacksontn.com/event/oldtime-stringband-scramble/
LOCATION:The Carnegie Center for Arts and History\, 305 E. College Street\, Jackson\, T\, 38301\, United States
CATEGORIES:Arts & Culture,Events,Music
ATTACH;FMTTYPE=image/jpeg:https://visitjacksontn.com/wp-content/uploads/PlectralEvent.jpg
END:VEVENT
END:VCALENDAR