BEGIN:VCALENDAR
VERSION:2.0
PRODID:-//Jackson Tourism - ECPv6.15.18//NONSGML v1.0//EN
CALSCALE:GREGORIAN
METHOD:PUBLISH
X-WR-CALNAME:Jackson Tourism
X-ORIGINAL-URL:https://visitjacksontn.com
X-WR-CALDESC:Events for Jackson Tourism
REFRESH-INTERVAL;VALUE=DURATION:PT1H
X-Robots-Tag:noindex
X-PUBLISHED-TTL:PT1H
BEGIN:VTIMEZONE
TZID:America/Chicago
BEGIN:DAYLIGHT
TZOFFSETFROM:-0600
TZOFFSETTO:-0500
TZNAME:CDT
DTSTART:20240310T080000
END:DAYLIGHT
BEGIN:STANDARD
TZOFFSETFROM:-0500
TZOFFSETTO:-0600
TZNAME:CST
DTSTART:20241103T070000
END:STANDARD
BEGIN:DAYLIGHT
TZOFFSETFROM:-0600
TZOFFSETTO:-0500
TZNAME:CDT
DTSTART:20250309T080000
END:DAYLIGHT
BEGIN:STANDARD
TZOFFSETFROM:-0500
TZOFFSETTO:-0600
TZNAME:CST
DTSTART:20251102T070000
END:STANDARD
BEGIN:DAYLIGHT
TZOFFSETFROM:-0600
TZOFFSETTO:-0500
TZNAME:CDT
DTSTART:20260308T080000
END:DAYLIGHT
BEGIN:STANDARD
TZOFFSETFROM:-0500
TZOFFSETTO:-0600
TZNAME:CST
DTSTART:20261101T070000
END:STANDARD
END:VTIMEZONE
BEGIN:VEVENT
DTSTART;VALUE=DATE:20250606
DTEND;VALUE=DATE:20250609
DTSTAMP:20260420T031331
CREATED:20241113T174324Z
LAST-MODIFIED:20241113T192848Z
UID:10002878-1749168000-1749427199@visitjacksontn.com
SUMMARY:The Man Who Shot Liberty Valance | Hub City Theatre Company
DESCRIPTION:Hub City Theatre Company presents: The Man Who Shot Liberty Valance! \nStay tuned for production updates\, and mark your calendars. \nDates & Times: \nJune 6- 7:30 PM \nJune 7 – 7:30 PM \nJune 8 – 3:00 PM
URL:https://visitjacksontn.com/event/the-man-who-shot-liberty-valance-hub-city-theatre-company-2/
LOCATION:The Carnegie Center for Arts and History\, 305 E. College Street\, Jackson\, T\, 38301\, United States
CATEGORIES:Arts & Culture,Events
ATTACH;FMTTYPE=image/png:https://visitjacksontn.com/wp-content/uploads/Screenshot-2024-11-13-105615.png
END:VEVENT
BEGIN:VEVENT
DTSTART;TZID=America/Chicago:20250607T090000
DTEND;TZID=America/Chicago:20250607T170000
DTSTAMP:20260420T031331
CREATED:20250121T152422Z
LAST-MODIFIED:20250121T152422Z
UID:10005209-1749286800-1749315600@visitjacksontn.com
SUMMARY:First Annual Lavender Festival
DESCRIPTION:Experience the beauty and aroma of lavender at the First Annual Lavender Festival! \nStroll through breathtaking lavender fields in full bloom\, enjoy live music and entertainment\, and participate in hands-on workshops and activities. Discover local artisans\, indulge in delicious food\, and shop unique vendors offering one-of-a-kind treasures. Perfect for lavender lovers\, foodies\, and anyone seeking a memorable day in West Tennessee.
URL:https://visitjacksontn.com/event/first-annual-lavender-festival/
LOCATION:Lavender Kisses Farm\, Marlboro Road\, Hollow Rock\, TN\, 38342\, United States
CATEGORIES:Arts & Culture,Events,Music
ATTACH;FMTTYPE=image/jpeg:https://visitjacksontn.com/wp-content/uploads/472531959_1017114773783916_106484654294197458_n.jpg
END:VEVENT
END:VCALENDAR