BEGIN:VCALENDAR
VERSION:2.0
PRODID:-//Jackson Tourism - ECPv6.15.18//NONSGML v1.0//EN
CALSCALE:GREGORIAN
METHOD:PUBLISH
X-WR-CALNAME:Jackson Tourism
X-ORIGINAL-URL:https://visitjacksontn.com
X-WR-CALDESC:Events for Jackson Tourism
REFRESH-INTERVAL;VALUE=DURATION:PT1H
X-Robots-Tag:noindex
X-PUBLISHED-TTL:PT1H
BEGIN:VTIMEZONE
TZID:America/Chicago
BEGIN:DAYLIGHT
TZOFFSETFROM:-0600
TZOFFSETTO:-0500
TZNAME:CDT
DTSTART:20240310T080000
END:DAYLIGHT
BEGIN:STANDARD
TZOFFSETFROM:-0500
TZOFFSETTO:-0600
TZNAME:CST
DTSTART:20241103T070000
END:STANDARD
BEGIN:DAYLIGHT
TZOFFSETFROM:-0600
TZOFFSETTO:-0500
TZNAME:CDT
DTSTART:20250309T080000
END:DAYLIGHT
BEGIN:STANDARD
TZOFFSETFROM:-0500
TZOFFSETTO:-0600
TZNAME:CST
DTSTART:20251102T070000
END:STANDARD
BEGIN:DAYLIGHT
TZOFFSETFROM:-0600
TZOFFSETTO:-0500
TZNAME:CDT
DTSTART:20260308T080000
END:DAYLIGHT
BEGIN:STANDARD
TZOFFSETFROM:-0500
TZOFFSETTO:-0600
TZNAME:CST
DTSTART:20261101T070000
END:STANDARD
END:VTIMEZONE
BEGIN:VEVENT
DTSTART;VALUE=DATE:20250419
DTEND;VALUE=DATE:20250428
DTSTAMP:20260422T112443
CREATED:20250225T172258Z
LAST-MODIFIED:20250225T172354Z
UID:10005296-1745020800-1745798399@visitjacksontn.com
SUMMARY:World's Biggest Fish Fry
DESCRIPTION:The World’s Biggest Fish Fry is a must-experience spring tradition\, serving up 12\,000 pounds of crispy\, golden fried catfish alongside a week of parades\, dancing\, rodeo nights\, carnival rides\, fishing\, and even catfish races! What started as Mule Day in 1938 has evolved into a full-fledged celebration of fishing\, food\, and fun. \nThis week-long festival features concerts\, a carnival\, grand parade\, rodeo\, and catfish races\, yes\, you read that correctly! Check the event schedule for a full list of event details and locations.
URL:https://visitjacksontn.com/event/worlds-biggest-fish-fry-2/
LOCATION:Henry County Fairgrounds\, 517 Royal Oak Dr.\, Paris\, TN\, 38242\, United States
CATEGORIES:Arts & Culture,Events,Music,Sports & Outdoor
ATTACH;FMTTYPE=image/png:https://visitjacksontn.com/wp-content/uploads/fishfry-logo-3.png
END:VEVENT
BEGIN:VEVENT
DTSTART;VALUE=DATE:20250424
DTEND;VALUE=DATE:20250428
DTSTAMP:20260422T112443
CREATED:20250415T155607Z
LAST-MODIFIED:20250415T155607Z
UID:10005507-1745452800-1745798399@visitjacksontn.com
SUMMARY:Boeing Boeing
DESCRIPTION:Get ready for a wild ride with Boeing Boeing — a laugh-out-loud farce filled with unexpected arrivals\, chaotic connections\, and three glamorous flight attendants from three different countries… American.  Italian.  German. (And they definitely don’t know about each other.) \nDon’t miss the ultimate layover in Paris as one bachelor tries to keep his love life on schedule… but turbulence is coming in hot. Grab your boarding pass here! \nSchedule: \n• Wednesday\, April 23 at 6:30 PM – Preview Party ($50 with wine\, beer & hors d’oeuvres!) \n• Thursday\, April 24 at 7:30 PM \n• Friday\, April 25 at 7:30 PM \n• Saturday\, April 26 at 2:00 PM & 7:30 PM \n• Sunday\, April 27 at 2:00 PM
URL:https://visitjacksontn.com/event/boeing-boeing/
LOCATION:The Ned McWherter West TN Cultural Arts Center\, 314 E. Main St.\, Jackson\, TN\, 38301\, United States
CATEGORIES:Arts & Culture,Events
ATTACH;FMTTYPE=image/jpeg:https://visitjacksontn.com/wp-content/uploads/490416949_1223169309811766_7423150656211337636_n.jpg
END:VEVENT
BEGIN:VEVENT
DTSTART;VALUE=DATE:20250425
DTEND;VALUE=DATE:20250428
DTSTAMP:20260422T112443
CREATED:20250221T155603Z
LAST-MODIFIED:20250221T155603Z
UID:10005281-1745539200-1745798399@visitjacksontn.com
SUMMARY:Circus Classic
DESCRIPTION:Circus Classic is bringing the magic of the Big Top to Jackson\, Tennessee for an unforgettable family experience! \nWith dazzling performances\, thrilling acts\, and classic circus fun\, audiences will be transported to a world of wonder. Early bird tickets for adults are just $17.95 for a limited time\, and seats are selling fast. \nGates open two hours before each show\, giving families time to explore the Kids Fun Zone\, featuring pony rides\, a petting zoo\, face painting\, a bounce house\, and classic circus treats. This spectacular event promises excitement\, laughter\, and memories for all ages.
URL:https://visitjacksontn.com/event/circus-classic/
LOCATION:Jackson Fairgrounds\, 800 S. Highland Ave\, Jackson\, TN\, 38301\, United States
CATEGORIES:Arts & Culture,Events,Music
ATTACH;FMTTYPE=image/jpeg:https://visitjacksontn.com/wp-content/uploads/475440963_953508760309959_7482328839141631282_n.jpg
END:VEVENT
END:VCALENDAR