BEGIN:VCALENDAR
VERSION:2.0
PRODID:-//Jackson Tourism - ECPv6.15.20//NONSGML v1.0//EN
CALSCALE:GREGORIAN
METHOD:PUBLISH
X-ORIGINAL-URL:https://visitjacksontn.com
X-WR-CALDESC:Events for Jackson Tourism
REFRESH-INTERVAL;VALUE=DURATION:PT1H
X-Robots-Tag:noindex
X-PUBLISHED-TTL:PT1H
BEGIN:VTIMEZONE
TZID:America/Chicago
BEGIN:DAYLIGHT
TZOFFSETFROM:-0600
TZOFFSETTO:-0500
TZNAME:CDT
DTSTART:20240310T080000
END:DAYLIGHT
BEGIN:STANDARD
TZOFFSETFROM:-0500
TZOFFSETTO:-0600
TZNAME:CST
DTSTART:20241103T070000
END:STANDARD
BEGIN:DAYLIGHT
TZOFFSETFROM:-0600
TZOFFSETTO:-0500
TZNAME:CDT
DTSTART:20250309T080000
END:DAYLIGHT
BEGIN:STANDARD
TZOFFSETFROM:-0500
TZOFFSETTO:-0600
TZNAME:CST
DTSTART:20251102T070000
END:STANDARD
BEGIN:DAYLIGHT
TZOFFSETFROM:-0600
TZOFFSETTO:-0500
TZNAME:CDT
DTSTART:20260308T080000
END:DAYLIGHT
BEGIN:STANDARD
TZOFFSETFROM:-0500
TZOFFSETTO:-0600
TZNAME:CST
DTSTART:20261101T070000
END:STANDARD
END:VTIMEZONE
BEGIN:VEVENT
DTSTART;TZID=America/Chicago:20250412T090000
DTEND;TZID=America/Chicago:20250412T140000
DTSTAMP:20260423T002659
CREATED:20250221T171945Z
LAST-MODIFIED:20250221T171945Z
UID:10005283-1744448400-1744466400@visitjacksontn.com
SUMMARY:The Medina Market
DESCRIPTION:The Medina Market returns in 2025\, bringing the best of local farmers\, artisans\, and makers to the heart of Medina every 2nd Saturday! \nVisitors can browse a variety of fresh produce\, handmade crafts\, unique gifts\, baked and canned goods\, and even meet friendly farm animals. \nThis vibrant market is the perfect place to support local vendors\, find one-of-a-kind treasures\, and enjoy a lively community atmosphere. Don’t miss out on this seasonal tradition in downtown Medina!
URL:https://visitjacksontn.com/event/the-medina-market/
LOCATION:The Depot Downtown\, 201 S Main St\, Medina\, TN\, 38355\, United States
CATEGORIES:Arts & Culture,Events
ATTACH;FMTTYPE=image/jpeg:https://visitjacksontn.com/wp-content/uploads/475968717_122162309864317264_7986995844849371257_n.jpg
END:VEVENT
BEGIN:VEVENT
DTSTART;TZID=America/Chicago:20250412T160000
DTEND;TZID=America/Chicago:20250412T160000
DTSTAMP:20260423T002659
CREATED:20250228T173513Z
LAST-MODIFIED:20250327T143723Z
UID:10005325-1744473600-1744473600@visitjacksontn.com
SUMMARY:"Hope and Deliverance" Choral Concert
DESCRIPTION:The Jackson Choral Society and the Lane College choir will combine for “Hope and Deliverance”. This dynamic and moving program that includes John Rutter’s “Requiem” and Mark Hayes’ “Spirit Suite”. The concert\, directed by Zach Young and Alexis Rainbow\, will be in the acoustically excellent and handicap accessible sanctuary of the First Baptist Church. Additional information is available on the JCS website\, or on Facebook. \nTickets will be available from choir members\, or at the door. Tickets are $15 for students and $20 for adults. Doors open 30 minutes before the concert.
URL:https://visitjacksontn.com/event/hope-and-deliverance-choral-concert/
LOCATION:First Baptist Church\, 1627 N Highland Ave.\, Jackson\, TN\, 38301\, United States
CATEGORIES:Arts & Culture,Events,Music
ATTACH;FMTTYPE=image/jpeg:https://visitjacksontn.com/wp-content/uploads/Hope-Deliverance-JCS-concert-sheet.jpg
END:VEVENT
BEGIN:VEVENT
DTSTART;TZID=America/Chicago:20250412T190000
DTEND;TZID=America/Chicago:20250412T220000
DTSTAMP:20260423T002659
CREATED:20241105T223745Z
LAST-MODIFIED:20250410T151650Z
UID:10002820-1744484400-1744495200@visitjacksontn.com
SUMMARY:Jackson's Got Talent
DESCRIPTION:It’s your time to shine! \nGet ready for an unforgettable night of local talent at the First Annual Jackson’s Got Talent! \nHosted by LOLO Pritchard\, Mary Billingsley and The Exchange Club – Carl Perkins Center for the Prevention of Child Abuse\, this exciting event will feature 20 performers showcasing their unique skills in a fun and friendly competition. \nIf you think you have what it takes – submit your application today and be part of this exciting community event!! \nFor more information visit Carl Perkins Center for Child Abuse Prevention. \n  \n 
URL:https://visitjacksontn.com/event/jacksons-got-talent/
LOCATION:The Ned McWherter West TN Cultural Arts Center\, 314 E. Main St.\, Jackson\, TN\, 38301\, United States
CATEGORIES:Arts & Culture,Events,Music
ATTACH;FMTTYPE=image/jpeg:https://visitjacksontn.com/wp-content/uploads/Got-Talent.jpeg
END:VEVENT
END:VCALENDAR