BEGIN:VCALENDAR
VERSION:2.0
PRODID:-//Jackson Tourism - ECPv6.15.18//NONSGML v1.0//EN
CALSCALE:GREGORIAN
METHOD:PUBLISH
X-WR-CALNAME:Jackson Tourism
X-ORIGINAL-URL:https://visitjacksontn.com
X-WR-CALDESC:Events for Jackson Tourism
REFRESH-INTERVAL;VALUE=DURATION:PT1H
X-Robots-Tag:noindex
X-PUBLISHED-TTL:PT1H
BEGIN:VTIMEZONE
TZID:America/Chicago
BEGIN:DAYLIGHT
TZOFFSETFROM:-0600
TZOFFSETTO:-0500
TZNAME:CDT
DTSTART:20240310T080000
END:DAYLIGHT
BEGIN:STANDARD
TZOFFSETFROM:-0500
TZOFFSETTO:-0600
TZNAME:CST
DTSTART:20241103T070000
END:STANDARD
BEGIN:DAYLIGHT
TZOFFSETFROM:-0600
TZOFFSETTO:-0500
TZNAME:CDT
DTSTART:20250309T080000
END:DAYLIGHT
BEGIN:STANDARD
TZOFFSETFROM:-0500
TZOFFSETTO:-0600
TZNAME:CST
DTSTART:20251102T070000
END:STANDARD
BEGIN:DAYLIGHT
TZOFFSETFROM:-0600
TZOFFSETTO:-0500
TZNAME:CDT
DTSTART:20260308T080000
END:DAYLIGHT
BEGIN:STANDARD
TZOFFSETFROM:-0500
TZOFFSETTO:-0600
TZNAME:CST
DTSTART:20261101T070000
END:STANDARD
END:VTIMEZONE
BEGIN:VEVENT
DTSTART;TZID=America/Chicago:20250402T130000
DTEND;TZID=America/Chicago:20250402T130000
DTSTAMP:20260422T112443
CREATED:20250303T155622Z
LAST-MODIFIED:20250303T155628Z
UID:10005327-1743598800-1743598800@visitjacksontn.com
SUMMARY:The Griot Collective of West Tennessee Poetry Workshop
DESCRIPTION:The Griot Collective of West Tennessee and Lane College will celebrate National Poetry Month with award winning poet Major Jackson. Jackson will conduct a poetry workshop for students from Jackson State Community College\, Union University\, the University of Memphis-Lambuth and Lane College. At 6pm\, Jackson will give a reading of his work\, followed by a Q&A. \nThis event\, made possible by the Tennessee Arts Commission and the Jackson Arts Council\, is free and open to the public. For details\, contact Dr. Richard Boada: (731) 215-0713/rboada@lanecollege.edu or James E Cherry: (731) 422-2524/thegriotcollective@yahoo.com.
URL:https://visitjacksontn.com/event/the-griot-collective-of-west-tennessee-poetry-workshop/
LOCATION:Lane College\, 545 Lane Ave.\, Jackson\, TN\, 38301\, United States
CATEGORIES:Arts & Culture,Events
ATTACH;FMTTYPE=image/jpeg:https://visitjacksontn.com/wp-content/uploads/unnamed-5.jpg
END:VEVENT
END:VCALENDAR