BEGIN:VCALENDAR
VERSION:2.0
PRODID:-//Jackson Tourism - ECPv6.15.20//NONSGML v1.0//EN
CALSCALE:GREGORIAN
METHOD:PUBLISH
X-ORIGINAL-URL:https://visitjacksontn.com
X-WR-CALDESC:Events for Jackson Tourism
REFRESH-INTERVAL;VALUE=DURATION:PT1H
X-Robots-Tag:noindex
X-PUBLISHED-TTL:PT1H
BEGIN:VTIMEZONE
TZID:America/Chicago
BEGIN:DAYLIGHT
TZOFFSETFROM:-0600
TZOFFSETTO:-0500
TZNAME:CDT
DTSTART:20240310T080000
END:DAYLIGHT
BEGIN:STANDARD
TZOFFSETFROM:-0500
TZOFFSETTO:-0600
TZNAME:CST
DTSTART:20241103T070000
END:STANDARD
BEGIN:DAYLIGHT
TZOFFSETFROM:-0600
TZOFFSETTO:-0500
TZNAME:CDT
DTSTART:20250309T080000
END:DAYLIGHT
BEGIN:STANDARD
TZOFFSETFROM:-0500
TZOFFSETTO:-0600
TZNAME:CST
DTSTART:20251102T070000
END:STANDARD
BEGIN:DAYLIGHT
TZOFFSETFROM:-0600
TZOFFSETTO:-0500
TZNAME:CDT
DTSTART:20260308T080000
END:DAYLIGHT
BEGIN:STANDARD
TZOFFSETFROM:-0500
TZOFFSETTO:-0600
TZNAME:CST
DTSTART:20261101T070000
END:STANDARD
END:VTIMEZONE
BEGIN:VEVENT
DTSTART;VALUE=DATE:20250321
DTEND;VALUE=DATE:20250323
DTSTAMP:20260422T224554
CREATED:20250303T171913Z
LAST-MODIFIED:20250303T171913Z
UID:10005329-1742515200-1742687999@visitjacksontn.com
SUMMARY:The Savannah Sipping Society
DESCRIPTION:Don’t miss Lights Up! Theatre Co.’s production of The Savannah Sipping Society! \nThe Savannah Sipping Society follows four unique Southern women\, all needing to escape the sameness of their day-to-day routines\, are drawn together by fate—and an impromptu happy hour—and decide it’s high time to reclaim the enthusiasm for life they’ve lost through the years. Over the course of six months\, filled with laughter\, hilarious misadventures\, and the occasional liquid refreshment\, these middle-aged women successfully bond and find the confidence to jumpstart their new lives. Together\, they discover lasting friendships and a renewed determination to live in the moment—and most importantly\, realize it’s never too late to make new old friends! \nDates & Times: \nMarch 21 – 7:00 PM \nMarch 22 – 2:00 PM & 7:00 PM
URL:https://visitjacksontn.com/event/the-savannah-sipping-society/
LOCATION:First United Methodist Church\, 200 S. Church St.\, Jackson\, TN\, 38301\, United States
CATEGORIES:Arts & Culture,Events
ATTACH;FMTTYPE=image/jpeg:https://visitjacksontn.com/wp-content/uploads/svwnpjmuxbirp83yjqg8.jpg
END:VEVENT
BEGIN:VEVENT
DTSTART;TZID=America/Chicago:20250322T190000
DTEND;TZID=America/Chicago:20250322T203000
DTSTAMP:20260422T224554
CREATED:20250127T153041Z
LAST-MODIFIED:20250127T153041Z
UID:10005235-1742670000-1742675400@visitjacksontn.com
SUMMARY:The Winery Comedy Tour
DESCRIPTION:Get ready to laugh the night away with The Winery Comedy Tour! \nFeaturing a lineup of top-notch stand-up comedians\, this event promises endless laughs\, great company\, and a fantastic atmosphere. Brought to you by the largest veteran-owned talent agency in the world\, it’s the perfect opportunity to unwind\, grab a drink\, and enjoy some world-class comedy. Whether you’re coming with friends or flying solo\, you’re in for an unforgettable evening. Plus\, enjoy a full dinner menu before and after the show!
URL:https://visitjacksontn.com/event/the-winery-comedy-tour/
LOCATION:Century Farm Winery\, 1548 Lower Brownsville Rd.\, Jackson\, TN\, 38301\, United States
CATEGORIES:Arts & Culture,Events
ATTACH;FMTTYPE=image/jpeg:https://visitjacksontn.com/wp-content/uploads/https___cdn.evbuc_.com_images_905384233_169397109004_1_original.jpg
END:VEVENT
END:VCALENDAR