BEGIN:VCALENDAR
VERSION:2.0
PRODID:-//Jackson Tourism - ECPv6.15.20//NONSGML v1.0//EN
CALSCALE:GREGORIAN
METHOD:PUBLISH
X-ORIGINAL-URL:https://visitjacksontn.com
X-WR-CALDESC:Events for Jackson Tourism
REFRESH-INTERVAL;VALUE=DURATION:PT1H
X-Robots-Tag:noindex
X-PUBLISHED-TTL:PT1H
BEGIN:VTIMEZONE
TZID:America/Chicago
BEGIN:DAYLIGHT
TZOFFSETFROM:-0600
TZOFFSETTO:-0500
TZNAME:CDT
DTSTART:20240310T080000
END:DAYLIGHT
BEGIN:STANDARD
TZOFFSETFROM:-0500
TZOFFSETTO:-0600
TZNAME:CST
DTSTART:20241103T070000
END:STANDARD
BEGIN:DAYLIGHT
TZOFFSETFROM:-0600
TZOFFSETTO:-0500
TZNAME:CDT
DTSTART:20250309T080000
END:DAYLIGHT
BEGIN:STANDARD
TZOFFSETFROM:-0500
TZOFFSETTO:-0600
TZNAME:CST
DTSTART:20251102T070000
END:STANDARD
BEGIN:DAYLIGHT
TZOFFSETFROM:-0600
TZOFFSETTO:-0500
TZNAME:CDT
DTSTART:20260308T080000
END:DAYLIGHT
BEGIN:STANDARD
TZOFFSETFROM:-0500
TZOFFSETTO:-0600
TZNAME:CST
DTSTART:20261101T070000
END:STANDARD
END:VTIMEZONE
BEGIN:VEVENT
DTSTART;TZID=America/Chicago:20250303T190000
DTEND;TZID=America/Chicago:20250303T190000
DTSTAMP:20260423T004323
CREATED:20250218T221920Z
LAST-MODIFIED:20250218T221932Z
UID:10005275-1741028400-1741028400@visitjacksontn.com
SUMMARY:All American Circus
DESCRIPTION:The All American Circus is coming in 2025! \nOscar Garcia presents an all-new show filled with exciting performances and fun for the whole family. Experience the thrill of live entertainment under the big top with incredible acts and unforgettable moments. \nFor tickets and more information\, visit AllAmericanCircus.com/tour-dates.
URL:https://visitjacksontn.com/event/all-american-circus/
LOCATION:Carroll County Civic Center Fairgrounds\, 201 Fairgrounds Rd\, Huntingdon\, TN\, 38344\, United States
CATEGORIES:Arts & Culture,Events,Music
ATTACH;FMTTYPE=image/jpeg:https://visitjacksontn.com/wp-content/uploads/476481526_1013529527484111_3720664805768642086_n.jpg
END:VEVENT
END:VCALENDAR