BEGIN:VCALENDAR
VERSION:2.0
PRODID:-//Jackson Tourism - ECPv6.15.20//NONSGML v1.0//EN
CALSCALE:GREGORIAN
METHOD:PUBLISH
X-ORIGINAL-URL:https://visitjacksontn.com
X-WR-CALDESC:Events for Jackson Tourism
REFRESH-INTERVAL;VALUE=DURATION:PT1H
X-Robots-Tag:noindex
X-PUBLISHED-TTL:PT1H
BEGIN:VTIMEZONE
TZID:America/Chicago
BEGIN:DAYLIGHT
TZOFFSETFROM:-0600
TZOFFSETTO:-0500
TZNAME:CDT
DTSTART:20240310T080000
END:DAYLIGHT
BEGIN:STANDARD
TZOFFSETFROM:-0500
TZOFFSETTO:-0600
TZNAME:CST
DTSTART:20241103T070000
END:STANDARD
BEGIN:DAYLIGHT
TZOFFSETFROM:-0600
TZOFFSETTO:-0500
TZNAME:CDT
DTSTART:20250309T080000
END:DAYLIGHT
BEGIN:STANDARD
TZOFFSETFROM:-0500
TZOFFSETTO:-0600
TZNAME:CST
DTSTART:20251102T070000
END:STANDARD
BEGIN:DAYLIGHT
TZOFFSETFROM:-0600
TZOFFSETTO:-0500
TZNAME:CDT
DTSTART:20260308T080000
END:DAYLIGHT
BEGIN:STANDARD
TZOFFSETFROM:-0500
TZOFFSETTO:-0600
TZNAME:CST
DTSTART:20261101T070000
END:STANDARD
END:VTIMEZONE
BEGIN:VEVENT
DTSTART;VALUE=DATE:20250221
DTEND;VALUE=DATE:20250223
DTSTAMP:20260423T022151
CREATED:20241205T183113Z
LAST-MODIFIED:20241205T183113Z
UID:10005140-1740096000-1740268799@visitjacksontn.com
SUMMARY:Greater Tuna | Lights Up! Theatre Co.
DESCRIPTION:Save the date for Light’s Up! Theatre Co.’s production of Greater Tuna! \nStay tuned for more information- you don’t want to miss this laugh-out-loud comedy!
URL:https://visitjacksontn.com/event/greater-tuna-lights-up-theatre-co/
LOCATION:TN
CATEGORIES:Arts & Culture,Events
ATTACH;FMTTYPE=image/jpeg:https://visitjacksontn.com/wp-content/uploads/469332230_612621134445322_5418903691865606271_n.jpg
END:VEVENT
BEGIN:VEVENT
DTSTART;TZID=America/Chicago:20250222T160000
DTEND;TZID=America/Chicago:20250222T160000
DTSTAMP:20260423T022151
CREATED:20250218T154357Z
LAST-MODIFIED:20250218T155700Z
UID:10005272-1740240000-1740240000@visitjacksontn.com
SUMMARY:Mardi Gras and Gumbo Cook-Off
DESCRIPTION:Join Franklin’s Little Bar for their Inaugural Mardi Gras Celebration!  \nEnjoy surprise treats straight from the Crescent City\, festive drinks\, and lively vibes. Think you’ve got the best gumbo in town? Enter the Gumbo Cook-Off for a chance to win prizes and prestige!
URL:https://visitjacksontn.com/event/mardi-gras-and-gumbo-cook-off/
LOCATION:Franklin’s Little Bar\, 205 S Shannon St\, Jackson\, TN\, 38301\, United States
CATEGORIES:Arts & Culture,Events
ATTACH;FMTTYPE=image/jpeg:https://visitjacksontn.com/wp-content/uploads/476485459_122182663466253395_8620534673192008865_n.jpg
END:VEVENT
END:VCALENDAR