BEGIN:VCALENDAR
VERSION:2.0
PRODID:-//Jackson Tourism - ECPv6.15.20//NONSGML v1.0//EN
CALSCALE:GREGORIAN
METHOD:PUBLISH
X-ORIGINAL-URL:https://visitjacksontn.com
X-WR-CALDESC:Events for Jackson Tourism
REFRESH-INTERVAL;VALUE=DURATION:PT1H
X-Robots-Tag:noindex
X-PUBLISHED-TTL:PT1H
BEGIN:VTIMEZONE
TZID:America/Chicago
BEGIN:DAYLIGHT
TZOFFSETFROM:-0600
TZOFFSETTO:-0500
TZNAME:CDT
DTSTART:20240310T080000
END:DAYLIGHT
BEGIN:STANDARD
TZOFFSETFROM:-0500
TZOFFSETTO:-0600
TZNAME:CST
DTSTART:20241103T070000
END:STANDARD
BEGIN:DAYLIGHT
TZOFFSETFROM:-0600
TZOFFSETTO:-0500
TZNAME:CDT
DTSTART:20250309T080000
END:DAYLIGHT
BEGIN:STANDARD
TZOFFSETFROM:-0500
TZOFFSETTO:-0600
TZNAME:CST
DTSTART:20251102T070000
END:STANDARD
BEGIN:DAYLIGHT
TZOFFSETFROM:-0600
TZOFFSETTO:-0500
TZNAME:CDT
DTSTART:20260308T080000
END:DAYLIGHT
BEGIN:STANDARD
TZOFFSETFROM:-0500
TZOFFSETTO:-0600
TZNAME:CST
DTSTART:20261101T070000
END:STANDARD
END:VTIMEZONE
BEGIN:VEVENT
DTSTART;TZID=America/Chicago:20250206T180000
DTEND;TZID=America/Chicago:20250206T203000
DTSTAMP:20260423T003404
CREATED:20250121T211629Z
LAST-MODIFIED:20250121T212320Z
UID:10005219-1738864800-1738873800@visitjacksontn.com
SUMMARY:Galentine Paint & Sip
DESCRIPTION:Celebrate friendship at the Galentine Paint & Sip at Samuel T. Bryant Distillery! \nPerfect for beginners\, this step-by-step painting class will guide you in creating a fun Valentine-inspired masterpiece. Arrive early to savor some of the distillery’s delicious drinks\, and feel free to bring your favorite snacks or finger foods. Plus\, $5 of each ticket goes toward a drink of your choice. \nGather your besties for an unforgettable girls’ night out filled with creativity\, laughter\, and great drinks. Reserve your spot today!
URL:https://visitjacksontn.com/event/galentine-paint-sip/
LOCATION:Samuel T Bryant Distillery\, 1331 Lower Brownsville Rd\, Jackson\, TN\, 38301\, United States
CATEGORIES:Arts & Culture,Events
ATTACH;FMTTYPE=image/jpeg:https://visitjacksontn.com/wp-content/uploads/473764004_581863818044161_1050937035361067513_n.jpg
END:VEVENT
END:VCALENDAR