BEGIN:VCALENDAR
VERSION:2.0
PRODID:-//Jackson Tourism - ECPv6.15.20//NONSGML v1.0//EN
CALSCALE:GREGORIAN
METHOD:PUBLISH
X-WR-CALNAME:Jackson Tourism
X-ORIGINAL-URL:https://visitjacksontn.com
X-WR-CALDESC:Events for Jackson Tourism
REFRESH-INTERVAL;VALUE=DURATION:PT1H
X-Robots-Tag:noindex
X-PUBLISHED-TTL:PT1H
BEGIN:VTIMEZONE
TZID:America/Chicago
BEGIN:DAYLIGHT
TZOFFSETFROM:-0600
TZOFFSETTO:-0500
TZNAME:CDT
DTSTART:20240310T080000
END:DAYLIGHT
BEGIN:STANDARD
TZOFFSETFROM:-0500
TZOFFSETTO:-0600
TZNAME:CST
DTSTART:20241103T070000
END:STANDARD
BEGIN:DAYLIGHT
TZOFFSETFROM:-0600
TZOFFSETTO:-0500
TZNAME:CDT
DTSTART:20250309T080000
END:DAYLIGHT
BEGIN:STANDARD
TZOFFSETFROM:-0500
TZOFFSETTO:-0600
TZNAME:CST
DTSTART:20251102T070000
END:STANDARD
BEGIN:DAYLIGHT
TZOFFSETFROM:-0600
TZOFFSETTO:-0500
TZNAME:CDT
DTSTART:20260308T080000
END:DAYLIGHT
BEGIN:STANDARD
TZOFFSETFROM:-0500
TZOFFSETTO:-0600
TZNAME:CST
DTSTART:20261101T070000
END:STANDARD
END:VTIMEZONE
BEGIN:VEVENT
DTSTART;VALUE=DATE:20250117
DTEND;VALUE=DATE:20250120
DTSTAMP:20260423T070346
CREATED:20241113T165146Z
LAST-MODIFIED:20250106T155228Z
UID:10002872-1737072000-1737331199@visitjacksontn.com
SUMMARY:Barefoot in the Park | Hub City Theatre Company
DESCRIPTION:Experience the comedy and charm of Neil Simon’s Barefoot in the Park\, presented by Hub City Theatre Co.! This classic story follows newlyweds Corie and Paul\, whose contrasting personalities—Corie’s impulsive nature versus Paul’s cautious approach—lead to hilarious and heartwarming moments as they navigate their first apartment and the quirky people around them. \nEnjoy a special preview party before the show officially opens! Guests will enjoy delicious heavy hors d’oeuvres and beverages as they mingle and enjoy the final dress rehearsal. Stay for an exclusive first look at the show! Alcoholic beverages will be available for guests aged 21 and older. Get your tickets here! \nDates & Times: \nJanuary 17 – 7:30 PM \nJanuary 18 – 7:30 PM \nJanuary 19 – 3:00 PM
URL:https://visitjacksontn.com/event/barefoot-in-the-parkbarefoot-in-the-park-hub-city-theatre-company/
LOCATION:Turntable Coffee\, 300 E Main Street\, Jackson\, TN\, 38301\, United States
CATEGORIES:Arts & Culture,Events
ATTACH;FMTTYPE=image/png:https://visitjacksontn.com/wp-content/uploads/Screenshot-2024-11-12-143338.png
END:VEVENT
BEGIN:VEVENT
DTSTART;VALUE=DATE:20250117
DTEND;VALUE=DATE:20250119
DTSTAMP:20260423T070346
CREATED:20241121T163848Z
LAST-MODIFIED:20250109T175111Z
UID:10002922-1737072000-1737244799@visitjacksontn.com
SUMMARY:Design Dash
DESCRIPTION:West Tennessee artists have the chance to leave a lasting impression on Downtown Jackson at the Design Dash Showcase. \nOur Jackson Home\, in partnership with the City of Jackson\, is hosting Design Dash—a public art design challenge for artist teams of two. Artists have the chance to win $11\,000 to create the city’s newest mural! Teams will receive the mural’s location and theme only when the event begins\, ensuring a thrilling Mystery Mural Challenge. The two-day event will feature collaboration\, mentorship from professional muralists\, free meals\, and a Design Dash Showcase where the top team will be awarded the $11\,000 budget to bring their mural to life. \nWatch as artist teams present their mural designs to you\, the audience! Get the chance to connect with the artists and ask questions about their designs\, and see which of the teams gets chosen to install their mural design! \nDates & Times: \nJan. 17th: 6:00 p.m. – 10:00 p.m. \nJan. 18th: 8:00 a.m. – 3:00 p.m. \nShowcase: Jan. 18th\, 4:00 p.m.
URL:https://visitjacksontn.com/event/design-dash/
LOCATION:The Co\, 541 Wiley Parker Road\, Jackson\, TN\, 38305\, United States
CATEGORIES:Arts & Culture,Events
ATTACH;FMTTYPE=image/webp:https://visitjacksontn.com/wp-content/uploads/design-dash-horizantal-2-1024x577-1-1.webp
END:VEVENT
BEGIN:VEVENT
DTSTART;TZID=America/Chicago:20250118T190000
DTEND;TZID=America/Chicago:20250118T190000
DTSTAMP:20260423T070346
CREATED:20241125T205825Z
LAST-MODIFIED:20241125T210011Z
UID:10005125-1737226800-1737226800@visitjacksontn.com
SUMMARY:Let Freedom Swing: A Tribute to the Life and Legacy of Dr. Martin Luther King\, Jr.
DESCRIPTION:The Jazz Foundation of West Tennessee presents Let Freedom Swing: A Tribute to the Life and Legacy of Dr. Martin Luther King\, Jr. \nThis special evening will feature two exceptional musicians: Memphis native Joe Restivo and soulful singer Patrice Williamson. Restivo\, a versatile artist who began his musical journey in punk bands before immersing himself in blues and jazz\, honed his craft in New York City under the mentorship of jazz greats like Cannonball Adderley and Benny Powell. After returning to Memphis\, he has continued to captivate audiences with his complex jazz style. Patrice Williamson\, known for her evocative voice and impressive scat singing\, has been compared to legends like Ella Fitzgerald and Sarah Vaughan. A favorite on the Boston music scene\, she has performed with renowned jazz artists such as Danilo Perez\, Joe Lovano\, and Terri Lynne Carrington. An Associate Professor of Voice at Berklee College of Music\, she also spearheaded the Ella Project\, celebrating Fitzgerald’s legacy. This concert promises to honor both Dr. King’s enduring legacy and the timeless tradition of jazz music. \nTickets are $33 (with fees).
URL:https://visitjacksontn.com/event/let-freedom-swing-a-tribute-to-the-life-and-legacy-of-dr-martin-luther-king-jr/
LOCATION:The Ned McWherter West TN Cultural Arts Center\, 314 E. Main St.\, Jackson\, TN\, 38301\, United States
CATEGORIES:Arts & Culture,Events,Music
ATTACH;FMTTYPE=image/jpeg:https://visitjacksontn.com/wp-content/uploads/let-freedom-swing-flyer_1732113053.jpg
END:VEVENT
END:VCALENDAR