BEGIN:VCALENDAR
VERSION:2.0
PRODID:-//Jackson Tourism - ECPv6.15.20//NONSGML v1.0//EN
CALSCALE:GREGORIAN
METHOD:PUBLISH
X-WR-CALNAME:Jackson Tourism
X-ORIGINAL-URL:https://visitjacksontn.com
X-WR-CALDESC:Events for Jackson Tourism
REFRESH-INTERVAL;VALUE=DURATION:PT1H
X-Robots-Tag:noindex
X-PUBLISHED-TTL:PT1H
BEGIN:VTIMEZONE
TZID:America/Chicago
BEGIN:DAYLIGHT
TZOFFSETFROM:-0600
TZOFFSETTO:-0500
TZNAME:CDT
DTSTART:20230312T080000
END:DAYLIGHT
BEGIN:STANDARD
TZOFFSETFROM:-0500
TZOFFSETTO:-0600
TZNAME:CST
DTSTART:20231105T070000
END:STANDARD
BEGIN:DAYLIGHT
TZOFFSETFROM:-0600
TZOFFSETTO:-0500
TZNAME:CDT
DTSTART:20240310T080000
END:DAYLIGHT
BEGIN:STANDARD
TZOFFSETFROM:-0500
TZOFFSETTO:-0600
TZNAME:CST
DTSTART:20241103T070000
END:STANDARD
BEGIN:DAYLIGHT
TZOFFSETFROM:-0600
TZOFFSETTO:-0500
TZNAME:CDT
DTSTART:20250309T080000
END:DAYLIGHT
BEGIN:STANDARD
TZOFFSETFROM:-0500
TZOFFSETTO:-0600
TZNAME:CST
DTSTART:20251102T070000
END:STANDARD
END:VTIMEZONE
BEGIN:VEVENT
DTSTART;TZID=America/Chicago:20241206T180000
DTEND;TZID=America/Chicago:20241206T180000
DTSTAMP:20260424T091948
CREATED:20241030T175927Z
LAST-MODIFIED:20241107T172149Z
UID:10002770-1733508000-1733508000@visitjacksontn.com
SUMMARY:Age of Elegance - 55 & Up Talent Showcase
DESCRIPTION:Jackson Parks and Recreation presents the 3rd Annual 55 & Up Talent Showcase! Enjoy a night of entertainment\, surprises\, and community performances. Doors open at 5 PM\, showtime at 6 PM. This is a free event! \nParticipants must be 55 or older and can register online or in person at Westwood Recreation Center by October 21st. Registration details\, including photo\, bio\, and music\, are due by November 14th at 11 AM at Westwood Center. \nFor more info\, please visit parks.jacksontn.gov or call 731-425-8382.
URL:https://visitjacksontn.com/event/3rd-annual-55-7-up-talent-showcase/
LOCATION:The Ned McWherter West TN Cultural Arts Center\, 314 E. Main St.\, Jackson\, TN\, 38301\, United States
CATEGORIES:Arts & Culture,Events,Music
ATTACH;FMTTYPE=image/jpeg:https://visitjacksontn.com/wp-content/uploads/IMG_7364.jpeg
END:VEVENT
BEGIN:VEVENT
DTSTART;TZID=America/Chicago:20241206T183000
DTEND;TZID=America/Chicago:20241206T183000
DTSTAMP:20260424T091948
CREATED:20241106T223114Z
LAST-MODIFIED:20241106T224009Z
UID:10002844-1733509800-1733509800@visitjacksontn.com
SUMMARY:Writers Night at the TN Legends of Music Museum at the Carnegie
DESCRIPTION:Writers Night at the Carnegie is an opportunity for Jacksonians to meet and learn more about our local authors. \nRyan Matthews is our featured author for December. Ryan Matthews is a young adult author and ESL teacher from Jackson\, Tennessee. His debut series\, The Release Day Saga\, is a young-adult dystopian sci-fi series. Release Day\, Kano’s Grasp\, Arjun’s Path\, and Zephyr’s Hope are available in hardcover\, paperback\, and e-book. Release Day has recently been released on Audible. \nRyan also enjoys taking nature photos\, studying foreign languages\, and playing the French horn. He holds degrees in graphic design and education. He lives in Tennessee with his wife\, daughters\, and the family pets\, Luna & Coda. \nFor more information\, visit his website at www.ryanmatthewsauthor.com or follow him on Instagram at ryanmatthews501. \nThis is a free event to the public. Space is limited.
URL:https://visitjacksontn.com/event/writers-night-at-the-tn-legends-of-music-museum-at-the-carnegie-3/
LOCATION:The Carnegie Center & The TN Legends of Music Museum\, 305 East College Street\, Jackson\, TN\, 38301\, United States
CATEGORIES:Arts & Culture,Events
ATTACH;FMTTYPE=image/jpeg:https://visitjacksontn.com/wp-content/uploads/465653257_1090146729777147_4818306163195064031_n.jpg
END:VEVENT
END:VCALENDAR