BEGIN:VCALENDAR
VERSION:2.0
PRODID:-//Jackson Tourism - ECPv6.15.20//NONSGML v1.0//EN
CALSCALE:GREGORIAN
METHOD:PUBLISH
X-ORIGINAL-URL:https://visitjacksontn.com
X-WR-CALDESC:Events for Jackson Tourism
REFRESH-INTERVAL;VALUE=DURATION:PT1H
X-Robots-Tag:noindex
X-PUBLISHED-TTL:PT1H
BEGIN:VTIMEZONE
TZID:America/Chicago
BEGIN:DAYLIGHT
TZOFFSETFROM:-0600
TZOFFSETTO:-0500
TZNAME:CDT
DTSTART:20230312T080000
END:DAYLIGHT
BEGIN:STANDARD
TZOFFSETFROM:-0500
TZOFFSETTO:-0600
TZNAME:CST
DTSTART:20231105T070000
END:STANDARD
BEGIN:DAYLIGHT
TZOFFSETFROM:-0600
TZOFFSETTO:-0500
TZNAME:CDT
DTSTART:20240310T080000
END:DAYLIGHT
BEGIN:STANDARD
TZOFFSETFROM:-0500
TZOFFSETTO:-0600
TZNAME:CST
DTSTART:20241103T070000
END:STANDARD
BEGIN:DAYLIGHT
TZOFFSETFROM:-0600
TZOFFSETTO:-0500
TZNAME:CDT
DTSTART:20250309T080000
END:DAYLIGHT
BEGIN:STANDARD
TZOFFSETFROM:-0500
TZOFFSETTO:-0600
TZNAME:CST
DTSTART:20251102T070000
END:STANDARD
END:VTIMEZONE
BEGIN:VEVENT
DTSTART;VALUE=DATE:20241107
DTEND;VALUE=DATE:20241110
DTSTAMP:20260423T121011
CREATED:20240802T140822Z
LAST-MODIFIED:20240802T140822Z
UID:10002447-1730937600-1731196799@visitjacksontn.com
SUMMARY:The Color Purple: The Musical
DESCRIPTION:The Ned presents The Color Purple – The Musical (2015 Broadway Revival Version) \nBased upon the novel written by Alice Walker and the Warner Bros./Amblin Entertainment Motion Picture\nBook by Marsha Norman \nMusic and Lyrics by Brenda Russell\, Allee Willis\, and Stephen Bray \n“The Color Purple” was produced on Broadway at the Broadway Theater by Oprah Winfrey\, Scott Sanders\, Roy Furman and Quincy Jones. The world premiere of THE COLOR PURPLE was produced by the Alliance Theatre\, Atlanta\, GA. \nDirected by Ebony Taylor \nClick here to purchase tickets and for the most up to date information. \n 
URL:https://visitjacksontn.com/event/the-color-purple-the-musical/
LOCATION:The NED\, 314 East Main Street\, Jackson\, TN\, 38301\, United States
CATEGORIES:Arts & Culture,Events,Music
ATTACH;FMTTYPE=image/jpeg:https://visitjacksontn.com/wp-content/uploads/453628511_1016342363824251_4418432807518219252_n.jpg
END:VEVENT
BEGIN:VEVENT
DTSTART;TZID=America/Chicago:20241109T100000
DTEND;TZID=America/Chicago:20241109T160000
DTSTAMP:20260423T121011
CREATED:20240826T143404Z
LAST-MODIFIED:20241021T145027Z
UID:10002508-1731146400-1731168000@visitjacksontn.com
SUMMARY:A Tennessee Christmas Market
DESCRIPTION:A Tennessee Christmas Market At Blessing Barn is a curated handcrafted vendor event. \nThis is a one stop event for all of your gift giving needs! There will be food\, snacks\, and 20+ vendors. \nFor vendor application\, please contact Dana Vaughn at 731-694-0865 or blessingbarnfarm@hotmail.com. \nClick here for more event information.
URL:https://visitjacksontn.com/event/a-tennessee-christmas-market/
LOCATION:Blessing Barn\, 80 Raines Cemetery Road\, Humboldt\, TN\, 38343\, United States
CATEGORIES:Arts & Culture,Events
ATTACH;FMTTYPE=image/jpeg:https://visitjacksontn.com/wp-content/uploads/456570249_1113927306735900_457589773698764129_n.jpg
END:VEVENT
BEGIN:VEVENT
DTSTART;TZID=America/Chicago:20241109T140000
DTEND;TZID=America/Chicago:20241109T160000
DTSTAMP:20260423T121011
CREATED:20240829T185926Z
LAST-MODIFIED:20240829T185926Z
UID:10002542-1731160800-1731168000@visitjacksontn.com
SUMMARY:Holiday Charcuterie Board Workshop
DESCRIPTION:Dive into the world of charcuterie as we guide you through the basics of cheese selection\, meat folding\, creating meat roses\, and exploring a wonderful variety of cheeses. Learn fun tidbits about charcuterie while crafting your very own board to take home and enjoy! \nWhether you’re looking for a fun day out with friends\, family\, or coworkers\, or simply eager to enhance your culinary skills\, this workshop is for you! The registration fee covers all charcuterie foods\, a board\, and even a wine glass to take home. \nDon’t miss out on this great adventure in the world of charcuterie! Reserve your spot now and unleash your inner chef.(Guests will purchase wine upon arrival) \nClick here for tickets and more event information.
URL:https://visitjacksontn.com/event/holiday-charcuterie-board-workshop/
LOCATION:Century Farm Winery\, 1548 Lower Brownsville Rd.\, Jackson\, TN\, 38301\, United States
CATEGORIES:Arts & Culture,Events
ATTACH;FMTTYPE=image/jpeg:https://visitjacksontn.com/wp-content/uploads/457015116_1036341328496508_5352544181514185698_n.jpg
END:VEVENT
END:VCALENDAR