BEGIN:VCALENDAR
VERSION:2.0
PRODID:-//Jackson Tourism - ECPv6.15.20//NONSGML v1.0//EN
CALSCALE:GREGORIAN
METHOD:PUBLISH
X-ORIGINAL-URL:https://visitjacksontn.com
X-WR-CALDESC:Events for Jackson Tourism
REFRESH-INTERVAL;VALUE=DURATION:PT1H
X-Robots-Tag:noindex
X-PUBLISHED-TTL:PT1H
BEGIN:VTIMEZONE
TZID:America/Chicago
BEGIN:DAYLIGHT
TZOFFSETFROM:-0600
TZOFFSETTO:-0500
TZNAME:CDT
DTSTART:20230312T080000
END:DAYLIGHT
BEGIN:STANDARD
TZOFFSETFROM:-0500
TZOFFSETTO:-0600
TZNAME:CST
DTSTART:20231105T070000
END:STANDARD
BEGIN:DAYLIGHT
TZOFFSETFROM:-0600
TZOFFSETTO:-0500
TZNAME:CDT
DTSTART:20240310T080000
END:DAYLIGHT
BEGIN:STANDARD
TZOFFSETFROM:-0500
TZOFFSETTO:-0600
TZNAME:CST
DTSTART:20241103T070000
END:STANDARD
BEGIN:DAYLIGHT
TZOFFSETFROM:-0600
TZOFFSETTO:-0500
TZNAME:CDT
DTSTART:20250309T080000
END:DAYLIGHT
BEGIN:STANDARD
TZOFFSETFROM:-0500
TZOFFSETTO:-0600
TZNAME:CST
DTSTART:20251102T070000
END:STANDARD
END:VTIMEZONE
BEGIN:VEVENT
DTSTART;TZID=America/Chicago:20241012T100000
DTEND;TZID=America/Chicago:20241012T180000
DTSTAMP:20260424T075223
CREATED:20240724T155236Z
LAST-MODIFIED:20240930T183506Z
UID:10002425-1728727200-1728756000@visitjacksontn.com
SUMMARY:Hatchie Bottom Bluegrass Jamboree
DESCRIPTION:Join the West Tennessee Delta Heritage Center for the 7th annual Hatchie Bottom Bluegrass Jamboree. Packed full of great bluegrass music. Shade tree pickers are welcome to come and enjoy pickin’ on the stage at 10 am. \nArts & Craft Vendors & Food truck also on site. \nStage music begins at 11 a.m. Line-up to be announced \nBring your lawn chairs. Family-Friendly & Free Event. \nClick here for more event information.
URL:https://visitjacksontn.com/event/hatchie-bottom-bluegrass-jamboree-2/
LOCATION:West Tennessee Delta Heritage Center\, 121 Sunny Hill Cove\, Brownsville\, TN\, 38012\, United States
CATEGORIES:Arts & Culture,Events,Music
ATTACH;FMTTYPE=image/jpeg:https://visitjacksontn.com/wp-content/uploads/bluegrass-delta-heritage-center.jpg
END:VEVENT
BEGIN:VEVENT
DTSTART;TZID=America/Chicago:20241012T193000
DTEND;TZID=America/Chicago:20241012T220000
DTSTAMP:20260424T075223
CREATED:20240520T175649Z
LAST-MODIFIED:20240520T175728Z
UID:10002230-1728761400-1728770400@visitjacksontn.com
SUMMARY:Disney's "Hocus Pocus" in Concert Live to Film
DESCRIPTION:The Jackson Symphony presents its 64th season. \nReady for a spectacular\, spooky season? Experience the film with a live orchestra\, a first-time event for The Jackson Symphony. Join the Symphony on Saturday\, October 12 at 7:30 pm at the Carl Perkins Civic Center. \nTo purchase season tickets\, click here. \n 
URL:https://visitjacksontn.com/event/disneys-hocus-pocus-in-concert-live-to-film/
LOCATION:Carl Perkins Civic Center\, 400 South Highland Avenue\, Jackson\, TN\, 38301\, United States
CATEGORIES:Arts & Culture,Events,Music
ATTACH;FMTTYPE=image/jpeg:https://visitjacksontn.com/wp-content/uploads/jackson-symphony.jpg
END:VEVENT
END:VCALENDAR