BEGIN:VCALENDAR
VERSION:2.0
PRODID:-//Jackson Tourism - ECPv6.15.20//NONSGML v1.0//EN
CALSCALE:GREGORIAN
METHOD:PUBLISH
X-ORIGINAL-URL:https://visitjacksontn.com
X-WR-CALDESC:Events for Jackson Tourism
REFRESH-INTERVAL;VALUE=DURATION:PT1H
X-Robots-Tag:noindex
X-PUBLISHED-TTL:PT1H
BEGIN:VTIMEZONE
TZID:America/Chicago
BEGIN:DAYLIGHT
TZOFFSETFROM:-0600
TZOFFSETTO:-0500
TZNAME:CDT
DTSTART:20230312T080000
END:DAYLIGHT
BEGIN:STANDARD
TZOFFSETFROM:-0500
TZOFFSETTO:-0600
TZNAME:CST
DTSTART:20231105T070000
END:STANDARD
BEGIN:DAYLIGHT
TZOFFSETFROM:-0600
TZOFFSETTO:-0500
TZNAME:CDT
DTSTART:20240310T080000
END:DAYLIGHT
BEGIN:STANDARD
TZOFFSETFROM:-0500
TZOFFSETTO:-0600
TZNAME:CST
DTSTART:20241103T070000
END:STANDARD
BEGIN:DAYLIGHT
TZOFFSETFROM:-0600
TZOFFSETTO:-0500
TZNAME:CDT
DTSTART:20250309T080000
END:DAYLIGHT
BEGIN:STANDARD
TZOFFSETFROM:-0500
TZOFFSETTO:-0600
TZNAME:CST
DTSTART:20251102T070000
END:STANDARD
END:VTIMEZONE
BEGIN:VEVENT
DTSTART;TZID=America/Chicago:20241011T183000
DTEND;TZID=America/Chicago:20241011T183000
DTSTAMP:20260424T075221
CREATED:20240924T163122Z
LAST-MODIFIED:20240924T163137Z
UID:10002609-1728671400-1728671400@visitjacksontn.com
SUMMARY:Writers Night at the TN Legends of Music Museum at the Carnegie
DESCRIPTION:Writers Night at the Carnegie is an opportunity for Jacksonians to meet and learn more about our local authors. \nRichard Boada is our guest for the October 11th installment. \nThis is a free event to the public. Space is limited.
URL:https://visitjacksontn.com/event/writers-night-at-the-tn-legends-of-music-museum-at-the-carnegie-2/
LOCATION:The Carnegie Center & The TN Legends of Music Museum\, 305 East College Street\, Jackson\, TN\, 38301\, United States
CATEGORIES:Arts & Culture,Events
ATTACH;FMTTYPE=image/jpeg:https://visitjacksontn.com/wp-content/uploads/460855832_1053332870125200_6108413577239689042_n.jpg
END:VEVENT
END:VCALENDAR