BEGIN:VCALENDAR
VERSION:2.0
PRODID:-//Jackson Tourism - ECPv6.15.20//NONSGML v1.0//EN
CALSCALE:GREGORIAN
METHOD:PUBLISH
X-WR-CALNAME:Jackson Tourism
X-ORIGINAL-URL:https://visitjacksontn.com
X-WR-CALDESC:Events for Jackson Tourism
REFRESH-INTERVAL;VALUE=DURATION:PT1H
X-Robots-Tag:noindex
X-PUBLISHED-TTL:PT1H
BEGIN:VTIMEZONE
TZID:America/Chicago
BEGIN:DAYLIGHT
TZOFFSETFROM:-0600
TZOFFSETTO:-0500
TZNAME:CDT
DTSTART:20230312T080000
END:DAYLIGHT
BEGIN:STANDARD
TZOFFSETFROM:-0500
TZOFFSETTO:-0600
TZNAME:CST
DTSTART:20231105T070000
END:STANDARD
BEGIN:DAYLIGHT
TZOFFSETFROM:-0600
TZOFFSETTO:-0500
TZNAME:CDT
DTSTART:20240310T080000
END:DAYLIGHT
BEGIN:STANDARD
TZOFFSETFROM:-0500
TZOFFSETTO:-0600
TZNAME:CST
DTSTART:20241103T070000
END:STANDARD
BEGIN:DAYLIGHT
TZOFFSETFROM:-0600
TZOFFSETTO:-0500
TZNAME:CDT
DTSTART:20250309T080000
END:DAYLIGHT
BEGIN:STANDARD
TZOFFSETFROM:-0500
TZOFFSETTO:-0600
TZNAME:CST
DTSTART:20251102T070000
END:STANDARD
END:VTIMEZONE
BEGIN:VEVENT
DTSTART;VALUE=DATE:20241003
DTEND;VALUE=DATE:20241005
DTSTAMP:20260423T194641
CREATED:20240916T175149Z
LAST-MODIFIED:20240916T175301Z
UID:10002565-1727913600-1728086399@visitjacksontn.com
SUMMARY:University of Tennessee Fall in the Gardens plant sale\, lecture series
DESCRIPTION:The University of Tennessee Gardens in Jackson invites you to their annual Fall in the Gardens plant sale and lecture series\, taking place October 3rd from 9AM to 8PM and October 4th from 10AM to 2PM at the West Tennessee AgResearch and Educational Center. Join in for an engaging and informative experience\, with free admission for all! \nJared Barnes and Shalena Durkot will share insight on various gardening and landscaping design topics. On the first day\, you’ll have the chance to shop from wide selection of plants\, with hundreds of varieties to choose from\, while enjoying local vendors and food trucks. The second day will focus exclusively on the plant sale. Don’t miss this opportunity to explore a wide range of plants and learn from experienced professionals. \n  \n 
URL:https://visitjacksontn.com/event/university-of-tennessee-fall-in-the-gardens-plant-sale-lecture-series/
LOCATION:West Tennessee AgResearch and Education Center\, 605 Airways Blvd\, Jackson\, TN\, 38301\, United States
CATEGORIES:Arts & Culture,Events,Sports & Outdoor
ATTACH;FMTTYPE=image/jpeg:https://visitjacksontn.com/wp-content/uploads/Garden-thumbnail.jpg
END:VEVENT
BEGIN:VEVENT
DTSTART;VALUE=DATE:20241003
DTEND;VALUE=DATE:20241006
DTSTAMP:20260423T194641
CREATED:20240826T214406Z
LAST-MODIFIED:20240826T214406Z
UID:10002536-1727913600-1728172799@visitjacksontn.com
SUMMARY:Steel Magnolias
DESCRIPTION:Concerned with a group of gossipy southern ladies in a small-town beauty parlor\, the play is alternately hilarious and touching—and\, in the end\, deeply revealing of the strength and purposefulness which underlies the antic banter of its characters. \nDirected by Billy Worboys \nStage Manager – Leo Baxter \nProductions Assistant – Ariel Baxter \nShowtimes:\nFriday\, September 27 @ 7:30 pm\, Girls Night Out\nSaturday\, September 28 @ 2:00 pm & 7:30 pm\nSunday\, September 29 @ 2:00 pm & 7:30 pm\nThursday\, October 3 @ 7:30 pm\nFriday\, October 4 @ 7:30 pm\, Girls Night Out\nSaturday\, October 5 @ 2:00 pm & 7:30 pm \nClick here to purchase tickets.
URL:https://visitjacksontn.com/event/steel-magnolias-2/
LOCATION:The Bandstand\, 120 N. Star Drive\, Jackson\, TN\, 38305\, United States
CATEGORIES:Arts & Culture,Events
ATTACH;FMTTYPE=image/jpeg:https://visitjacksontn.com/wp-content/uploads/steel-magnolias.jpg
END:VEVENT
BEGIN:VEVENT
DTSTART;VALUE=DATE:20241004
DTEND;VALUE=DATE:20241006
DTSTAMP:20260423T194641
CREATED:20240925T153852Z
LAST-MODIFIED:20240925T153959Z
UID:10002619-1728000000-1728172799@visitjacksontn.com
SUMMARY:Fall in Love with Improv
DESCRIPTION:The Hub City Theatre Company’s Improv Team is thrilled to announce our autumn Improv Show “Fall in Love with Improv” featuring the unscripted comedy you love PLUS a musical guest each night opening our shows at Turntable Coffeecounter. \nOctober 4\, will feature soulful singer\, songwriter\, playwright and activist\, LOLO! \nOctober 5\, New York Times Bestselling author and West Tennessee local\, Brad Montague\, will display his songwriting talent over an intimate acoustic set he’ll be previewing exclusively for us. \nMake it a date night\, girls’ night or start a bromance and Fall in Love with Improv! \nThis show is best enjoyed by people who are 18+. \nThe Improv team is made up of 9 incredible actors bringing their unique perspective to each scene. There are NO scripts and each show is completely different! Between the actors and the audience\, each scene is created\, embellished and enjoyed for the first time together! After almost 3 years of doing these packed shows\, the improv team has earned a reputation around town of being hilarious and one of the best ways to be entertained on the weekends. \nBYOB and/or enjoy a drink provided by Turntable which is included with your ticket!
URL:https://visitjacksontn.com/event/fall-in-love-with-improv/
LOCATION:Turntable Coffee\, 300 E Main Street\, Jackson\, TN\, 38301\, United States
CATEGORIES:Arts & Culture,Events,Music
ATTACH;FMTTYPE=image/webp:https://visitjacksontn.com/wp-content/uploads/d3a820_e8aa968a9c2e43d8a3c5f7faa85b0e99mv2.webp
END:VEVENT
BEGIN:VEVENT
DTSTART;VALUE=DATE:20241004
DTEND;VALUE=DATE:20241007
DTSTAMP:20260423T194641
CREATED:20240430T140237Z
LAST-MODIFIED:20240430T140237Z
UID:10002182-1728000000-1728259199@visitjacksontn.com
SUMMARY:53rd Annual Reelfoot Arts & Crafts Festival
DESCRIPTION:Join us for one of the top-voted festivals in Tennessee; with over 300 art\, craft\, and food vendors set up on historic Reelfoot Lake! \nFor more information\, please visit the Reelfoot Arts and Crafts website at: https://www.reelfootartsandcrafts.com/. \nClick here for more event information.
URL:https://visitjacksontn.com/event/53rd-annual-reelfoot-arts-crafts-festival/
LOCATION:Reelfoot Lake State Park\, 2595 HWY 21E\, Tiptonville\, TN\, 38079\, United States
CATEGORIES:Arts & Culture,Events
ATTACH;FMTTYPE=image/jpeg:https://visitjacksontn.com/wp-content/uploads/437850237_991149256349470_2977485057042422150_n.jpg
END:VEVENT
BEGIN:VEVENT
DTSTART;TZID=America/Chicago:20241004T093000
DTEND;TZID=America/Chicago:20241004T153000
DTSTAMP:20260423T194641
CREATED:20240930T204537Z
LAST-MODIFIED:20241030T152350Z
UID:10002634-1728034200-1728055800@visitjacksontn.com
SUMMARY:Shilo National Military Park Celebrates 162nd Anniversary of the Battle of Corinth! (OCT 4TH)
DESCRIPTION:Friday\, October 4 \nWhite House\n9:30AM – 10:00AM\nLearn about the fierce fighting at the White House on the first day of the Battle of Corinth. \n  \nDaniel Murray\n(First Person Talk)\n10:00AM – 10:30AM\nJoin Daniel Murray\, an Irish immigrant soldier\, as he shares his story of serving during the Civil War\, including his role at Battery Robinett. \n  \nBattery Powell & Confederate Breakthrough\n10:30AM – 12:00PM\nWalk with Ranger Laura Lee McKellips as she talks about the Confederate attack\, the Union’s collapse\, and street fighting in the town. \n  \nBattery Robinett\n11:00AM – 11:30AM \nExplore how Battery Robinett played a key role in the October 4 battle\, where heavy fighting took place. \n  \nHenry Robinett & the War’s Unseen Wounds\n11:30AM\nLearn about 1st Lt. Henry Robinett’s struggles with his battlefield injury and how soldiers dealt with the trauma of war. \n  \nDaniel Murray\n(First Person Talk)\n1:30PM – 2:00PM\nHear more from Daniel Murray about his experiences in the Civil War and at Battery Robinett. \n  \nKate Cumming\n2:00PM – 2:30PM\nLearn about Kate Cumming\, who cared for wounded soldiers after the Battle of Shiloh\, through her personal diary. \n  \nDaniel Murray\n2:30PM – 3:00PM\nListen to Daniel Murray’s story of life in the Regular Army and his role at Battery Robinett. \n  \nHenry Robinett & the War’s Unseen Wounds\n3:00PM – 3:30PM\nLearn more about Henry Robinett’s battle wounds and how Civil War soldiers handled the trauma of combat.
URL:https://visitjacksontn.com/event/shilo-national-military-park-celebrates-162nd-anniversary-of-the-battle-of-corinth-oct-4th/
LOCATION:Shiloh National Military Park\, 1055 Pittsburg Landing Road\, Shiloh\, TN\, 38376\, United States
CATEGORIES:Arts & Culture,Events,History & Civil War,Sports & Outdoor
ATTACH;FMTTYPE=image/jpeg:https://visitjacksontn.com/wp-content/uploads/July-7-Cannon.jpg
END:VEVENT
END:VCALENDAR