BEGIN:VCALENDAR
VERSION:2.0
PRODID:-//Jackson Tourism - ECPv6.15.20//NONSGML v1.0//EN
CALSCALE:GREGORIAN
METHOD:PUBLISH
X-WR-CALNAME:Jackson Tourism
X-ORIGINAL-URL:https://visitjacksontn.com
X-WR-CALDESC:Events for Jackson Tourism
REFRESH-INTERVAL;VALUE=DURATION:PT1H
X-Robots-Tag:noindex
X-PUBLISHED-TTL:PT1H
BEGIN:VTIMEZONE
TZID:America/Chicago
BEGIN:DAYLIGHT
TZOFFSETFROM:-0600
TZOFFSETTO:-0500
TZNAME:CDT
DTSTART:20230312T080000
END:DAYLIGHT
BEGIN:STANDARD
TZOFFSETFROM:-0500
TZOFFSETTO:-0600
TZNAME:CST
DTSTART:20231105T070000
END:STANDARD
BEGIN:DAYLIGHT
TZOFFSETFROM:-0600
TZOFFSETTO:-0500
TZNAME:CDT
DTSTART:20240310T080000
END:DAYLIGHT
BEGIN:STANDARD
TZOFFSETFROM:-0500
TZOFFSETTO:-0600
TZNAME:CST
DTSTART:20241103T070000
END:STANDARD
BEGIN:DAYLIGHT
TZOFFSETFROM:-0600
TZOFFSETTO:-0500
TZNAME:CDT
DTSTART:20250309T080000
END:DAYLIGHT
BEGIN:STANDARD
TZOFFSETFROM:-0500
TZOFFSETTO:-0600
TZNAME:CST
DTSTART:20251102T070000
END:STANDARD
END:VTIMEZONE
BEGIN:VEVENT
DTSTART;TZID=America/Chicago:20240727T190000
DTEND;TZID=America/Chicago:20240727T220000
DTSTAMP:20260425T124750
CREATED:20240709T171814Z
LAST-MODIFIED:20240709T172708Z
UID:10002388-1722106800-1722117600@visitjacksontn.com
SUMMARY:Her Needs\, His Needs Stage Play
DESCRIPTION:Get ready to embark on a laughter filled journey of romance and controversy. \nHer Needs His Needs Stage Play confronts the complacency of un-met needs in marriage. \nThis riveting stage play depicts the story of Sabrina and Craig\, a seemingly perfect couple in public\, but in private\, are on the brink of marital calamity. \nThis production has already served as a catalyst to a movement that’s leading to stronger marriages in the greater community\, thus producing parents and children who travel a different more positive path in life. \n“Her Needs\, His Needs” is a must-see event for married couples\, engaged\, or marriage hopefuls\, giving valuable insight on what it really takes to win at meeting your spouse’s needs. \nDon’t miss this opportunity to experience a show that will leave you entertained and enlightened. \nClick here for more information or purchase tickets.
URL:https://visitjacksontn.com/event/her-needs-his-needs/
LOCATION:The NED\, 314 East Main Street\, Jackson\, TN\, 38301\, United States
CATEGORIES:Arts & Culture,Events
ATTACH;FMTTYPE=image/png:https://visitjacksontn.com/wp-content/uploads/HNHN-ned.png
END:VEVENT
END:VCALENDAR