BEGIN:VCALENDAR
VERSION:2.0
PRODID:-//Jackson Tourism - ECPv6.15.20//NONSGML v1.0//EN
CALSCALE:GREGORIAN
METHOD:PUBLISH
X-ORIGINAL-URL:https://visitjacksontn.com
X-WR-CALDESC:Events for Jackson Tourism
REFRESH-INTERVAL;VALUE=DURATION:PT1H
X-Robots-Tag:noindex
X-PUBLISHED-TTL:PT1H
BEGIN:VTIMEZONE
TZID:America/Chicago
BEGIN:DAYLIGHT
TZOFFSETFROM:-0600
TZOFFSETTO:-0500
TZNAME:CDT
DTSTART:20230312T080000
END:DAYLIGHT
BEGIN:STANDARD
TZOFFSETFROM:-0500
TZOFFSETTO:-0600
TZNAME:CST
DTSTART:20231105T070000
END:STANDARD
BEGIN:DAYLIGHT
TZOFFSETFROM:-0600
TZOFFSETTO:-0500
TZNAME:CDT
DTSTART:20240310T080000
END:DAYLIGHT
BEGIN:STANDARD
TZOFFSETFROM:-0500
TZOFFSETTO:-0600
TZNAME:CST
DTSTART:20241103T070000
END:STANDARD
BEGIN:DAYLIGHT
TZOFFSETFROM:-0600
TZOFFSETTO:-0500
TZNAME:CDT
DTSTART:20250309T080000
END:DAYLIGHT
BEGIN:STANDARD
TZOFFSETFROM:-0500
TZOFFSETTO:-0600
TZNAME:CST
DTSTART:20251102T070000
END:STANDARD
END:VTIMEZONE
BEGIN:VEVENT
DTSTART;VALUE=DATE:20240718
DTEND;VALUE=DATE:20240721
DTSTAMP:20260425T093945
CREATED:20240715T173721Z
LAST-MODIFIED:20240715T173721Z
UID:10002397-1721260800-1721519999@visitjacksontn.com
SUMMARY:The Jackson Theatre Guild Presents "The Addams Family: The Musical"
DESCRIPTION:Take advantage of this delightfully ghoulish musical\, complete with all your favorite characters from the TV series and many more! Full of stand-out performances and accompanied by a live orchestra! Great fun for the whole family. Show dates are July 12-20. Presented at The Ned Arts Center by the Jackson Theatre Guild – Ordinary people. Extraordinary shows. \nThursday\, July 18 @ 7:30 pm\nFriday\, July 19 @ 7:30 pm\nSaturday\, July 20 @ 2:00 pm\nSaturday\, July 20 @ 7:30 pm \nClick here for tickets and more event information.
URL:https://visitjacksontn.com/event/the-jackson-theatre-guild-presents-the-addams-family-the-musical/
LOCATION:The NED\, 314 East Main Street\, Jackson\, TN\, 38301\, United States
CATEGORIES:Arts & Culture,Events
ATTACH;FMTTYPE=image/jpeg:https://visitjacksontn.com/wp-content/uploads/450926227_1006135904848442_6216608627497565290_n.jpg
END:VEVENT
BEGIN:VEVENT
DTSTART;TZID=America/Chicago:20240720T180000
DTEND;TZID=America/Chicago:20240720T210000
DTSTAMP:20260425T093945
CREATED:20240703T133642Z
LAST-MODIFIED:20240703T133642Z
UID:10002380-1721498400-1721509200@visitjacksontn.com
SUMMARY:Jaxon Station Royal Reclamation | Volume III
DESCRIPTION:The Jaxon Station Royal Reclamation is celebrating Black entrepreneurship\, arts\, and culture. \nHosted by Crystal’s Zen and Juice inside Jaxon Jackson station. Entertainment by Rock1 Ent (Stedman Roebuck + Band). Party starts at 6 pm! \nAll Proceeds benefit SOUL collective programming. \nClick here for more event information.
URL:https://visitjacksontn.com/event/jaxon-station-royal-reclamation-volume-iii/
LOCATION:Crystal’s Zen and Juice\, 580 S. Royal St.\, Jackson\, TN\, 38301\, United States
CATEGORIES:Arts & Culture,Events,Music
ATTACH;FMTTYPE=image/jpeg:https://visitjacksontn.com/wp-content/uploads/449780425_501101235773373_392355581921437728_n.jpg
END:VEVENT
END:VCALENDAR