BEGIN:VCALENDAR
VERSION:2.0
PRODID:-//Jackson Tourism - ECPv6.15.20//NONSGML v1.0//EN
CALSCALE:GREGORIAN
METHOD:PUBLISH
X-ORIGINAL-URL:https://visitjacksontn.com
X-WR-CALDESC:Events for Jackson Tourism
REFRESH-INTERVAL;VALUE=DURATION:PT1H
X-Robots-Tag:noindex
X-PUBLISHED-TTL:PT1H
BEGIN:VTIMEZONE
TZID:America/Chicago
BEGIN:DAYLIGHT
TZOFFSETFROM:-0600
TZOFFSETTO:-0500
TZNAME:CDT
DTSTART:20230312T080000
END:DAYLIGHT
BEGIN:STANDARD
TZOFFSETFROM:-0500
TZOFFSETTO:-0600
TZNAME:CST
DTSTART:20231105T070000
END:STANDARD
BEGIN:DAYLIGHT
TZOFFSETFROM:-0600
TZOFFSETTO:-0500
TZNAME:CDT
DTSTART:20240310T080000
END:DAYLIGHT
BEGIN:STANDARD
TZOFFSETFROM:-0500
TZOFFSETTO:-0600
TZNAME:CST
DTSTART:20241103T070000
END:STANDARD
BEGIN:DAYLIGHT
TZOFFSETFROM:-0600
TZOFFSETTO:-0500
TZNAME:CDT
DTSTART:20250309T080000
END:DAYLIGHT
BEGIN:STANDARD
TZOFFSETFROM:-0500
TZOFFSETTO:-0600
TZNAME:CST
DTSTART:20251102T070000
END:STANDARD
END:VTIMEZONE
BEGIN:VEVENT
DTSTART;VALUE=DATE:20240418
DTEND;VALUE=DATE:20240422
DTSTAMP:20260425T231709
CREATED:20240412T194032Z
LAST-MODIFIED:20240412T194052Z
UID:10002077-1713398400-1713743999@visitjacksontn.com
SUMMARY:Jackson Theatre Guild presents Rumors: A Comedy by Neil Simon
DESCRIPTION:As their tenth wedding anniversary party commences\, Charlie lies bleeding in another room\, and Myra\, his wife is nowhere in sight. The first guests scramble to get “the story” straight before the other guests arrive. As the confusions and miscommunications mount\, the evening spins off into classic farcical hilarity. \nShow Dates: April 18-21 @ The Ned \nThursday\, April 18 @ 7:30 PM\nFriday\, April 19 @ 7:30 PM\nSaturday\, April 20 @ 2:00 PM *MATINEE*\nSaturday\, April 20 @ 7:30 PM\nSunday\, April 21 @ 2:00 PM \nClick here for tickets and more information.
URL:https://visitjacksontn.com/event/rumors-a-comedy-by-neil-simon/
LOCATION:The Ned McWherter West TN Cultural Arts Center\, 314 E. Main St.\, Jackson\, TN\, 38301\, United States
CATEGORIES:Arts & Culture
ATTACH;FMTTYPE=image/webp:https://visitjacksontn.com/wp-content/uploads/Rumors-art-for-web-with-pics_3x.webp
END:VEVENT
BEGIN:VEVENT
DTSTART;TZID=America/Chicago:20240420T090000
DTEND;TZID=America/Chicago:20240421T170000
DTSTAMP:20260425T231709
CREATED:20240412T202045Z
LAST-MODIFIED:20240412T202045Z
UID:10002083-1713603600-1713718800@visitjacksontn.com
SUMMARY:Spring Arts & Crafts Festival
DESCRIPTION:There’s no better way to shake off those winter blues than with the Spring Arts & Craft Festival at The Ledge! We welcome local artisans to gather and showcase their crafts. This one-of-a-kind event in Spring Creek will feature live performances\, demonstrations\, a children’s area\, and unique vendors with a variety of handmade wood crafts\, artwork\, jewelry\, candles\, and more! Bring the whole family for a fun-filled day celebrating the arts and craft community in West Tennessee. \nSaturday (9:00 am – 5:00 pm)\nSunday (12:00 pm – 5:00 pm)
URL:https://visitjacksontn.com/event/spring-arts-crafts-festival/
LOCATION:The Ledge\, 3581 Highway 70 E\, Medina\, TN\, 38355\, United States
CATEGORIES:Arts & Culture,Events
ATTACH;FMTTYPE=image/jpeg:https://visitjacksontn.com/wp-content/uploads/420813692_359875933418084_687100235773223071_n-1.jpg
END:VEVENT
BEGIN:VEVENT
DTSTART;TZID=America/Chicago:20240420T110000
DTEND;TZID=America/Chicago:20240420T140000
DTSTAMP:20260425T231709
CREATED:20240419T135524Z
LAST-MODIFIED:20240419T135524Z
UID:10002151-1713610800-1713621600@visitjacksontn.com
SUMMARY:JMCSS Spring Fine Arts Showcase
DESCRIPTION:Come out to the Old Hickory Mall on Saturday\, April 20 from 11 am-2 pm and enjoy Elementary School performances\, Middle and High school choir and band performances\, ensembles\, solos and artwork from various schools! \nArea 1: Elementary Music – JCPenney/Food Court Area\n11:00 Arlington\n11:20 Community Montessori\n11:40 Denmark\n12:00 Isaac Lane\n12:20 Alexander\n12:40 Nova Pre K\n1:00 Pope \nArea 2: Choir Performances – Rainbow/JCPenney Area\n11:00 South Side High\n11:20 SAI Chorale\n11:40 West Bemis Middle\n12:00 Madison Academic\n12:20 Rose Hill Middle\n12:40 Liberty High\n1:00 JCT Middle\n1:20 North Side High\n1:40 JCM Middle & High\n2:00 Northeast Middle \nArea 3: Band Performances – Old Sears/Children’s Place Area\n11:00 South Side High\n11:40 Northeast Middle\n12:00 West Bemis MIddle\n12:20 North Side High\n12:40 Rose Hill Middle\n1:00 North Parkway MIddle\n1:20 JCM High\n1:40 JCM Middle & JCT Middle\n2:00 Community Montessori \nClick here for more information.
URL:https://visitjacksontn.com/event/jmcss-spring-fine-arts-showcase/
LOCATION:Old Hickory Mall\, 2021 N Highland Ave\, Jackson\, TN\, 38305\, United States
CATEGORIES:Arts & Culture,Events
ATTACH;FMTTYPE=image/jpeg:https://visitjacksontn.com/wp-content/uploads/436353148_851395113668639_9164632639867423825_n.jpg
END:VEVENT
BEGIN:VEVENT
DTSTART;TZID=America/Chicago:20240420T153000
DTEND;TZID=America/Chicago:20240420T170000
DTSTAMP:20260425T231709
CREATED:20240412T154307Z
LAST-MODIFIED:20240412T154307Z
UID:10002072-1713627000-1713632400@visitjacksontn.com
SUMMARY:Jackson Choral Society Spring Concert: "Light!"
DESCRIPTION:The Jackson Choral Society\, under the direction of Zach Young\, will be joined by members of the Jackson State Community College Innovation ensemble\, directed Esther Gray. The 80+ member combined choir will be accompanied by a string orchestra. The program will consist of several shorter pieces around the theme of “Light!\,” followed by the the Mid-South premier of Illuminare\, a recently-composed multi-movement choral work by Elaine Hagenberg. The piece takes us through a season of beauty and goodness that has been disrupted by darkness and confusion. But as Light gradually returns\, hope is restored\, illuminating our future and guiding us in peace. \nThe concert will be held at First Baptist Church on Saturday\, April 20 at 3:00 pm. Tickets are $20 at the door and $15 for students. For more information about Jackson Choral Society or the concert\, visit their Facebook page.
URL:https://visitjacksontn.com/event/jackson-choral-society-spring-concert-light/
LOCATION:First Baptist Church\, 1627 N Highland Ave.\, Jackson\, TN\, 38301\, United States
CATEGORIES:Arts & Culture,Events,Music
ATTACH;FMTTYPE=image/jpeg:https://visitjacksontn.com/wp-content/uploads/jackson-choral-society.jpg
END:VEVENT
BEGIN:VEVENT
DTSTART;TZID=America/Chicago:20240420T193000
DTEND;TZID=America/Chicago:20240420T223000
DTSTAMP:20260425T231709
CREATED:20240412T201250Z
LAST-MODIFIED:20240412T201250Z
UID:10002081-1713641400-1713652200@visitjacksontn.com
SUMMARY:National Jazz Month with "Four by Four"
DESCRIPTION:The Jazz Foundation of West Tennessee celebrates National Jazz Month with “Four by Four” on Saturday\, April 20 at 7:30 pm in The Doubletree Hotel Ballroom. \nThis event will feature Alex Upton and Rod McGaha Quartets. \nTickets are $40 and include heavy hor d’oruvres and open bar. \nClick here for tickets and more event information.
URL:https://visitjacksontn.com/event/national-jazz-month-with-four-by-four/
LOCATION:DoubleTree by Hilton\, 1770 US-45 BYP\, Jackson\, TN\, 38305\, United States
CATEGORIES:Arts & Culture,Music
ATTACH;FMTTYPE=image/jpeg:https://visitjacksontn.com/wp-content/uploads/429839529_122128915244141532_6050527835537881760_n-1.jpg
END:VEVENT
END:VCALENDAR