BEGIN:VCALENDAR
VERSION:2.0
PRODID:-//Jackson Tourism - ECPv6.15.18//NONSGML v1.0//EN
CALSCALE:GREGORIAN
METHOD:PUBLISH
X-WR-CALNAME:Jackson Tourism
X-ORIGINAL-URL:https://visitjacksontn.com
X-WR-CALDESC:Events for Jackson Tourism
REFRESH-INTERVAL;VALUE=DURATION:PT1H
X-Robots-Tag:noindex
X-PUBLISHED-TTL:PT1H
BEGIN:VTIMEZONE
TZID:America/Chicago
BEGIN:DAYLIGHT
TZOFFSETFROM:-0600
TZOFFSETTO:-0500
TZNAME:CDT
DTSTART:20240310T080000
END:DAYLIGHT
BEGIN:STANDARD
TZOFFSETFROM:-0500
TZOFFSETTO:-0600
TZNAME:CST
DTSTART:20241103T070000
END:STANDARD
BEGIN:DAYLIGHT
TZOFFSETFROM:-0600
TZOFFSETTO:-0500
TZNAME:CDT
DTSTART:20250309T080000
END:DAYLIGHT
BEGIN:STANDARD
TZOFFSETFROM:-0500
TZOFFSETTO:-0600
TZNAME:CST
DTSTART:20251102T070000
END:STANDARD
BEGIN:DAYLIGHT
TZOFFSETFROM:-0600
TZOFFSETTO:-0500
TZNAME:CDT
DTSTART:20260308T080000
END:DAYLIGHT
BEGIN:STANDARD
TZOFFSETFROM:-0500
TZOFFSETTO:-0600
TZNAME:CST
DTSTART:20261101T070000
END:STANDARD
END:VTIMEZONE
BEGIN:VEVENT
DTSTART;VALUE=DATE:20250906
DTEND;VALUE=DATE:20250908
DTSTAMP:20260419T181637
CREATED:20250328T164520Z
LAST-MODIFIED:20250328T164520Z
UID:10005447-1757116800-1757289599@visitjacksontn.com
SUMMARY:Paris Landing Arts and Crafts Festival
DESCRIPTION:The Paris Landing Arts and Crafts Festival returns to Paris Landing State Park\, showcasing a variety of handcrafted goods\, artisan products\, and unique finds. \nEnjoy a weekend filled with local craftsmanship\, delicious food\, and scenic lake views. Vendor registration opens on June 1\, 2025—don’t miss your chance to be part of this annual tradition!
URL:https://visitjacksontn.com/event/paris-landing-arts-and-crafts-festival/
LOCATION:Paris Landing State Park\, 400 Lodge Road\, Buchanan\, TN\, 38222\, United States
CATEGORIES:Arts & Culture,Events
ATTACH;FMTTYPE=image/jpeg:https://visitjacksontn.com/wp-content/uploads/475856058_122170435952294638_2036126937440014618_n.jpg
END:VEVENT
BEGIN:VEVENT
DTSTART;TZID=America/Chicago:20250912T160000
DTEND;TZID=America/Chicago:20250912T230000
DTSTAMP:20260419T181637
CREATED:20250617T190755Z
LAST-MODIFIED:20250617T190852Z
UID:10005625-1757692800-1757718000@visitjacksontn.com
SUMMARY:Catfish Derby & Riverfest
DESCRIPTION:The 2025 Catfish Derby & Riverfest returns to Savannah\, Tennessee for a weekend packed with live music\, community\, and unforgettable performances. \nHosted by Trevor Van\, the celebration kicks off Friday\, September 12 at Tennessee Street Park with artists Will Barham\, Hannah Dasher\, and Trea Landon\, with gates opening at 4 PM. On Saturday\, September 13\, the energy shifts to Main Street for a full day of music featuring Ty Moore\, Lightwatch\, Austin Bohannon\, Them Dirty Roses\, Pecos & The Rooftops\, and headliner Joe Nichols. Gates open at 12 PM. The weekend wraps up Sunday\, September 14 with A Riverfest Revelation: Sunday in the South back at Tennessee Street Park\, showcasing Hardin County’s own Darryl Worley and The Isaacs featuring Autumn Nelon Streetman. Gates open at 1 PM. \nRain or shine\, bring a chair and get ready for an incredible weekend of music and community!
URL:https://visitjacksontn.com/event/catfish-derby-riverfest/
LOCATION:Savannah Main Street\, 470 Main Street\, Savannah\, TN\, 38372\, United States
CATEGORIES:Arts & Culture,Events,Music,Sports & Outdoor
ATTACH;FMTTYPE=image/png:https://visitjacksontn.com/wp-content/uploads/cf5ec38d-e0bb-4957-addb-e3379e623eaf.png
END:VEVENT
BEGIN:VEVENT
DTSTART;VALUE=DATE:20250913
DTEND;VALUE=DATE:20250915
DTSTAMP:20260419T181637
CREATED:20250218T150626Z
LAST-MODIFIED:20250218T150626Z
UID:10005270-1757721600-1757894399@visitjacksontn.com
SUMMARY:West Tennessee Comic Con
DESCRIPTION:Get ready for an action-packed weekend at West Tennessee Comic Con!  \nThis ultimate pop culture event brings together fans of comics and is fun for the whole family. Meet special guests\, shop exclusive merch\, join fun panels\, and immerse yourself in an unforgettable experience!
URL:https://visitjacksontn.com/event/west-tennessee-comic-con-2/
LOCATION:Carl Perkins Civic Center\, 400 South Highland Avenue\, Jackson\, TN\, 38301\, United States
CATEGORIES:Arts & Culture,Events
ATTACH;FMTTYPE=image/jpeg:https://visitjacksontn.com/wp-content/uploads/477212072_122205068576240101_4221445265419380524_n.jpg
END:VEVENT
BEGIN:VEVENT
DTSTART;VALUE=DATE:20250913
DTEND;VALUE=DATE:20250915
DTSTAMP:20260419T181637
CREATED:20250624T160610Z
LAST-MODIFIED:20250624T160610Z
UID:10005649-1757721600-1757894399@visitjacksontn.com
SUMMARY:Fall Spring Creek Craft Market
DESCRIPTION:Calling all makers\, artists\, and small business owners! The Spring Creek Craft Market is back this September\, offering a vibrant space for creators to showcase handcrafted goods\, unique art\, and locally made products. \nJoin a supportive community of shoppers who value creativity and love to shop local. Whether you’re a seasoned vendor or just starting out\, this is the perfect opportunity to shine. Vendor spaces are limited\, so apply today to secure your spot!
URL:https://visitjacksontn.com/event/fall-spring-creek-craft-market/
LOCATION:The Ledge\, 3581 Highway 70 E\, Medina\, TN\, 38355\, United States
CATEGORIES:Arts & Culture,Events
ATTACH;FMTTYPE=image/jpeg:https://visitjacksontn.com/wp-content/uploads/495369541_671570885581919_5188566821484216003_n.jpg
END:VEVENT
BEGIN:VEVENT
DTSTART;TZID=America/Chicago:20250913T160000
DTEND;TZID=America/Chicago:20250913T193000
DTSTAMP:20260419T181637
CREATED:20250616T154011Z
LAST-MODIFIED:20250616T154437Z
UID:10005621-1757779200-1757791800@visitjacksontn.com
SUMMARY:Porchfest
DESCRIPTION:Save the date for Porchfest 2025\, now happening on Saturday\, September 13 in Midtown Jackson! Porchfest is shifting to the end of summer to beat the heat and give you the perfect evening to enjoy live music\, local art\, and community fun. \nThis year’s Porchfest features a full lineup of incredible musicians\, plus exciting new additions like the first-ever Poetry Porch presented by The Griot Collective of West Tennessee and a Kids’ Stage with Music with Alice and the Jackson Theatre Guild. \nBring your friends\, your lawn chairs\, and your love for local talent!
URL:https://visitjacksontn.com/event/porchfest/
LOCATION:Wisdom St. & Crescent Ave.\, Wisdom St.\, Jackson\, TN\, 38301\, United States
CATEGORIES:Arts & Culture,Events,Music
ATTACH;FMTTYPE=image/jpeg:https://visitjacksontn.com/wp-content/uploads/508017214_1141641188004520_3763104680217071115_n.jpg
END:VEVENT
BEGIN:VEVENT
DTSTART;TZID=America/Chicago:20250913T193000
DTEND;TZID=America/Chicago:20250913T210000
DTSTAMP:20260419T181637
CREATED:20250828T190451Z
LAST-MODIFIED:20250828T190451Z
UID:10005699-1757791800-1757797200@visitjacksontn.com
SUMMARY:David Nail
DESCRIPTION:We are thrilled to welcome GRAMMY-nominated\, multi-platinum country artist David Nail to The Dixie Carter PAC Saturday\, September 13. His soulful voice and chart-topping hits have made him one of country music’s most respected performers\, and we can’t wait to share this unforgettable evening with our community!
URL:https://visitjacksontn.com/event/david-nail/
LOCATION:Dixie Carter Performing Arts Center\, 191 Court Square\, Huntingdon\, TN\, 38344\, United States
CATEGORIES:Arts & Culture,Events,Music
ATTACH;FMTTYPE=image/png:https://visitjacksontn.com/wp-content/uploads/david-nail.png
END:VEVENT
BEGIN:VEVENT
DTSTART;TZID=America/Chicago:20250927T100000
DTEND;TZID=America/Chicago:20250927T160000
DTSTAMP:20260419T181637
CREATED:20250408T150314Z
LAST-MODIFIED:20250408T150314Z
UID:10005493-1758967200-1758988800@visitjacksontn.com
SUMMARY:Jackson International Food and Art Festival
DESCRIPTION:Save the date for the 2025 Jackson International Food and Art Festival! \nExperience the parade of cultures\, food\, arts & crafts\, and more at this annual event. \n 
URL:https://visitjacksontn.com/event/jackson-international-food-and-art-festival/
LOCATION:Jackson Fairgrounds\, 800 S. Highland Ave\, Jackson\, TN\, 38301\, United States
CATEGORIES:Arts & Culture,Events
ATTACH;FMTTYPE=image/png:https://visitjacksontn.com/wp-content/uploads/292324723_542323674080632_7893987385010370310_n.png
END:VEVENT
END:VCALENDAR