BEGIN:VCALENDAR
VERSION:2.0
PRODID:-//Jackson Tourism - ECPv6.15.18//NONSGML v1.0//EN
CALSCALE:GREGORIAN
METHOD:PUBLISH
X-WR-CALNAME:Jackson Tourism
X-ORIGINAL-URL:https://visitjacksontn.com
X-WR-CALDESC:Events for Jackson Tourism
REFRESH-INTERVAL;VALUE=DURATION:PT1H
X-Robots-Tag:noindex
X-PUBLISHED-TTL:PT1H
BEGIN:VTIMEZONE
TZID:America/Chicago
BEGIN:DAYLIGHT
TZOFFSETFROM:-0600
TZOFFSETTO:-0500
TZNAME:CDT
DTSTART:20240310T080000
END:DAYLIGHT
BEGIN:STANDARD
TZOFFSETFROM:-0500
TZOFFSETTO:-0600
TZNAME:CST
DTSTART:20241103T070000
END:STANDARD
BEGIN:DAYLIGHT
TZOFFSETFROM:-0600
TZOFFSETTO:-0500
TZNAME:CDT
DTSTART:20250309T080000
END:DAYLIGHT
BEGIN:STANDARD
TZOFFSETFROM:-0500
TZOFFSETTO:-0600
TZNAME:CST
DTSTART:20251102T070000
END:STANDARD
BEGIN:DAYLIGHT
TZOFFSETFROM:-0600
TZOFFSETTO:-0500
TZNAME:CDT
DTSTART:20260308T080000
END:DAYLIGHT
BEGIN:STANDARD
TZOFFSETFROM:-0500
TZOFFSETTO:-0600
TZNAME:CST
DTSTART:20261101T070000
END:STANDARD
END:VTIMEZONE
BEGIN:VEVENT
DTSTART;VALUE=DATE:20250801
DTEND;VALUE=DATE:20250804
DTSTAMP:20260419T185854
CREATED:20241113T175654Z
LAST-MODIFIED:20241120T184651Z
UID:10002879-1754006400-1754265599@visitjacksontn.com
SUMMARY:The Last Five Years | Hub City Theatre Company
DESCRIPTION:Hub City Theatre Company presents: The Last Five Years! \nStay tuned for production updates\, and mark your calendars. \nDates & Times: \nAugust 1 – 7:30 PM \nAugust 2 – 7:30 PM \nAugust 3 – 3:00 PM
URL:https://visitjacksontn.com/event/the-last-five-years-hub-city-theatre-company/
LOCATION:Turntable Coffee\, 300 E Main Street\, Jackson\, TN\, 38301\, United States
CATEGORIES:Arts & Culture,Events,Music
ATTACH;FMTTYPE=image/png:https://visitjacksontn.com/wp-content/uploads/Screenshot-2024-11-13-105626.png
END:VEVENT
BEGIN:VEVENT
DTSTART;VALUE=DATE:20250808
DTEND;VALUE=DATE:20250811
DTSTAMP:20260419T185854
CREATED:20241113T175825Z
LAST-MODIFIED:20241120T183617Z
UID:10002880-1754611200-1754870399@visitjacksontn.com
SUMMARY:The Last Five Years | Hub City Theatre Company
DESCRIPTION:Hub City Theatre Company presents: The Last Five Years! \nStay tuned for production updates\, and mark your calendars. \nDates & Times: \nAugust 8 – 7:30 PM \nAugust 9 – 7:30 PM \nAugust 10 – 3:00 PM
URL:https://visitjacksontn.com/event/the-last-five-years-hub-city-theatre-company-2/
LOCATION:Turntable Coffee\, 300 E Main Street\, Jackson\, TN\, 38301\, United States
CATEGORIES:Arts & Culture,Events,Music
ATTACH;FMTTYPE=image/png:https://visitjacksontn.com/wp-content/uploads/Screenshot-2024-11-13-105626.png
END:VEVENT
BEGIN:VEVENT
DTSTART;TZID=America/Chicago:20250808T190000
DTEND;TZID=America/Chicago:20250808T200000
DTSTAMP:20260419T185854
CREATED:20250711T153526Z
LAST-MODIFIED:20250711T153526Z
UID:10005665-1754679600-1754683200@visitjacksontn.com
SUMMARY:Echoes of Dots
DESCRIPTION:“Echoes of Dots” is an immersive performance experience featuring the original paintings of Abby Wolfzorn\, whose bold explorations of pattern\, repetition\, and color center on the theme of dots. \nEach painting comes alive through live music performances by Jerry and Lizzie Emmons\, whose contemporary classical works for clarinet and percussion are paired with Abby’s paintings. Featuring compositions by Steve Reich\, Gene Koshinski\, and John David Cope\, the music reflects the pulse\, rhythm\, and texture of the pieces—drawing the audience deeper into the worlds Abby has created in their paintings. \nWhether you come for the visual art\, the contemporary music\, or the rare chance to witness them in conversation\, “Echoes of Dots” will provide a vibrant and contemplative evening unlike anything you have attended in Jackson.
URL:https://visitjacksontn.com/event/echoes-of-dots/
LOCATION:Havner’s Frame Shop\, 105 N. Church St\, Jackson\, TN\, 38301\, United States
CATEGORIES:Arts & Culture,Events,Music
ATTACH;FMTTYPE=image/jpeg:https://visitjacksontn.com/wp-content/uploads/516855171_1306212324837520_7596091566554668967_n.jpg
END:VEVENT
BEGIN:VEVENT
DTSTART;TZID=America/Chicago:20250809T190000
DTEND;TZID=America/Chicago:20250809T203000
DTSTAMP:20260419T185854
CREATED:20250612T144059Z
LAST-MODIFIED:20250612T144115Z
UID:10005618-1754766000-1754771400@visitjacksontn.com
SUMMARY:The Winery Comedy Tour
DESCRIPTION:Get ready to laugh your socks off at The Winery Comedy Tour at Century Farm Winery – a night of hilarious stand-up and top-notch drinks! \nThe Winery Comedy Tour is hitting the road and making a stop at this awesome venue. Get ready to enjoy some hilarious stand-up comedy from talented comedians while sipping on delicious drinks. This in-person event promises to be a night full of fun and laughter. Don’t miss out on this unique comedy experience!
URL:https://visitjacksontn.com/event/the-winery-comedy-tour-3/
LOCATION:Century Farm Winery\, 1548 Lower Brownsville Rd.\, Jackson\, TN\, 38301\, United States
CATEGORIES:Arts & Culture,Events
ATTACH;FMTTYPE=image/jpeg:https://visitjacksontn.com/wp-content/uploads/487483101_955041863502669_4168466362393988362_n.jpg
END:VEVENT
BEGIN:VEVENT
DTSTART;VALUE=DATE:20250820
DTEND;VALUE=DATE:20250825
DTSTAMP:20260419T185854
CREATED:20250715T145348Z
LAST-MODIFIED:20250715T145348Z
UID:10005670-1755648000-1756079999@visitjacksontn.com
SUMMARY:Jackson City Fair
DESCRIPTION:Get ready for five full days of fun at the Jackson City Fair! From carnival rides and delicious fair food to live shows and a petting zoo\, there’s something for everyone. Tethered hot-air balloon rides will be offered on Saturday and Sunday. \nFair Hours: \nWed–Thu: 4–10PM | Fri: 4–11PM Sat: 12–11PM | Sun: 12–10PM \nAdmission\, ride wristbands\, and hot-air balloon ride tickets are available at www.jacksoncityfair.com.
URL:https://visitjacksontn.com/event/jackson-city-fair/
LOCATION:Jackson Rockabillys Stadium\, 4 Fun Place\, Jackson\, TN\, 38305\, United States
CATEGORIES:Arts & Culture,Events,Music,Sports & Outdoor
ATTACH;FMTTYPE=image/webp:https://visitjacksontn.com/wp-content/uploads/fair.webp
END:VEVENT
BEGIN:VEVENT
DTSTART;VALUE=DATE:20250821
DTEND;VALUE=DATE:20250825
DTSTAMP:20260419T185854
CREATED:20250604T154510Z
LAST-MODIFIED:20250626T144831Z
UID:10005596-1755734400-1756079999@visitjacksontn.com
SUMMARY:Hadestown: Teen Edition
DESCRIPTION:The Ned presents Hadestown: Teen Edition. \nThis intriguing and beautiful folk opera delivers a deeply resonant and defiantly hopeful theatrical experience. Following two intertwining love stories – that of young dreamers Orpheus and Eurydice\, and that of immortal King Hades and lady Persephone – Hadestown invites audiences on a hell-raising journey to the underworld and back. \nInspired by traditions of classic American folk music and vintage New Orleans jazz\, Mitchell’s beguiling sung-through musical pits industry against nature\, doubt against faith\, and fear against love. \nDates & Times: \nAugust 21 – 7:00 PM \nAugust 22 – 7:00 PM \nAugust 23 – 2:00 PM & 7:00 PM \nAugust 24 – 2:00 PM
URL:https://visitjacksontn.com/event/hadestown-teen-edition/
LOCATION:The Ned McWherter West TN Cultural Arts Center\, 314 E. Main St.\, Jackson\, TN\, 38301\, United States
CATEGORIES:Arts & Culture,Events,Music
ATTACH;FMTTYPE=image/jpeg:https://visitjacksontn.com/wp-content/uploads/493942611_1230583372400148_8377070586398226775_n.jpg
END:VEVENT
BEGIN:VEVENT
DTSTART;TZID=America/Chicago:20250823T183000
DTEND;TZID=America/Chicago:20250823T223000
DTSTAMP:20260419T185854
CREATED:20250603T133323Z
LAST-MODIFIED:20250603T133323Z
UID:10005583-1755973800-1755988200@visitjacksontn.com
SUMMARY:Dinner on the Hotel Lawn
DESCRIPTION:Join the Jackson Arts Council for Dinner on the Hotel Lawn! \nThis fundraising gala & auction supports local artists and art programs in Jackson\, TN. The evening includes a fine dining experience\, live music\, an art auction\, and guest speakers.
URL:https://visitjacksontn.com/event/dinner-on-the-hotel-lawn/
LOCATION:Jackson Country Club\, 31 Country Club Lane\, Jackson\, TN\, 38301\, United States
CATEGORIES:Arts & Culture,Events,Music
ATTACH;FMTTYPE=image/jpeg:https://visitjacksontn.com/wp-content/uploads/501605538_1307954314665819_906775363382512065_n.jpg
END:VEVENT
BEGIN:VEVENT
DTSTART;VALUE=DATE:20250825
DTEND;VALUE=DATE:20250831
DTSTAMP:20260419T185854
CREATED:20250627T144731Z
LAST-MODIFIED:20250627T144731Z
UID:10005652-1756080000-1756598399@visitjacksontn.com
SUMMARY:170th Gibson County Fair
DESCRIPTION:Don’t miss the 170th Gibson County Fair! \nEnjoy a week packed with live music\, thrilling wrestling matches\, live demonstrations\, livestock shows\, a heart-pounding demolition derby\, truck & tractor pull\, rides\, fair food\, and more family fun. Don’t miss this annual tradition celebrating agriculture\, community\, and summer excitement!
URL:https://visitjacksontn.com/event/170th-gibson-county-fair/
LOCATION:Gibson County Fairgrounds\, 1242 Manufacturers Row\, Trenton\, TN\, 38382\, United States
CATEGORIES:Arts & Culture,Events,Music
ATTACH;FMTTYPE=image/jpeg:https://visitjacksontn.com/wp-content/uploads/504894863_1265312438929144_3074320380730433173_n.jpg
END:VEVENT
BEGIN:VEVENT
DTSTART;TZID=America/Chicago:20250830T180000
DTEND;TZID=America/Chicago:20250830T180000
DTSTAMP:20260419T185854
CREATED:20250408T145642Z
LAST-MODIFIED:20250408T145648Z
UID:10005492-1756576800-1756576800@visitjacksontn.com
SUMMARY:Miss Jackson/Madison County/Golden Circle Volunteer Pageant
DESCRIPTION:Save the date for the Miss Jackson/Madison County/Golden Circle Volunteer Pageant! \nCome cheer on these young women as they compete for their chance to represent these titles at the Miss Tennessee Volunteer Pageant.
URL:https://visitjacksontn.com/event/miss-jackson-madison-county-golden-circle-volunteer-pageant/
LOCATION:Carl Perkins Civic Center\, 400 South Highland Avenue\, Jackson\, TN\, 38301\, United States
CATEGORIES:Arts & Culture,Events,Music
ATTACH;FMTTYPE=image/jpeg:https://visitjacksontn.com/wp-content/uploads/488921432_1226780256124089_3539518120135750260_n.jpg
END:VEVENT
BEGIN:VEVENT
DTSTART;TZID=America/Chicago:20250830T183000
DTEND;TZID=America/Chicago:20250830T220000
DTSTAMP:20260419T185854
CREATED:20250812T212133Z
LAST-MODIFIED:20250812T212438Z
UID:10005693-1756578600-1756591200@visitjacksontn.com
SUMMARY:Sloppy Seconds Album Release Show with Hope MacGregor
DESCRIPTION:This album release show is not one to miss!  \nDinner tickets include a taco bar\, starting at 6:30 pm. Show kicks off at 7:30 pm! Doors open at 6:00. \nHub City Brewing is a CARD ONLY Venue! \nHope MacGregor is a Jackson-based singer-songwriter with an honest story to tell — and she can’t wait for you to hear it! Join Hope and friends for her Album Release Show on August 30th\, 2025. \nMacGregor has made a name for herself from the Carolinas to Colorado as a soulful songwriter with a penchant for finding humor in life’s heartbreak and helping the lonely feel less alone — she writes songs that sound like home. In 2023\, Hope released her debut studio album\, the Matriarch. Since then\, she’s gone on to tour nationally and joined festival bills with Grammy-nominated songwriters and artists. \nClick here to purchase tickets.
URL:https://visitjacksontn.com/event/sloppy-seconds-album-release-show-with-hope-macgregor/
LOCATION:Hub City Brewing\, 250 West Main Street\, Jackson\, TN\, 38301\, United States
CATEGORIES:Arts & Culture,Events,Music
ATTACH;FMTTYPE=image/png:https://visitjacksontn.com/wp-content/uploads/Sloppy-Seconds-Album-Release-Show-Poster.png
END:VEVENT
BEGIN:VEVENT
DTSTART;TZID=America/Chicago:20250830T193000
DTEND;TZID=America/Chicago:20250830T193000
DTSTAMP:20260419T185854
CREATED:20250627T153722Z
LAST-MODIFIED:20250627T153900Z
UID:10005655-1756582200-1756582200@visitjacksontn.com
SUMMARY:An Evening with Priscilla Presley
DESCRIPTION:Join The Dixie for a captivating evening of Priscilla’s life in stories and photos\, including exclusive memories of her time with Elvis. \nPriscilla Presley’s appearance at The Dixie promises an inspiring evening filled with personal insights\, behind-the-scenes stories\, and a glimpse into a life lived in the spotlight. Her presence marks a meaningful and celebratory start to The Dixie’s 20th season of enriching arts programming in West Tennessee.
URL:https://visitjacksontn.com/event/an-evening-with-priscilla-presley/
LOCATION:Dixie Carter Performing Arts Center\, 191 Court Square\, Huntingdon\, TN\, 38344\, United States
CATEGORIES:Arts & Culture,Events
ATTACH;FMTTYPE=image/png:https://visitjacksontn.com/wp-content/uploads/thumbnail_D20_PriscillaPresley_4x5-1.png
END:VEVENT
END:VCALENDAR