BEGIN:VCALENDAR
VERSION:2.0
PRODID:-//Jackson Tourism - ECPv6.15.18//NONSGML v1.0//EN
CALSCALE:GREGORIAN
METHOD:PUBLISH
X-ORIGINAL-URL:https://visitjacksontn.com
X-WR-CALDESC:Events for Jackson Tourism
REFRESH-INTERVAL;VALUE=DURATION:PT1H
X-Robots-Tag:noindex
X-PUBLISHED-TTL:PT1H
BEGIN:VTIMEZONE
TZID:America/Chicago
BEGIN:DAYLIGHT
TZOFFSETFROM:-0600
TZOFFSETTO:-0500
TZNAME:CDT
DTSTART:20240310T080000
END:DAYLIGHT
BEGIN:STANDARD
TZOFFSETFROM:-0500
TZOFFSETTO:-0600
TZNAME:CST
DTSTART:20241103T070000
END:STANDARD
BEGIN:DAYLIGHT
TZOFFSETFROM:-0600
TZOFFSETTO:-0500
TZNAME:CDT
DTSTART:20250309T080000
END:DAYLIGHT
BEGIN:STANDARD
TZOFFSETFROM:-0500
TZOFFSETTO:-0600
TZNAME:CST
DTSTART:20251102T070000
END:STANDARD
BEGIN:DAYLIGHT
TZOFFSETFROM:-0600
TZOFFSETTO:-0500
TZNAME:CDT
DTSTART:20260308T080000
END:DAYLIGHT
BEGIN:STANDARD
TZOFFSETFROM:-0500
TZOFFSETTO:-0600
TZNAME:CST
DTSTART:20261101T070000
END:STANDARD
END:VTIMEZONE
BEGIN:VEVENT
DTSTART;VALUE=DATE:20250627
DTEND;VALUE=DATE:20250705
DTSTAMP:20260419T203429
CREATED:20250609T210919Z
LAST-MODIFIED:20250609T210919Z
UID:10005607-1750982400-1751673599@visitjacksontn.com
SUMMARY:Dyer Station Celebration
DESCRIPTION:Celebrate this 4th of July at the Dyer Station Celebration! \nThis week-long celebration is filled with family-friendly activities\, music\, games\, and more
URL:https://visitjacksontn.com/event/dyer-station-celebration-2/
LOCATION:Dyer City Park\, David Robinson Park\, 296 Freemont St\, Dyer\, TN\, 38330\, United States
CATEGORIES:Arts & Culture,Events,Sports & Outdoor
ATTACH;FMTTYPE=image/png:https://visitjacksontn.com/wp-content/uploads/Independence-Day-1-1.png
END:VEVENT
BEGIN:VEVENT
DTSTART;VALUE=DATE:20250711
DTEND;VALUE=DATE:20250714
DTSTAMP:20260419T203429
CREATED:20250507T161500Z
LAST-MODIFIED:20250507T161817Z
UID:10005557-1752192000-1752451199@visitjacksontn.com
SUMMARY:Escape to Margaritaville
DESCRIPTION:This summer\, trade your worries for beach vibes\, catchy tunes\, and a feel-good story set at a laid-back island resort. Jimmy Buffett’s Escape to Margaritaville is packed with big laughs\, lovable characters\, and the songs you know and love — like Cheeseburger in Paradise\, Volcano\, It’s Five O’Clock Somewhere\, and of course\, Margaritaville. \nWhether you’re a lifelong Buffett fan or just looking for a high-energy show full of fun\, this is a production you won’t wanna miss. \n 
URL:https://visitjacksontn.com/event/escape-to-margaritaville/
LOCATION:The Ned McWherter West TN Cultural Arts Center\, 314 E. Main St.\, Jackson\, TN\, 38301\, United States
CATEGORIES:Arts & Culture,Events,Music
ATTACH;FMTTYPE=image/jpeg:https://visitjacksontn.com/wp-content/uploads/495275265_1248018533993510_2290511205314385401_n.jpg
END:VEVENT
BEGIN:VEVENT
DTSTART;TZID=America/Chicago:20250716T103000
DTEND;TZID=America/Chicago:20250716T143000
DTSTAMP:20260419T203429
CREATED:20250716T162857Z
LAST-MODIFIED:20250716T162857Z
UID:10005678-1752661800-1752676200@visitjacksontn.com
SUMMARY:Lost in the Rhythm: An Escape Room Adventure
DESCRIPTION:Don’t miss a free fun escape room adventure at the Carnegie! \n​”Welcome to the Carnegie Center for Arts and History\, where the spirit of blue suede legends echoes through every record and signed guitar. You came for an exclusive tour of the West Tennessee musicians exhibit\, but when one of you accidentally nudges an old guitar stand near the front desk\, a forgotten security system is triggered leading to a lockdown! Can you retrace the beat\, decode the legends\, and escape the museum before you become part of the exhibit?” \nThis escape room is for ages 13+ years old. Sign up here: https://lu.ma/2byl6cja.
URL:https://visitjacksontn.com/event/lost-in-the-rhythm-an-escape-room-adventure/
LOCATION:The Carnegie Center for Arts and History\, 305 E. College Street\, Jackson\, T\, 38301\, United States
CATEGORIES:Arts & Culture,Events
ATTACH;FMTTYPE=image/png:https://visitjacksontn.com/wp-content/uploads/EscapeRoomFlyer.png
END:VEVENT
BEGIN:VEVENT
DTSTART;VALUE=DATE:20250717
DTEND;VALUE=DATE:20250720
DTSTAMP:20260419T203429
CREATED:20250507T161808Z
LAST-MODIFIED:20250507T161808Z
UID:10005558-1752710400-1752969599@visitjacksontn.com
SUMMARY:Escape to Margaritaville
DESCRIPTION:This summer\, trade your worries for beach vibes\, catchy tunes\, and a feel-good story set at a laid-back island resort. Jimmy Buffett’s Escape to Margaritaville is packed with big laughs\, lovable characters\, and the songs you know and love — like Cheeseburger in Paradise\, Volcano\, It’s Five O’Clock Somewhere\, and of course\, Margaritaville. \nWhether you’re a lifelong Buffett fan or just looking for a high-energy show full of fun\, this is a production you won’t wanna miss.
URL:https://visitjacksontn.com/event/escape-to-margaritaville-2/
LOCATION:The Ned McWherter West TN Cultural Arts Center\, 314 E. Main St.\, Jackson\, TN\, 38301\, United States
CATEGORIES:Arts & Culture,Events,Music
ATTACH;FMTTYPE=image/jpeg:https://visitjacksontn.com/wp-content/uploads/495275265_1248018533993510_2290511205314385401_n.jpg
END:VEVENT
BEGIN:VEVENT
DTSTART;TZID=America/Chicago:20250719T100000
DTEND;TZID=America/Chicago:20250719T180000
DTSTAMP:20260419T203429
CREATED:20250711T152317Z
LAST-MODIFIED:20250711T152317Z
UID:10005664-1752919200-1752948000@visitjacksontn.com
SUMMARY:Hot Summer Blues
DESCRIPTION:Get ready to beat the heat with some soulful tunes and good times at Hot Summer Blues! This one-day event is packed with everything you need for a perfect summer day! \nEnjoy some incredible Blues artists who will have you tapping your feet and feeling the rhythm. Satisfy your cravings with a diverse selection of tasty treats\, including refreshing lemonade and ice cream. Browse a variety of vendors offering everything from handmade crafts to unique merchandise. \nBring your friends and family for a day of fantastic music\, great food\, and a vibrant atmosphere. Don’t miss out on the hottest event of the summer! Admission is free. Bring your lawn chairs!
URL:https://visitjacksontn.com/event/hot-summer-blues/
LOCATION:West Tennessee Delta Heritage Center\, 121 Sunny Hill Cove\, Brownsville\, TN\, 38012\, United States
CATEGORIES:Arts & Culture,Events,Music
ATTACH;FMTTYPE=image/jpeg:https://visitjacksontn.com/wp-content/uploads/502376366_1343059437599662_7159285873395759467_n.jpg
END:VEVENT
BEGIN:VEVENT
DTSTART;TZID=America/Chicago:20250719T170000
DTEND;TZID=America/Chicago:20250719T200000
DTSTAMP:20260419T203429
CREATED:20250624T155019Z
LAST-MODIFIED:20250624T155019Z
UID:10005647-1752944400-1752955200@visitjacksontn.com
SUMMARY:Bowls for the Hungry
DESCRIPTION:Don’t miss Bowls for the Hungry 2025\, a powerful evening of community\, compassion\, and action. This annual charity fundraiser brings people together to raise awareness and support for individuals facing homelessness and hunger. \nEnjoy a catered meal\, live music\, and the opportunity to take home a unique handmade ceramic bowl crafted by local artists\, each one symbolizing the fight against hunger in our community.
URL:https://visitjacksontn.com/event/bowls-for-the-hungry/
LOCATION:Jackson Fairgrounds\, 800 S. Highland Ave\, Jackson\, TN\, 38301\, United States
CATEGORIES:Arts & Culture,Events,Music
ATTACH;FMTTYPE=image/jpeg:https://visitjacksontn.com/wp-content/uploads/497752310_1025733483003104_3335336322146082412_n.jpg
END:VEVENT
BEGIN:VEVENT
DTSTART;TZID=America/Chicago:20250726T080000
DTEND;TZID=America/Chicago:20250726T100000
DTSTAMP:20260419T203429
CREATED:20250716T165444Z
LAST-MODIFIED:20250716T165444Z
UID:10005679-1753516800-1753524000@visitjacksontn.com
SUMMARY:Yoga in the Gallery
DESCRIPTION:Start your Saturday with serenity and creativity! Don’t miss Yoga in the Gallery—a peaceful yoga session surrounded by inspiring art. \nBring your own yoga mat\, stick around after for a relaxing art class\, and pay what you can. \nAll levels welcome—come stretch\, breathe\, and create!
URL:https://visitjacksontn.com/event/yoga-in-the-gallery-2/
LOCATION:The Carnegie Center for Arts and History\, 305 E. College Street\, Jackson\, T\, 38301\, United States
CATEGORIES:Arts & Culture,Events,Sports & Outdoor
ATTACH;FMTTYPE=image/png:https://visitjacksontn.com/wp-content/uploads/YogaintheGallery-May102025.png
END:VEVENT
BEGIN:VEVENT
DTSTART;TZID=America/Chicago:20250731T183000
DTEND;TZID=America/Chicago:20250731T200000
DTSTAMP:20260419T203429
CREATED:20250611T142145Z
LAST-MODIFIED:20250611T142145Z
UID:10005613-1753986600-1753992000@visitjacksontn.com
SUMMARY:Made in Jackson 2025 Celebration
DESCRIPTION:​Come celebrate #731Day at the Made in Jackson 2025 Celebration! Join us for a fun night of live music\, storytelling\, and good food as we release the latest ‘Made in Jackson’ Summer issue of the Our Jackson Home journal. At the event\, you can expect: \n\n​Live music from local favorites Adam Johnson and Carita Cole.\n​Storytelling and poetry readings from local writers.\n​Delicious eats from Jackson Kitchen & Catering and Seb’s Shaved Ice.\n\n​Doors open at 6:30 PM & performances begin at 7:00 PM. \n​Big thanks to Leaders Credit Union for sponsoring this celebration and to the Community Foundation of West Tennessee for supporting this issue of the journal.
URL:https://visitjacksontn.com/event/made-in-jackson-2025-celebration/
LOCATION:Hub City Brewing\, 250 West Main Street\, Jackson\, TN\, 38301\, United States
CATEGORIES:Arts & Culture,Events,Music
ATTACH;FMTTYPE=image/jpeg:https://visitjacksontn.com/wp-content/uploads/505172952_1136307365204569_4145516696568742216_n-scaled.jpg
END:VEVENT
END:VCALENDAR