BEGIN:VCALENDAR
VERSION:2.0
PRODID:-//Jackson Tourism - ECPv6.15.18//NONSGML v1.0//EN
CALSCALE:GREGORIAN
METHOD:PUBLISH
X-ORIGINAL-URL:https://visitjacksontn.com
X-WR-CALDESC:Events for Jackson Tourism
REFRESH-INTERVAL;VALUE=DURATION:PT1H
X-Robots-Tag:noindex
X-PUBLISHED-TTL:PT1H
BEGIN:VTIMEZONE
TZID:America/Chicago
BEGIN:DAYLIGHT
TZOFFSETFROM:-0600
TZOFFSETTO:-0500
TZNAME:CDT
DTSTART:20240310T080000
END:DAYLIGHT
BEGIN:STANDARD
TZOFFSETFROM:-0500
TZOFFSETTO:-0600
TZNAME:CST
DTSTART:20241103T070000
END:STANDARD
BEGIN:DAYLIGHT
TZOFFSETFROM:-0600
TZOFFSETTO:-0500
TZNAME:CDT
DTSTART:20250309T080000
END:DAYLIGHT
BEGIN:STANDARD
TZOFFSETFROM:-0500
TZOFFSETTO:-0600
TZNAME:CST
DTSTART:20251102T070000
END:STANDARD
BEGIN:DAYLIGHT
TZOFFSETFROM:-0600
TZOFFSETTO:-0500
TZNAME:CDT
DTSTART:20260308T080000
END:DAYLIGHT
BEGIN:STANDARD
TZOFFSETFROM:-0500
TZOFFSETTO:-0600
TZNAME:CST
DTSTART:20261101T070000
END:STANDARD
END:VTIMEZONE
BEGIN:VEVENT
DTSTART;VALUE=DATE:20250502
DTEND;VALUE=DATE:20250504
DTSTAMP:20260419T234719
CREATED:20250414T215959Z
LAST-MODIFIED:20250414T215959Z
UID:10005505-1746144000-1746316799@visitjacksontn.com
SUMMARY:Spring Fling | Hub City Theatre Co. Improv
DESCRIPTION:The Hub City Theatre Co. Improv team is back at the Carnegie\, and ready to make stuff up! \nYou never know what you’re going to get at an HCTC improv show. Each night is a new experience\, and you as the audience get to participate with suggestions and you may be a lucky member who gets to come on stage! Whether you’re familiar with improv comedy or brand new\, there’s something for everyone. Come see this talented group of performers make stuff up right in front of your eyes\, and bring some laughter too! \nDates & Times: \nFriday\, May 2 – 7:00 PM \nSaturday\, May 3 – 7:00 PM
URL:https://visitjacksontn.com/event/spring-fling-hub-city-theatre-co-improv/
LOCATION:The Carnegie Center for Arts and History\, 305 E. College Street\, Jackson\, T\, 38301\, United States
CATEGORIES:Arts & Culture,Events
ATTACH;FMTTYPE=image/jpeg:https://visitjacksontn.com/wp-content/uploads/490565956_1237526358380756_4930101231262447471_n.jpg
END:VEVENT
BEGIN:VEVENT
DTSTART;VALUE=DATE:20250502
DTEND;VALUE=DATE:20250508
DTSTAMP:20260419T234719
CREATED:20250227T201857Z
LAST-MODIFIED:20250227T201857Z
UID:10005323-1746144000-1746662399@visitjacksontn.com
SUMMARY:Tennessee Iris Festival
DESCRIPTION:Save the date for the 2025 Tennessee Iris Festival! \nFirst begun by the Dresden Business Association in 1980 as an annual community Easter Parade\, the Festival has grown into an event with a year-round influence in the heart of Weakley County. Whether showcasing the brightest talents in local art and music\, playing host to well-known public figures\, or featuring the best of area businesses\, the Tennessee Iris Festival has built a tradition of excellence spanning four decades. \nStay tuned for more information.
URL:https://visitjacksontn.com/event/tennessee-iris-festival-2/
LOCATION:Downtown Dresden\, Dresden\, TN\, Dresden\, TN\, 38225
CATEGORIES:Arts & Culture,Events,Music
ATTACH;FMTTYPE=image/png:https://visitjacksontn.com/wp-content/uploads/276096254_333831072106683_2840564814799364582_n-1.png
END:VEVENT
BEGIN:VEVENT
DTSTART;TZID=America/Chicago:20250502T170000
DTEND;TZID=America/Chicago:20250502T193000
DTSTAMP:20260419T234719
CREATED:20250307T173734Z
LAST-MODIFIED:20250307T173734Z
UID:10005367-1746205200-1746214200@visitjacksontn.com
SUMMARY:First Fridays
DESCRIPTION:Get ready for Downtown Jackson’s First Fridays! \nEnjoy live music\, family-friendly activities\, and the Jackson Arts Council Art Walks\, featuring incredible works from local artists.
URL:https://visitjacksontn.com/event/first-fridays-2/
LOCATION:Downtown Jackson\, 314 E Main St\, Jackson\, TN\, 38301\, United States
CATEGORIES:Arts & Culture,Events,Music
ATTACH;FMTTYPE=image/avif:https://visitjacksontn.com/wp-content/uploads/ucarecdn-3.avif
END:VEVENT
BEGIN:VEVENT
DTSTART;TZID=America/Chicago:20250503T080000
DTEND;TZID=America/Chicago:20250503T140000
DTSTAMP:20260419T234719
CREATED:20250331T145640Z
LAST-MODIFIED:20250331T145725Z
UID:10005451-1746259200-1746280800@visitjacksontn.com
SUMMARY:Trenton Outdoor Flea Market
DESCRIPTION:Don’t miss the Trenton Outdoor Flea Market—held the same day as the famous Teapot Parade! \nBrowse a diverse selection of vendors offering unique finds\, antiques\, handmade goods\, and more. This family-friendly event is free to attend and conveniently located right across the street from Then & Now Flea Market in downtown Trenton.
URL:https://visitjacksontn.com/event/trenton-outdoor-flea-market-2/
LOCATION:Then & Now Flea Market Trenton\, 204 E Eaton St.\, Trenton\, TN\, 38382\, United States
CATEGORIES:Arts & Culture,Events
ATTACH;FMTTYPE=image/jpeg:https://visitjacksontn.com/wp-content/uploads/484339959_643662695192443_4839668634534486602_n.jpg
END:VEVENT
BEGIN:VEVENT
DTSTART;TZID=America/Chicago:20250503T120000
DTEND;TZID=America/Chicago:20250503T150000
DTSTAMP:20260419T234719
CREATED:20250424T165800Z
LAST-MODIFIED:20250424T165800Z
UID:10005526-1746273600-1746284400@visitjacksontn.com
SUMMARY:From Jackson to Vietnam: The Photography of Larry Atherton
DESCRIPTION:Don’t miss a powerful photography exhibit by Larry Atherton\, a Jackson native\, Marine\, and former combat photographer. \nBefore serving our country\, Atherton captured life in Jackson as a photographer for the Jackson Sun. He later took his talents to the frontlines of Vietnam\, where his camera told the stories of Marines and the resilient Vietnamese people with raw honesty and heart. \nHis photographs are more than images — they’re living history. Come experience the war through the eyes of someone who lived it\, served with honor\, and never stopped telling the story. Whether you’re a history buff\, a photography lover\, or simply want to honor a hometown hero — this is a show you won’t want to miss!
URL:https://visitjacksontn.com/event/from-jackson-to-vietnam-the-photography-of-larry-atherton/
LOCATION:VFW Post 1848\, 3803 Hwy 45 N\, Jackson\, TN\, 38305\, United States
CATEGORIES:Arts & Culture,Events,History & Civil War
ATTACH;FMTTYPE=image/jpeg:https://visitjacksontn.com/wp-content/uploads/486715214_1152763436647145_9134630654524489167_n.jpg
END:VEVENT
BEGIN:VEVENT
DTSTART;VALUE=DATE:20250504
DTEND;VALUE=DATE:20250511
DTSTAMP:20260419T234719
CREATED:20250121T213644Z
LAST-MODIFIED:20250121T213721Z
UID:10005220-1746316800-1746921599@visitjacksontn.com
SUMMARY:87th Annual West Tennessee Strawberry Festival
DESCRIPTION:Join 75\,000 friends and neighbors for an unforgettable week of food\, fun\, and entertainment at the 87th Annual West Tennessee Strawberry Festival! \nSpanning 9 blocks and featuring over 20 exciting events\, there’s something for everyone in the family to enjoy. From delicious local cuisine to live music and thrilling activities\, this celebration showcases the very best of our region. Come experience the seven most exciting days of your life—you won’t want to miss it!
URL:https://visitjacksontn.com/event/87th-annual-west-tennessee-strawberry-festival/
LOCATION:Downtown Humboldt\, 1419 Main Street\, Humboldt\, TN\, 38343\, United States
CATEGORIES:Arts & Culture,Events,Music
ATTACH;FMTTYPE=image/png:https://visitjacksontn.com/wp-content/uploads/465646605_1122211979465155_4619156914918335265_n.png
END:VEVENT
BEGIN:VEVENT
DTSTART;VALUE=DATE:20250509
DTEND;VALUE=DATE:20250512
DTSTAMP:20260419T234719
CREATED:20241205T182435Z
LAST-MODIFIED:20241205T182435Z
UID:10005139-1746748800-1747007999@visitjacksontn.com
SUMMARY:Little Shop of Horrors | Lights Up! Theatre Co.
DESCRIPTION:Save the date for Lights Up! Theatre Co.’s production of Little Shop of Horrors! \nStay tuned for more information.
URL:https://visitjacksontn.com/event/little-shop-of-horrors-lights-up-theatre-co/
LOCATION:TN
CATEGORIES:Arts & Culture,Events,Music
ATTACH;FMTTYPE=image/png:https://visitjacksontn.com/wp-content/uploads/Screenshot-2024-12-05-110142.png
END:VEVENT
BEGIN:VEVENT
DTSTART;TZID=America/Chicago:20250509T193000
DTEND;TZID=America/Chicago:20250509T193000
DTSTAMP:20260419T234719
CREATED:20250421T175825Z
LAST-MODIFIED:20250421T175840Z
UID:10005520-1746819000-1746819000@visitjacksontn.com
SUMMARY:An Evening with Erin Rae & The Kernal
DESCRIPTION:Don’t miss an intimate night of music and conversation as celebrated singer-songwriters Erin Rae and The Kernal come together for a special concert. \nSharing the stage in the round\, the two artists will trade songs\, stories\, and insights into their creative process in the Basement Theatre at The Carnegie Center.
URL:https://visitjacksontn.com/event/an-evening-with-erin-rae-the-kernal/
LOCATION:The Carnegie Center for Arts and History\, 305 E. College Street\, Jackson\, T\, 38301\, United States
CATEGORIES:Arts & Culture,Events,Music
ATTACH;FMTTYPE=image/jpeg:https://visitjacksontn.com/wp-content/uploads/491516712_17872346817339719_4370310981084515304_n.jpg
END:VEVENT
BEGIN:VEVENT
DTSTART;TZID=America/Chicago:20250510T080000
DTEND;TZID=America/Chicago:20250510T100000
DTSTAMP:20260419T234719
CREATED:20250416T150314Z
LAST-MODIFIED:20250416T150314Z
UID:10005515-1746864000-1746871200@visitjacksontn.com
SUMMARY:Yoga in the Gallery
DESCRIPTION:Start your Saturday with serenity and creativity! Don’t miss Yoga in the Gallery—a peaceful yoga session surrounded by inspiring art. \n\n\nBring your own yoga mat \n\n\nStick around after for a relaxing art class \n\n\nPay what you can \n\n\nAll levels welcome—come stretch\, breathe\, and create!
URL:https://visitjacksontn.com/event/yoga-in-the-gallery/
LOCATION:The Carnegie Center for Arts and History\, 305 E. College Street\, Jackson\, T\, 38301\, United States
CATEGORIES:Arts & Culture,Events,Sports & Outdoor
ATTACH;FMTTYPE=image/jpeg:https://visitjacksontn.com/wp-content/uploads/490185569_17872305468339719_5852670863559313988_n.jpg
END:VEVENT
BEGIN:VEVENT
DTSTART;TZID=America/Chicago:20250517T100000
DTEND;TZID=America/Chicago:20250517T150000
DTSTAMP:20260419T234719
CREATED:20250313T152623Z
LAST-MODIFIED:20250313T152711Z
UID:10005395-1747476000-1747494000@visitjacksontn.com
SUMMARY:Bee Fest 5K and Craft Fair
DESCRIPTION:Don’t miss your chance to celebrate at Bee Fest! \nThis festival features craft and educational vendors\, along with a virtual 5K. Proceeds from the run will go to help the Honeybee Project at Pinson Mounds State Archaeological Park and the Friends of Pinson Mounds. Sign up for the 5K here!
URL:https://visitjacksontn.com/event/bee-fest-5k-and-craft-fair/
LOCATION:Pinson Mounds\, 460 Ozier Rd\, Pinson\, TN\, 38366\, United States
CATEGORIES:Arts & Culture,Events,Sports & Outdoor
ATTACH;FMTTYPE=image/jpeg:https://visitjacksontn.com/wp-content/uploads/483068957_1055661173272358_9009948401957020808_n.jpg
END:VEVENT
BEGIN:VEVENT
DTSTART;TZID=America/Chicago:20250517T140000
DTEND;TZID=America/Chicago:20250517T160000
DTSTAMP:20260419T234719
CREATED:20250415T182643Z
LAST-MODIFIED:20250415T182643Z
UID:10005511-1747490400-1747497600@visitjacksontn.com
SUMMARY:Sip & Paint
DESCRIPTION:Don’t miss a fun and creative Sip & Paint event instructed by Melinda Reid! \nUnleash your inner artist as you enjoy a glass of wine while painting your very own wine bottle masterpiece. Whether you’re a seasoned painter or a beginner\, it’s the perfect way to relax and create something beautiful! (Wine not included – can be purchased upon arrival)
URL:https://visitjacksontn.com/event/sip-paint-2/
LOCATION:Century Farm Winery\, 1548 Lower Brownsville Rd.\, Jackson\, TN\, 38301\, United States
CATEGORIES:Arts & Culture,Events
ATTACH;FMTTYPE=image/jpeg:https://visitjacksontn.com/wp-content/uploads/490320995_1218907213573251_1370809613630259485_n.jpg
END:VEVENT
BEGIN:VEVENT
DTSTART;VALUE=DATE:20250522
DTEND;VALUE=DATE:20250525
DTSTAMP:20260419T234719
CREATED:20250422T150416Z
LAST-MODIFIED:20250422T151559Z
UID:10005521-1747872000-1748131199@visitjacksontn.com
SUMMARY:Bufford Pusser Festival
DESCRIPTION:Come celebrate the legacy of Buford Pusser at the Buford Pusser Festival! \nEnjoy a big carnival starting at 5 PM on Thursday and Friday\, and 3 PM on Saturday\, plus a weekend full of live entertainment including Elvis tribute artist Steve Warren\, the Bigbee Ramblers\, Dwight Wadkins Band\, David Timms\, Wayne Jerrolds Band\, Bo Jack\, Lloyd Watkins\, karaoke\, wrestling\, and more. The festivities kick off with a special Praise & Worship night on Thursday\, May 22\, and a guided bus tour on Saturday\, May 24. \nFor vendor information\, contact Sarah Mote at (256) 300-1113. For general questions\, call the Buford Pusser Museum at (731) 632-4080 or City Hall at (731) 632-1401.
URL:https://visitjacksontn.com/event/bufford-pusser-festival/
LOCATION:Adamsville City Park\, 215 Crowe St\, Adamsville\, TN\, 38310\, United States
CATEGORIES:Arts & Culture,Events,History & Civil War,Music
ATTACH;FMTTYPE=image/jpeg:https://visitjacksontn.com/wp-content/uploads/487777759_1082313623934210_3425255949021406553_n.jpg
END:VEVENT
BEGIN:VEVENT
DTSTART;VALUE=DATE:20250530
DTEND;VALUE=DATE:20250602
DTSTAMP:20260419T234720
CREATED:20241113T173608Z
LAST-MODIFIED:20241113T193057Z
UID:10002877-1748563200-1748822399@visitjacksontn.com
SUMMARY:The Man Who Shot Liberty Valance | Hub City Theatre Company
DESCRIPTION:Hub City Theatre Company presents: The Man Who Shot Liberty Valance! \nStay tuned for production updates\, and mark your calendars. \nDates & Times: \nMay 30- 7:30 PM \nMay 31 – 7:30 PM \nJune 1 – 3:00 PM
URL:https://visitjacksontn.com/event/the-man-who-shot-liberty-valance-hub-city-theatre-company/
LOCATION:The Carnegie Center for Arts and History\, 305 E. College Street\, Jackson\, T\, 38301\, United States
CATEGORIES:Arts & Culture,Events
ATTACH;FMTTYPE=image/png:https://visitjacksontn.com/wp-content/uploads/Screenshot-2024-11-13-105615.png
END:VEVENT
END:VCALENDAR