BEGIN:VCALENDAR
VERSION:2.0
PRODID:-//Jackson Tourism - ECPv6.15.20//NONSGML v1.0//EN
CALSCALE:GREGORIAN
METHOD:PUBLISH
X-ORIGINAL-URL:https://visitjacksontn.com
X-WR-CALDESC:Events for Jackson Tourism
REFRESH-INTERVAL;VALUE=DURATION:PT1H
X-Robots-Tag:noindex
X-PUBLISHED-TTL:PT1H
BEGIN:VTIMEZONE
TZID:America/Chicago
BEGIN:DAYLIGHT
TZOFFSETFROM:-0600
TZOFFSETTO:-0500
TZNAME:CDT
DTSTART:20230312T080000
END:DAYLIGHT
BEGIN:STANDARD
TZOFFSETFROM:-0500
TZOFFSETTO:-0600
TZNAME:CST
DTSTART:20231105T070000
END:STANDARD
BEGIN:DAYLIGHT
TZOFFSETFROM:-0600
TZOFFSETTO:-0500
TZNAME:CDT
DTSTART:20240310T080000
END:DAYLIGHT
BEGIN:STANDARD
TZOFFSETFROM:-0500
TZOFFSETTO:-0600
TZNAME:CST
DTSTART:20241103T070000
END:STANDARD
BEGIN:DAYLIGHT
TZOFFSETFROM:-0600
TZOFFSETTO:-0500
TZNAME:CDT
DTSTART:20250309T080000
END:DAYLIGHT
BEGIN:STANDARD
TZOFFSETFROM:-0500
TZOFFSETTO:-0600
TZNAME:CST
DTSTART:20251102T070000
END:STANDARD
END:VTIMEZONE
BEGIN:VEVENT
DTSTART;TZID=America/Chicago:20241101T183000
DTEND;TZID=America/Chicago:20241101T203000
DTSTAMP:20260423T211438
CREATED:20241028T212843Z
LAST-MODIFIED:20241028T214435Z
UID:10002678-1730485800-1730493000@visitjacksontn.com
SUMMARY:Writers Night at the Tennessee Legends of Music Museum
DESCRIPTION:The Tennessee Legends of Music Museum will host Writers Night on November 1\, providing an excellent opportunity for Jacksonians to connect with local writers. This installment features guest speaker Ryan Guth\, who will share insight on music and writing. \nThe event is free to the public\, but space is limited\, *recommended to get there early to ensure your place* \nDate: November 1\, 2024\nTime: 6:30PM\nLocation: Carnegie Tennessee Legends of Music Museum
URL:https://visitjacksontn.com/event/writers-night-at-the-tennessee-legends-music-museum/
LOCATION:The Carnegie Center & The TN Legends of Music Museum\, 305 East College Street\, Jackson\, TN\, 38301\, United States
CATEGORIES:Arts & Culture,Events,Music
ATTACH;FMTTYPE=image/png:https://visitjacksontn.com/wp-content/uploads/Writers-Night-thumbnail.png
END:VEVENT
BEGIN:VEVENT
DTSTART;TZID=America/Chicago:20241102T190000
DTEND;TZID=America/Chicago:20241102T223000
DTSTAMP:20260423T211438
CREATED:20240923T163142Z
LAST-MODIFIED:20240923T163142Z
UID:10002601-1730574000-1730586600@visitjacksontn.com
SUMMARY:Hey\, Hey\, The Blues Is Alright
DESCRIPTION:Hey\, Hey\, The Blues Is Alright will be presented by: The Jazz Foundation on November 2nd at 7PM at the Ned McWherter Cultural Arts Center. Attendees can look for an unforgettable evening of blues and celebration. \n  \nTerry “Harmonica” Bean is an Amercian Blues harmonica player\, guitarist\, and songwriter from Pontotoc\, Mississippi. Since 2001\, he has released seven albums and appeared in three documentaries exploring the blues experience. As a one-man band\, Terry plays both guitar and harmonica\, performing nationally and internationally.  He is one of the most sought-after musicians in blues today. \nAnthony Sherwood picked up his first guitar at age 4. Over the years\, he has mastered bass\, keyboard\, and drums. As the godson of Big Jack Johnson and a student of legends like Johnny Billington and Josh “Razorblade” Steward\, Anthony learned stage presence and respect. Now an international blues artist\, he gives back to the Delta by teaching blues music at the Delta Blues Museum.
URL:https://visitjacksontn.com/event/hey-hey-the-blues-is-alright/
LOCATION:The Ned McWherter West TN Cultural Arts Center\, 314 E. Main St.\, Jackson\, TN\, 38301\, United States
CATEGORIES:Arts & Culture,Events,Music
ATTACH;FMTTYPE=image/webp:https://visitjacksontn.com/wp-content/uploads/TheBluesisAlrightFlyercopy-799h.webp
END:VEVENT
BEGIN:VEVENT
DTSTART;TZID=America/Chicago:20241102T193000
DTEND;TZID=America/Chicago:20241102T220000
DTSTAMP:20260423T211438
CREATED:20240520T175954Z
LAST-MODIFIED:20240520T180053Z
UID:10002231-1730575800-1730584800@visitjacksontn.com
SUMMARY:On the Fringe
DESCRIPTION:The Jackson Symphony presents its 64th season. \nIndulge in an exhilarating trip back to the roaring twenties with music from Gershwin’s “American in Paris\,” Ravel’s “Bolero” and more. Join the Symphony on Saturday\, November 2 at 7:30 pm at the Carl Perkins Civic Center. \nTo purchase season tickets\, click here. \n 
URL:https://visitjacksontn.com/event/on-the-fringe/
LOCATION:Carl Perkins Civic Center\, 400 South Highland Avenue\, Jackson\, TN\, 38301\, United States
CATEGORIES:Arts & Culture,Events,Music
ATTACH;FMTTYPE=image/jpeg:https://visitjacksontn.com/wp-content/uploads/jackson-symphony.jpg
END:VEVENT
BEGIN:VEVENT
DTSTART;TZID=America/Chicago:20241103T180000
DTEND;TZID=America/Chicago:20241103T180000
DTSTAMP:20260423T211438
CREATED:20241024T185824Z
LAST-MODIFIED:20241024T185947Z
UID:10002671-1730656800-1730656800@visitjacksontn.com
SUMMARY:The Jackson Symphony Music Academy Presents: "Come to the Music"
DESCRIPTION:Experience the inspiring sounds of 200+ student musicians from The Jackson Symphony Music Academy as they showcase their hard work and talent this semester. The performance will feature a diverse array of young artists\, including the Youth Orchestra\, Children’s Choir\, and youth string ensembles\, Camerata and Sinfonia. Additionally\, students from JSMA Regional Music Centers\, spanning seven counties across West Tennessee\, will join in side by side orchestral and vocal performances. \nStudents of all ages rehearse weekly and receive professional instruction throughout the year through The Jackson Symphony Music Academy\, giving them opportunities for growth in both musicianship and performance. “Come To The Music” promises to be an entertaining celebration of the passion and development of these young artists.
URL:https://visitjacksontn.com/event/the-jackson-symphony-music-academy-presents-come-to-the-music/
LOCATION:Carl Perkins Civic Center\, 400 South Highland Avenue\, Jackson\, TN\, 38301\, United States
CATEGORIES:Arts & Culture,Events,Music
ATTACH;FMTTYPE=image/jpeg:https://visitjacksontn.com/wp-content/uploads/462297590_1439503570330531_3882389853742146339_n.jpg
END:VEVENT
BEGIN:VEVENT
DTSTART;VALUE=DATE:20241107
DTEND;VALUE=DATE:20241110
DTSTAMP:20260423T211438
CREATED:20240802T140822Z
LAST-MODIFIED:20240802T140822Z
UID:10002447-1730937600-1731196799@visitjacksontn.com
SUMMARY:The Color Purple: The Musical
DESCRIPTION:The Ned presents The Color Purple – The Musical (2015 Broadway Revival Version) \nBased upon the novel written by Alice Walker and the Warner Bros./Amblin Entertainment Motion Picture\nBook by Marsha Norman \nMusic and Lyrics by Brenda Russell\, Allee Willis\, and Stephen Bray \n“The Color Purple” was produced on Broadway at the Broadway Theater by Oprah Winfrey\, Scott Sanders\, Roy Furman and Quincy Jones. The world premiere of THE COLOR PURPLE was produced by the Alliance Theatre\, Atlanta\, GA. \nDirected by Ebony Taylor \nClick here to purchase tickets and for the most up to date information. \n 
URL:https://visitjacksontn.com/event/the-color-purple-the-musical/
LOCATION:The NED\, 314 East Main Street\, Jackson\, TN\, 38301\, United States
CATEGORIES:Arts & Culture,Events,Music
ATTACH;FMTTYPE=image/jpeg:https://visitjacksontn.com/wp-content/uploads/453628511_1016342363824251_4418432807518219252_n.jpg
END:VEVENT
BEGIN:VEVENT
DTSTART;TZID=America/Chicago:20241109T100000
DTEND;TZID=America/Chicago:20241109T160000
DTSTAMP:20260423T211438
CREATED:20240826T143404Z
LAST-MODIFIED:20241021T145027Z
UID:10002508-1731146400-1731168000@visitjacksontn.com
SUMMARY:A Tennessee Christmas Market
DESCRIPTION:A Tennessee Christmas Market At Blessing Barn is a curated handcrafted vendor event. \nThis is a one stop event for all of your gift giving needs! There will be food\, snacks\, and 20+ vendors. \nFor vendor application\, please contact Dana Vaughn at 731-694-0865 or blessingbarnfarm@hotmail.com. \nClick here for more event information.
URL:https://visitjacksontn.com/event/a-tennessee-christmas-market/
LOCATION:Blessing Barn\, 80 Raines Cemetery Road\, Humboldt\, TN\, 38343\, United States
CATEGORIES:Arts & Culture,Events
ATTACH;FMTTYPE=image/jpeg:https://visitjacksontn.com/wp-content/uploads/456570249_1113927306735900_457589773698764129_n.jpg
END:VEVENT
BEGIN:VEVENT
DTSTART;TZID=America/Chicago:20241109T140000
DTEND;TZID=America/Chicago:20241109T160000
DTSTAMP:20260423T211438
CREATED:20240829T185926Z
LAST-MODIFIED:20240829T185926Z
UID:10002542-1731160800-1731168000@visitjacksontn.com
SUMMARY:Holiday Charcuterie Board Workshop
DESCRIPTION:Dive into the world of charcuterie as we guide you through the basics of cheese selection\, meat folding\, creating meat roses\, and exploring a wonderful variety of cheeses. Learn fun tidbits about charcuterie while crafting your very own board to take home and enjoy! \nWhether you’re looking for a fun day out with friends\, family\, or coworkers\, or simply eager to enhance your culinary skills\, this workshop is for you! The registration fee covers all charcuterie foods\, a board\, and even a wine glass to take home. \nDon’t miss out on this great adventure in the world of charcuterie! Reserve your spot now and unleash your inner chef.(Guests will purchase wine upon arrival) \nClick here for tickets and more event information.
URL:https://visitjacksontn.com/event/holiday-charcuterie-board-workshop/
LOCATION:Century Farm Winery\, 1548 Lower Brownsville Rd.\, Jackson\, TN\, 38301\, United States
CATEGORIES:Arts & Culture,Events
ATTACH;FMTTYPE=image/jpeg:https://visitjacksontn.com/wp-content/uploads/457015116_1036341328496508_5352544181514185698_n.jpg
END:VEVENT
BEGIN:VEVENT
DTSTART;TZID=America/Chicago:20241111T110000
DTEND;TZID=America/Chicago:20241111T133000
DTSTAMP:20260423T211438
CREATED:20241107T175648Z
LAST-MODIFIED:20241107T181440Z
UID:10002854-1731322800-1731331800@visitjacksontn.com
SUMMARY:Veteran's Day Commemoration at Jackson State Community College
DESCRIPTION:Join Jackson State Community College for a meaningful Veteran’s Day event honoring our local veterans. \nThe ceremony includes a military cake-cutting tradition\, presentation of the Chancellor’s Commendation for Military Veteran’s Challenge Coin\, and a performance by the JSCC Innovation Vocal Quarter. \nAttendees are encouraged to wear red\, white\, and blue to show support for our veterans and service members. \nA great opportunity to honor those who have served!
URL:https://visitjacksontn.com/event/__trashed-3/
LOCATION:Jackson State Community College\, 2046 N Parkway\, Jackson\, TN\, 38301\, United States
CATEGORIES:Arts & Culture,Events,History & Civil War
ATTACH;FMTTYPE=image/jpeg:https://visitjacksontn.com/wp-content/uploads/jscc-vet.jpg
END:VEVENT
BEGIN:VEVENT
DTSTART;TZID=America/Chicago:20241112T170000
DTEND;TZID=America/Chicago:20241112T190000
DTSTAMP:20260423T211438
CREATED:20241023T193418Z
LAST-MODIFIED:20241023T194104Z
UID:10002667-1731430800-1731438000@visitjacksontn.com
SUMMARY:2024 Drawn Together: Regional Faculty Art Show
DESCRIPTION:Don’t miss the opening reception for the 2024 Drawn Together: Regional Faculty Art Show! \nExhibition Dates: \nNovember 1 – 27 \nCome see this incredible work from educators across West Tennessee.
URL:https://visitjacksontn.com/event/2024-drawn-together-regional-faculty-art-show/
LOCATION:The Ned McWherter West TN Cultural Arts Center\, 314 E. Main St.\, Jackson\, TN\, 38301\, United States
CATEGORIES:Arts & Culture,Events
ATTACH;FMTTYPE=image/png:https://visitjacksontn.com/wp-content/uploads/thumbnail_2024-Drawn-Together.png
END:VEVENT
BEGIN:VEVENT
DTSTART;VALUE=DATE:20241114
DTEND;VALUE=DATE:20241117
DTSTAMP:20260423T211438
CREATED:20240802T140836Z
LAST-MODIFIED:20240802T140836Z
UID:10002448-1731542400-1731801599@visitjacksontn.com
SUMMARY:The Color Purple: The Musical
DESCRIPTION:The Ned presents The Color Purple – The Musical (2015 Broadway Revival Version) \nBased upon the novel written by Alice Walker and the Warner Bros./Amblin Entertainment Motion Picture\nBook by Marsha Norman \nMusic and Lyrics by Brenda Russell\, Allee Willis\, and Stephen Bray \n“The Color Purple” was produced on Broadway at the Broadway Theater by Oprah Winfrey\, Scott Sanders\, Roy Furman and Quincy Jones. The world premiere of THE COLOR PURPLE was produced by the Alliance Theatre\, Atlanta\, GA. \nDirected by Ebony Taylor \nClick here to purchase tickets and for the most up to date information. \n 
URL:https://visitjacksontn.com/event/the-color-purple-the-musical-2/
LOCATION:The NED\, 314 East Main Street\, Jackson\, TN\, 38301\, United States
CATEGORIES:Arts & Culture,Events,Music
ATTACH;FMTTYPE=image/jpeg:https://visitjacksontn.com/wp-content/uploads/453628511_1016342363824251_4418432807518219252_n.jpg
END:VEVENT
BEGIN:VEVENT
DTSTART;TZID=America/Chicago:20241116T090000
DTEND;TZID=America/Chicago:20241116T170000
DTSTAMP:20260423T211438
CREATED:20240822T175002Z
LAST-MODIFIED:20240822T175150Z
UID:10002504-1731747600-1731776400@visitjacksontn.com
SUMMARY:Holiday Shopping at The Lannom
DESCRIPTION:This in-person event will feature local vendors offering everything from handmade crafts to delicious treats! \nClick here for more event information.
URL:https://visitjacksontn.com/event/holiday-shopping-at-the-lannom/
LOCATION:The Lannom Center\, 2000 Commerce Ave\, Dyersburg\, TN\, United States
CATEGORIES:Arts & Culture,Events
ATTACH;FMTTYPE=image/jpeg:https://visitjacksontn.com/wp-content/uploads/450807289_122152346582109285_2726601644808448306_n.jpg
END:VEVENT
BEGIN:VEVENT
DTSTART;TZID=America/Chicago:20241116T160000
DTEND;TZID=America/Chicago:20241116T160000
DTSTAMP:20260423T211438
CREATED:20241008T165548Z
LAST-MODIFIED:20241030T194329Z
UID:10002643-1731772800-1731772800@visitjacksontn.com
SUMMARY:"Seasons" Choral Concert
DESCRIPTION:The Jackson Choral Society’s fall concert will be a musical exploration of the theme “Seasons\,” an aspect of the human experience that all people understand and share\, yet rarely take the time to savor and celebrate. \nEach year has four seasons\, each with its own unique beauty\, traditions\, and moods. The audience will be taken on an imaginative journey through spring\, summer\, fall\, and winter\, featuring a variety of musical styles and poetic imagery. As a special bonus\, the concert will conclude with winter and a few Christmas songs to send the audience off on a cheerful note. \nGeneral admission tickets are $20\, and student tickets are $15. Tickets are available from the singers and at the door. Doors open at 3:30 PM.
URL:https://visitjacksontn.com/event/seasonschoralconcert/
LOCATION:First Baptist Church\, 1627 N Highland Ave.\, Jackson\, TN\, 38301\, United States
CATEGORIES:Arts & Culture,Events,Music
ATTACH;FMTTYPE=image/jpeg:https://visitjacksontn.com/wp-content/uploads/464286498_1099800218813507_2981859632396402642_n.jpg
END:VEVENT
BEGIN:VEVENT
DTSTART;TZID=America/Chicago:20241119T180000
DTEND;TZID=America/Chicago:20241119T203000
DTSTAMP:20260423T211438
CREATED:20241106T205327Z
LAST-MODIFIED:20241106T210250Z
UID:10002838-1732039200-1732048200@visitjacksontn.com
SUMMARY:Bemis Historical Society Meeting
DESCRIPTION:The Bemis Historical Society invites the community\, history enthusiast\, and potential members to its monthly meeting! \nKathy Haney Williams will honor World War II veterans through a special presentation. \nAttendees will enjoy a slideshow featuring 35 vintage scrapbooks from The Jackson Sun\, packed with war stories\, weddings\, and milestones that bring Bemis’ past to life! \nCome out and explore the museum’s artifacts\, uncover more of Bemis’ rich history! \n 
URL:https://visitjacksontn.com/event/bemis-historical-society-meeting/
LOCATION:Bemis Mill Village Museum\, 2 N Missouri St\, Jackson\, TN\, TN\, 38301\, United States
CATEGORIES:Arts & Culture,Events,History & Civil War
ATTACH;FMTTYPE=image/webp:https://visitjacksontn.com/wp-content/uploads/Bemis-Museum-2022May21-Hollamon.webp
END:VEVENT
BEGIN:VEVENT
DTSTART;VALUE=DATE:20241122
DTEND;VALUE=DATE:20241124
DTSTAMP:20260423T211438
CREATED:20240927T165024Z
LAST-MODIFIED:20241018T142319Z
UID:10002630-1732233600-1732406399@visitjacksontn.com
SUMMARY:2024 FCE Christmas Cottage
DESCRIPTION:Join the festivities at the 2024 FCE Christmas Cottage and show your support for local artisans and culinary talents and support the Madison County FCE Clubs! \nDiscover a wide array of handcrafted treasures\, delectable baked goods\, and home-canned delights\, lovingly created by our dedicated members. This festive gathering promises an extensive selection of crafts\, baked goods\, canned items\, clothing\, holiday decorations\, teacher gifts\, and much more. Rest assured\, every single item on display is a product of the skill and dedication of the Madison County FCE Club members. \nThere is no admission fee to explore the offerings\, and free parking is available. \nHours: \nNovember 22: 9 AM – 7 PM \nNovember 23: 9 AM – 5 PM \nFor further details or inquiries\, please contact Krisann Blair\, Cottage Chairperson\, at 731-234-2881.
URL:https://visitjacksontn.com/event/2024-fce-christmas-cottage/
LOCATION:Madison County Agricultural Complex Auditorium\, 309 N. Parkway\, Jackson\, TN\, 38305\, United States
CATEGORIES:Arts & Culture,Events
ATTACH;FMTTYPE=image/jpeg:https://visitjacksontn.com/wp-content/uploads/458745167_538636308503079_2231375056874438733_n.jpg
END:VEVENT
BEGIN:VEVENT
DTSTART;TZID=America/Chicago:20241123T100000
DTEND;TZID=America/Chicago:20241123T160000
DTSTAMP:20260423T211438
CREATED:20240822T163559Z
LAST-MODIFIED:20240822T163559Z
UID:10002502-1732356000-1732377600@visitjacksontn.com
SUMMARY:Christmas in the Park
DESCRIPTION:This event is loaded with games and activities\, from crafts and games\, to stories\, Santa\, Carolers\, Live Music\, DJ\, Food Trucks\, Table Vendors\, Live Nativity and MUCH MUCH MORE! This event is to raise money and collect toys to provide Christmas to local children in need right here in Hardin and McNairy Counties through the Chris Rivers Foundation! No salaries are taken from this money. ALL money raised will go directly to helping local families right here at home. Last year over 80 children received gifts\, this year we believe there is an even greater need! Vendors call (731)-361-9549 to reserve your booth space! \nClick here for more event information.
URL:https://visitjacksontn.com/event/christmas-in-the-park/
LOCATION:Selmer City Park\, 100 E Selmer Park Dr\, Selmer\, TN\, 38375\, United States
CATEGORIES:Arts & Culture,Events
ATTACH;FMTTYPE=image/jpeg:https://visitjacksontn.com/wp-content/uploads/453484287_467422942821937_7950117673251989642_n.jpg
END:VEVENT
BEGIN:VEVENT
DTSTART;TZID=America/Chicago:20241125T190000
DTEND;TZID=America/Chicago:20241125T190000
DTSTAMP:20260423T211438
CREATED:20241106T153637Z
LAST-MODIFIED:20241106T153644Z
UID:10002823-1732561200-1732561200@visitjacksontn.com
SUMMARY:Jackson Area Community Bands Fall 2024 Concert
DESCRIPTION:Mark your calendars for the Jackson Area Community Bands Fall 2024 concert. \nThe Symphonic Winds\, conducted by Tony Burriss\, will perform an eclectic grab bag of works by American Composers entitled “So\, What’s Next?” \nOur Swing Orchestra\, under the baton of David Kyles\, will also present a program that is sure to please\, with the theme of “Baby Boomer Bombshells.” \nThe concert is free and open to the public. For more information\, please email jacommbands@gmail.com.
URL:https://visitjacksontn.com/event/jackson-area-community-bands-fall-2024-concert/
LOCATION:Union University Savage Chapel\, 1050 Union University Dr\, Jackson\, TN\, 38305\, United States
CATEGORIES:Arts & Culture,Events,Music
ATTACH;FMTTYPE=image/jpeg:https://visitjacksontn.com/wp-content/uploads/465384760_538579945599697_5829250595904838772_n.jpg
END:VEVENT
BEGIN:VEVENT
DTSTART;TZID=America/Chicago:20241129T100000
DTEND;TZID=America/Chicago:20241129T120000
DTSTAMP:20260423T211438
CREATED:20241120T172141Z
LAST-MODIFIED:20241120T180257Z
UID:10002913-1732874400-1732881600@visitjacksontn.com
SUMMARY:After Thanksgiving Hike
DESCRIPTION:Walk off the Turkey! \nIn celebration of Native American History Month\, Shiloh National Military Park is partaking in an interpretive hike! \nThe interpretive hike will explore Shiloh Indian Mounds Historic Landmark\, one of the most important archaeological sites in the lower Tennessee Valley. Participants will learn about Native Amercian life\, the construction of the mounds\, hunting and gathering methods\, and more. \nThe hike will begin at 10AM at the Indian Mound shelter. Participants are encouraged to bring water\, wear comfortable shoes\, and dress for the weather. \nTo register\, call the Shiloh Battlefield Visitor Center at 731-689-5696 \nFor more details visit www.nps.gov/shil.
URL:https://visitjacksontn.com/event/after-thanksgiving-hike/
LOCATION:Shiloh National Military Park\, 1055 Pittsburg Landing Road\, Shiloh\, TN\, 38376\, United States
CATEGORIES:Arts & Culture,Sports & Outdoor
ATTACH;FMTTYPE=image/jpeg:https://visitjacksontn.com/wp-content/uploads/ranger-tim-tour.jpg
END:VEVENT
BEGIN:VEVENT
DTSTART;TZID=America/Chicago:20241130T100000
DTEND;TZID=America/Chicago:20241130T140000
DTSTAMP:20260423T211438
CREATED:20241126T184700Z
LAST-MODIFIED:20241126T184721Z
UID:10005127-1732960800-1732975200@visitjacksontn.com
SUMMARY:Havner's Holiday Fine Art Market
DESCRIPTION:Havner’s Gallery is excited to host its first annual Holiday Fine Art Market in celebration of Small Business Saturday. This special event honors local artists and their small businesses by providing a space to showcase and sell their fine art creations. \nThe market will take place in the gallery\, offering a wonderful opportunity to shop for unique\, lasting gifts. After the event\, a curated gallery of the featured pieces will remain available for shopping throughout December. Celebrate the creativity and craftsmanship of local artists and support the small businesses that help shape the community!
URL:https://visitjacksontn.com/event/havners-holiday-fine-art-market/
LOCATION:Havner’s Frame Shop\, 105 N. Church St\, Jackson\, TN\, 38301\, United States
CATEGORIES:Arts & Culture,Events
ATTACH;FMTTYPE=image/jpeg:https://visitjacksontn.com/wp-content/uploads/467578733_18487746700055235_666792509452820169_n.jpg
END:VEVENT
BEGIN:VEVENT
DTSTART;TZID=America/Chicago:20241130T140000
DTEND;TZID=America/Chicago:20241130T170000
DTSTAMP:20260423T211438
CREATED:20241112T164418Z
LAST-MODIFIED:20241112T164418Z
UID:10002864-1732975200-1732986000@visitjacksontn.com
SUMMARY:November Art in the Heart of Medina
DESCRIPTION:Don’t miss out on an amazing day filled with talented local artists\, live painters\, and live music at November Art in the Heart of Medina. \nArtists on Main\, founded by local artists Joshua Blankinship\, Rachel Blankinship\, Meg McNaughton\, and John McNaughton\, is thrilled to announce that over 30 local and regional artists will be taking over downtown Medina\, TN with their incredible work. \nCome support the arts and enjoy all that downtown Medina businesses have to offer!
URL:https://visitjacksontn.com/event/november-art-in-the-heart-of-medina/
LOCATION:South Main\, Medina\, TN\, South Main Street\, Medina\, TN\, 38355
CATEGORIES:Arts & Culture,Events
ATTACH;FMTTYPE=image/jpeg:https://visitjacksontn.com/wp-content/uploads/465999308_122127485222457431_4656521783996019750_n.jpg
END:VEVENT
END:VCALENDAR