BEGIN:VCALENDAR
VERSION:2.0
PRODID:-//Jackson Tourism - ECPv6.15.20//NONSGML v1.0//EN
CALSCALE:GREGORIAN
METHOD:PUBLISH
X-ORIGINAL-URL:https://visitjacksontn.com
X-WR-CALDESC:Events for Jackson Tourism
REFRESH-INTERVAL;VALUE=DURATION:PT1H
X-Robots-Tag:noindex
X-PUBLISHED-TTL:PT1H
BEGIN:VTIMEZONE
TZID:America/Chicago
BEGIN:DAYLIGHT
TZOFFSETFROM:-0600
TZOFFSETTO:-0500
TZNAME:CDT
DTSTART:20230312T080000
END:DAYLIGHT
BEGIN:STANDARD
TZOFFSETFROM:-0500
TZOFFSETTO:-0600
TZNAME:CST
DTSTART:20231105T070000
END:STANDARD
BEGIN:DAYLIGHT
TZOFFSETFROM:-0600
TZOFFSETTO:-0500
TZNAME:CDT
DTSTART:20240310T080000
END:DAYLIGHT
BEGIN:STANDARD
TZOFFSETFROM:-0500
TZOFFSETTO:-0600
TZNAME:CST
DTSTART:20241103T070000
END:STANDARD
BEGIN:DAYLIGHT
TZOFFSETFROM:-0600
TZOFFSETTO:-0500
TZNAME:CDT
DTSTART:20250309T080000
END:DAYLIGHT
BEGIN:STANDARD
TZOFFSETFROM:-0500
TZOFFSETTO:-0600
TZNAME:CST
DTSTART:20251102T070000
END:STANDARD
END:VTIMEZONE
BEGIN:VEVENT
DTSTART;TZID=America/Chicago:20240906T183000
DTEND;TZID=America/Chicago:20240906T220000
DTSTAMP:20260423T193551
CREATED:20240816T175648Z
LAST-MODIFIED:20240816T175648Z
UID:10002490-1725647400-1725660000@visitjacksontn.com
SUMMARY:Writers Night at the TN Legends of Music Museum at the Carnegie
DESCRIPTION:Writers Nights at the Carnegie are an opportunity for Jacksonians to meet and learn more about our local authors. \nPatricia L. Hamilton and Joy Moore are our guests for the September 6th installment. \nThis is a free event to the public. Space is limited. \nClick here for more event information. \n 
URL:https://visitjacksontn.com/event/writers-night-at-the-tn-legends-of-music-museum-at-the-carnegie/
LOCATION:The Carnegie Center & The TN Legends of Music Museum\, 305 East College Street\, Jackson\, TN\, 38301\, United States
CATEGORIES:Arts & Culture,Events
ATTACH;FMTTYPE=image/jpeg:https://visitjacksontn.com/wp-content/uploads/453718847_1016303673828120_7291325812648642220_n.jpg
END:VEVENT
BEGIN:VEVENT
DTSTART;TZID=America/Chicago:20240907T100000
DTEND;TZID=America/Chicago:20240908T160000
DTSTAMP:20260423T193551
CREATED:20240625T171102Z
LAST-MODIFIED:20240625T171102Z
UID:10002364-1725703200-1725811200@visitjacksontn.com
SUMMARY:Paris Lakeway Kiwanis Arts and Crafts Festival
DESCRIPTION:This is a two-day event with vendors offering high quality hand-crafted/hand-made goods. Free Admission and Parking \nSaturday\, September 7 from 10 am-5 pm\nSunday\, September 8 from 10 am-4 pm \nClick here for more event information.
URL:https://visitjacksontn.com/event/paris-lakeway-kiwanis-arts-and-crafts-festival/
LOCATION:Paris Landing State Park\, 400 Lodge Road\, Buchanan\, TN\, 38222\, United States
CATEGORIES:Arts & Culture,Events
ATTACH;FMTTYPE=image/jpeg:https://visitjacksontn.com/wp-content/uploads/438197687_122107202678294638_5031650373647778950_n.jpg
END:VEVENT
BEGIN:VEVENT
DTSTART;TZID=America/Chicago:20240907T190000
DTEND;TZID=America/Chicago:20240907T210000
DTSTAMP:20260423T193551
CREATED:20240520T174018Z
LAST-MODIFIED:20240815T160026Z
UID:10002228-1725735600-1725742800@visitjacksontn.com
SUMMARY:The Jackson Symphony presents Appalachian Spring
DESCRIPTION:The Jackson Symphony presents its 64th season. \nJoin the Symphony on September 7 at 7 pm at the Ned for the “Appalachian Spring” concert. \nAn Appalachian adventure with selections from Darius Milhaud and Samuel Barber\, alongside a premiere performance of “Northern Lights\,” inspired by the spring 2024 display of the aurora borealis and written by regional composer\, Dawson Hull. Topping off the evening will be the delightful full stage performance of Aaron Copland’s “Appalachian Spring” by special guest Ballet Arts\, Inc. of Jackson. \nTo purchase tickets\, click here. \n 
URL:https://visitjacksontn.com/event/appalachian-spring/
LOCATION:The NED\, 314 East Main Street\, Jackson\, TN\, 38301\, United States
CATEGORIES:Arts & Culture,Events,Music
ATTACH;FMTTYPE=image/jpeg:https://visitjacksontn.com/wp-content/uploads/455123514_1399173024363586_2022571881474552987_n.jpg
END:VEVENT
BEGIN:VEVENT
DTSTART;VALUE=DATE:20240914
DTEND;VALUE=DATE:20240915
DTSTAMP:20260423T193551
CREATED:20240827T175624Z
LAST-MODIFIED:20240827T175624Z
UID:10002537-1726272000-1726358399@visitjacksontn.com
SUMMARY:Fayette County Cotton Festival
DESCRIPTION:On the historical Somerville Square right in the heart of Fayette County\, TN\, come spend the day in Fayette County! \nFood\, Music\, Family Fun\, Arts & Crafts\, Car Show and 5K! \nClick here for a schedule and more information.
URL:https://visitjacksontn.com/event/fayette-county-cotton-festival/
LOCATION:Somerville\, TN\, Somerville\, TN\, Somerville\, TN\, 38068
CATEGORIES:Arts & Culture,Events
ATTACH;FMTTYPE=image/jpeg:https://visitjacksontn.com/wp-content/uploads/452368598_892320742933025_5511697546956998168_n.jpg
END:VEVENT
BEGIN:VEVENT
DTSTART;TZID=America/Chicago:20240921T100000
DTEND;TZID=America/Chicago:20240921T180000
DTSTAMP:20260423T193551
CREATED:20240701T150418Z
LAST-MODIFIED:20240701T150418Z
UID:10002370-1726912800-1726941600@visitjacksontn.com
SUMMARY:10th Annual Jackson International Food and Art Festival
DESCRIPTION:The Jackson International Food and Art Festival’s mission is to spread cultural awareness\, promote cross-cultural engagement\, and celebrate the diverse backgrounds of residents of West TN. This year\, we are celebrating our 10th anniversary! Join us on September 21st from 10 am to 6 pm at the Jackson Fairgrounds. The event will include Parade of Cultures\, Food Booths\, Performances\, Arts and Crafts\, Children’s Creative Activity area\, and much more! Don’t miss special performances from Lee’s Golden Dragon\, Guerrero Quetzalcoatl and ABBAFAB and much more! Have fun at this family-friendly event! FREE ADMISSION!! NEW EXTENDED HOURS!! \nClick here for more event information.
URL:https://visitjacksontn.com/event/10th-annual-jackson-international-food-and-art-festival/
LOCATION:Jackson Fairgrounds\, 800 S. Highland Ave\, Jackson\, TN\, 38301\, United States
CATEGORIES:Arts & Culture,Events
ATTACH;FMTTYPE=image/jpeg:https://visitjacksontn.com/wp-content/uploads/449032290_1055347912778203_5046055851047633256_n.jpg
END:VEVENT
BEGIN:VEVENT
DTSTART;TZID=America/Chicago:20240921T190000
DTEND;TZID=America/Chicago:20240921T210000
DTSTAMP:20260423T193551
CREATED:20240805T134512Z
LAST-MODIFIED:20240805T134820Z
UID:10002449-1726945200-1726952400@visitjacksontn.com
SUMMARY:A Tribute to Legends Sarah Vaughn and John Coltrane
DESCRIPTION:The Jazz Foundation of West Tennessee presents a tribute to legends Sarah Vaughn and John Coltrane on September 21st\, 7 pm\, at the Ned R. McWherter Cultural Arts Center in Downtown Jackson\, Tennessee. The concert features vocalist Jamille “Jam” Hunter and saxophonist Don Aliquo. Hunter will perform from her CD “Sassy Returns\,” a tribute to Sarah Vaughn\, and Aliquo will play John Coltrane 1961\, a year that was instrumental in the development of the now-icon jazz musician. \nJAMILLE “JAM” HUNTER is a Michigan-born\, Memphis-based jazz and soul singer-songwriter who is making her mark on the music scene with her mesmerizing vocals and contemporary approach to classic and modern jazz. With years of gigging in the R&B and soul arena under her belt and previous classical training\, Jam began to train intensively as a jazz vocalist in Los Angeles at the world Stage of Leimert Part. Practicing technique under the guidance of drummer Billy Higgins\, bassists Al McKibbon and Kevin O’Neal and pianist Dini Clark\, she fell in love with jazz and never looked back. Seeking an international experience\, she left Los Angeles and hit the state in Nagoya\, Japan\, where she honed her craft as the lead vocalist at the Stardust Jazz Lounge. Recently\, Jam released her live recorded CD titled “Sassy Returns: The SV Project.” This tribute to the late\, great Sarah Vaughn was a credit to Jam’s greatest inspiration. Jam\, along with her band\, Mood Swing\, has performed at the River Arts Fest\, The On Location International Film and Music Festival\, The black Arts Fest\, the Memphis International Jazz Festival and the Soulsville Music Fest\, in addition to numerous clubs and venues. \nDON ALIQUO was born in Pittsburgh on May 10th\, 1960. His father\, a proud Italian\, hooked his son on jazz at an early age\, including John Coltrane’s Giant Steps (“Coltrane was my main inspiration”) and Sonny Rollins classics\, including “Strode Rode” and “Pent-Up House.” He has muis degrees from Duquesne University as well as the Berkelee College of Music and has performed with such greats as Greg Osby\, Marvin Stamm\, Roger Humphries\, Eddie Harris\, George Benson\, Stanley Turrentine and others. Aliquo has recorded six CDs\, has taught in China\, Columbia\, and Spain\, and is currently on the faculty at Middle Tennessee State University as a professor of music. \nFor tickets or more event information\, click here.
URL:https://visitjacksontn.com/event/a-tribute-to-legends-sarah-vaughn-and-john-coltrane/
LOCATION:The NED\, 314 East Main Street\, Jackson\, TN\, 38301\, United States
CATEGORIES:Arts & Culture,Events,Music
ATTACH;FMTTYPE=image/jpeg:https://visitjacksontn.com/wp-content/uploads/454412157_1048557006917398_5994089540149397566_n.jpg
END:VEVENT
BEGIN:VEVENT
DTSTART;VALUE=DATE:20240926
DTEND;VALUE=DATE:20240929
DTSTAMP:20260423T193551
CREATED:20240502T170449Z
LAST-MODIFIED:20240826T200957Z
UID:10002196-1727308800-1727567999@visitjacksontn.com
SUMMARY:Hub City Film Festival
DESCRIPTION:Film enthusiasts\, mark your calendars! The Hub City Film Festival 2024 is set to take place from Thursday\, September 26\, to Saturday\, September 28\, at three venues across the city\, including TheCo.\, Catbird Studio\, and The Ned. This festival is an exciting opportunity for local filmmakers to showcase their work\, network with industry professionals\, and participate in workshops and seminars to further hone their skills. \nThe festival will feature a diverse lineup of events\, including film screenings of local films\, workshops\, seminars\, and classes to help filmmakers improve their craft. Additionally\, mixers will provide opportunities for networking with other filmmakers and industry professionals. The festival will culminate in an awards ceremony at The Ned on Saturday\, September 28\, where the best films and filmmakers of the festival will be recognized. \nFilmmakers who are interested in submitting their films for consideration can do so starting May 1\, 2024. The early bird deadline is May 12\, 2024\, and the regular deadline is June 30\, 2024. Late submissions will be accepted until August 11\, 2024\, and the extended deadline is September 1\, 2024. Notifications will be sent out by September 7\, 2024. \n— \nThe festival will showcase over 50 films\, including a diverse selection of documentaries\, short films\, and music videos\, all celebrating the talents of filmmakers from across the region and beyond. In addition to the screenings\, the festival will feature Q & A sessions and seminars led by industry professionals. \nScreening Venues: \n\nThe Co.\nCatbird Studio\n\nThe festival will conclude with a Red Carpet and Awards Ceremony on Saturday\, September 28th\, at The Ned\, where we will honor the outstanding achievements of this year’s filmmakers. \nTicket Information:Passes are now available for purchase\, offering a range of options to fit your festival experience: \n\nVIP Pass: $60 – Full access to all screenings and seminars\, priority seating\, and a commemorative festival t-shirt.\nGeneral Admission Pass: $25 – Access to all screenings and seminars across the three-day festival\, with priority entry and a festival program guide.\nDay Pass: $15 – Choose from September 26\, 27\, or 28\, with access to all screenings and seminars on the selected day\, plus a festival program guide.\nIndividual Event Ticket: $10 – Access to one specific screening or seminar.\n\nWatch the Preview: Get a sneak peek of this year’s featured films by watching our official preview video: https://youtu.be/hST_aOBx_-E. \nClick here to purchase tickets. \nClick here for more event information. Click here to be directed to the Hub City Film Festival Facebook page.
URL:https://visitjacksontn.com/event/hub-city-film-festival-2/
LOCATION:The NED\, 314 East Main Street\, Jackson\, TN\, 38301\, United States
CATEGORIES:Arts & Culture,Events
ATTACH;FMTTYPE=image/png:https://visitjacksontn.com/wp-content/uploads/Screenshot-2024-05-02-120711.png
END:VEVENT
BEGIN:VEVENT
DTSTART;VALUE=DATE:20240927
DTEND;VALUE=DATE:20240930
DTSTAMP:20260423T193551
CREATED:20240826T214335Z
LAST-MODIFIED:20240826T214335Z
UID:10002535-1727395200-1727654399@visitjacksontn.com
SUMMARY:Steel Magnolias
DESCRIPTION:Concerned with a group of gossipy southern ladies in a small-town beauty parlor\, the play is alternately hilarious and touching—and\, in the end\, deeply revealing of the strength and purposefulness which underlies the antic banter of its characters. \nDirected by Billy Worboys \nStage Manager – Leo Baxter \nProductions Assistant – Ariel Baxter \nShowtimes:\nFriday\, September 27 @ 7:30 pm\, Girls Night Out\nSaturday\, September 28 @ 2:00 pm & 7:30 pm\nSunday\, September 29 @ 2:00 pm & 7:30 pm\nThursday\, October 3 @ 7:30 pm\nFriday\, October 4 @ 7:30 pm\, Girls Night Out\nSaturday\, October 5 @ 2:00 pm & 7:30 pm \nClick here to purchase tickets.
URL:https://visitjacksontn.com/event/steel-magnolias/
LOCATION:The Bandstand\, 120 N. Star Drive\, Jackson\, TN\, 38305\, United States
CATEGORIES:Arts & Culture,Events
ATTACH;FMTTYPE=image/jpeg:https://visitjacksontn.com/wp-content/uploads/steel-magnolias.jpg
END:VEVENT
BEGIN:VEVENT
DTSTART;VALUE=DATE:20240927
DTEND;VALUE=DATE:20240930
DTSTAMP:20260423T193551
CREATED:20240920T205751Z
LAST-MODIFIED:20240920T205846Z
UID:10002600-1727395200-1727654399@visitjacksontn.com
SUMMARY:Tina Turner Celebration
DESCRIPTION:Brownsville and Haywood County will host Tina Turner Hertiage Days on September 27-29\, celebrating the 10th anniversary of the Flagg Grove School opening. Fans can explore Tina’s hometown of Nutbush\, visit the Tina Turner Musem\, and enjoy special events like a fan gathering\, a tribute concert\, and a zoom session with her former artist\, Joel Campbell. The weekend also includes exclusive tour footage and a chance to worship at Tina’s home church on Sunday. \n  \nFriday\, September 27 \n10PM | Nutbush Tour – includes Nutbush\, Ripley and the Alex Haley Museum in Henning. Reservations are required. \n5:30PM | Fan gathering\, special presentations and Tinaoke (Tina karaoke) \n  \nSaturday\, September 28 \n9AM & 1PM | Nutbush Tour. Tour Tina’s childhood communities (Nutbush\, former home sites\, church\, etc.) Limited Seating. Reservations required.  \n2PM | Zoom with Joel Campbell\, pianist during three Tina tours\, including her 50th Anniversary Tour. Q&A to follow. \n5PM | “Break Every Rule” video premier\, with never-before-seen footage\, produced by Deric Dyer\, saxophonist during the BER tour\, and introduced by Dr. Ralph Craig\, author of “Dancing in my Dream.” \n7:30PM | Elevation Memphis: A Tina Turner Tribute Experience Concert. Outdoor event; bring your lawn chairs. \n  \nSunday\, September 29 \n8AM |  Woodlawn Missionary Baptist Church service (Tina’s former place of worship). Fans may gather at the WTDHC and carpool. \n  \n  \nConcessions will be onsite throughout the event. For more information about Tina Turner Heritage Days\, visit www.TinaTurnerHeritageDays.com or call the Delta Heritage Center at 731-779-9000. \n  \n*Tickets for tours can be purchased online. All other activities are free\, including the concert.*
URL:https://visitjacksontn.com/event/tina-turner-celebration/
LOCATION:Tina Turner Museum\, 121 Sunny Hill Cv\, Brownsville\, TN\, 38012\, United States
CATEGORIES:Arts & Culture,Events,Music
ATTACH;FMTTYPE=image/jpeg:https://visitjacksontn.com/wp-content/uploads/Tina-Tuner-photo-e1727106606523.jpg
END:VEVENT
BEGIN:VEVENT
DTSTART;TZID=America/Chicago:20240928T190000
DTEND;TZID=America/Chicago:20240928T210000
DTSTAMP:20260423T193551
CREATED:20240520T174848Z
LAST-MODIFIED:20240814T174435Z
UID:10002229-1727550000-1727557200@visitjacksontn.com
SUMMARY:44th Annual Starlight Symphony
DESCRIPTION:The Jackson Symphony presents its 64th season. \nJoin the Symphony on Saturday\, September 28 at 7 pm at First Presbyterian Church for the 44th Annual Starlight Symphony concert. Celebrate Maestro Peter Shannon’s 10 Years as Conductor of The Jackson Symphony – hear both his and the community’s Pops favorites from the last decade\, as well as a season sneak peek! \nTo purchase season tickets\, click here. \n 
URL:https://visitjacksontn.com/event/44th-annual-starlight-symphony/
LOCATION:First Presbyterian Church\, 1573 North Highland Ave.\, Jackson\, TN\, 38301\, United States
CATEGORIES:Arts & Culture,Events,Music
ATTACH;FMTTYPE=image/jpeg:https://visitjacksontn.com/wp-content/uploads/455313977_1399175394363349_1524832934209780711_n.jpg
END:VEVENT
END:VCALENDAR