BEGIN:VCALENDAR
VERSION:2.0
PRODID:-//Jackson Tourism - ECPv6.15.20//NONSGML v1.0//EN
CALSCALE:GREGORIAN
METHOD:PUBLISH
X-WR-CALNAME:Jackson Tourism
X-ORIGINAL-URL:https://visitjacksontn.com
X-WR-CALDESC:Events for Jackson Tourism
REFRESH-INTERVAL;VALUE=DURATION:PT1H
X-Robots-Tag:noindex
X-PUBLISHED-TTL:PT1H
BEGIN:VTIMEZONE
TZID:America/Chicago
BEGIN:DAYLIGHT
TZOFFSETFROM:-0600
TZOFFSETTO:-0500
TZNAME:CDT
DTSTART:20230312T080000
END:DAYLIGHT
BEGIN:STANDARD
TZOFFSETFROM:-0500
TZOFFSETTO:-0600
TZNAME:CST
DTSTART:20231105T070000
END:STANDARD
BEGIN:DAYLIGHT
TZOFFSETFROM:-0600
TZOFFSETTO:-0500
TZNAME:CDT
DTSTART:20240310T080000
END:DAYLIGHT
BEGIN:STANDARD
TZOFFSETFROM:-0500
TZOFFSETTO:-0600
TZNAME:CST
DTSTART:20241103T070000
END:STANDARD
BEGIN:DAYLIGHT
TZOFFSETFROM:-0600
TZOFFSETTO:-0500
TZNAME:CDT
DTSTART:20250309T080000
END:DAYLIGHT
BEGIN:STANDARD
TZOFFSETFROM:-0500
TZOFFSETTO:-0600
TZNAME:CST
DTSTART:20251102T070000
END:STANDARD
END:VTIMEZONE
BEGIN:VEVENT
DTSTART;VALUE=DATE:20240426
DTEND;VALUE=DATE:20240505
DTSTAMP:20260424T195737
CREATED:20240411T192529Z
LAST-MODIFIED:20240412T164026Z
UID:10001758-1714089600-1714867199@visitjacksontn.com
SUMMARY:Trenton Teapot Festival
DESCRIPTION:Calendar of Events: \nFriday\, April 26th\nTeapot Lawn Sign Judging Sponsored by the Trenton Garden Club \nSunday\, April 28th\n3:00 pm–4:30 pm\nTea Party (Ages 4-8) @ Teapot Room at City Hall\nTickets: $15 (Must be purchased in advance)\nContact Kayla Joyner 731-514-2768 or Carla Hoskins 731-414-7128 \n4:00 pm\nOpening Ceremonies @ Frank Gibson Pedestrian Park\n*Rain out location: First United Methodist Church*\nMusic by the PHS Rock Ensemble\, Announcing of the Parade Marshal\, Teapot Lawn Signs and Teapot Royalty\nContact: Betty Poteet 731-414-8815 \nMonday\, April 29th\n7:00 am-8:00 am\nPrayer Breakfast @ First Presbyterian Church\nDonations are Welcome!\nGuest Speaker: Nelson Cunningham\nContact: Vickie Sorrells 731-420-7450 \n11:00 am-1:00 pm\nParade Marshal Reception @ Teapot Room in City Hall\nHosted by Regions Bank \n6:00 pm\nTeapot Trot Sponsored by the YMCA\n5K Run or Walk starting at City Hall\nPre-Registration @YMCA  $20 Adults/$15 Youth\n5:00 pm Registration Day of Event $25 Adult/$20 Youth\nContact: Chris Barnett 318-532-8445 \n6:00 pm\nPet Parade\nFrank Gibson Pedestrian  Park\nRegistration at 5:30 pm\nPet Entry Fee: $5\nPets judged in various categories\nContact: fogscarerescue@gmail.com \nTuesday\, April 30th\n7:00 am Walk to School Sponsored by TSSD Coordinated School Health & P.E. Dept\nBegins at City Hall & Ends at ES\nContact: 855-3616 Ext 4 \n11:00 am-1:00 pm\nCol Sanders & the Holy Smokes\nFirst Presbyterian Church\nTickets $12 (Available in Advance)\nHand Patted Hamburgers\, Home Cut Fries\, Water & Sweet Tea\nContact: Brenda Horner 731-571-8079 \n12:00 pm-2:00 pm\nTeapot Flower Show Sponsored by Trenton Garden Club\nFirst Baptist Church\nContact: Jan Burks 731-420-0201 \n5:30 pm\nTrenton Music Feast\nTrenton Rosenwald Middle School\nConcessions Available\nContact: Emma Lang 731-855-2422 \nWednesday\, May 1st\n9:00 am-12:00 pm\nSalad Luncheon\nFirst United Methodist Church\nTickets $12 (Available In Advance)\nContact: Betty Poteet 731-414-8815 \n6:00 pm\nCommunity Churches Concert\nFirst Baptist Church\nFREE ADMISSION\nContact: Vickie Sorrells 731-420-7450 \nThursday\, May 2nd\n9:00 am-12:00 pm\nTeapot Health Fair – Sponsored by Trenton Health & Rehabilitation\nFirst United Methodist Church\nContact Katie Burke 731-694-4215 or Betty Poteet 731-414-8815 \n11:00 am-1:00 pm\nGibson’s Grill-Gone Katie Style\nFirst United Methodist Church\nBBQ Sandwiches & The Fixins\nTickets $12 (Available in Advance)\nContact: Katie Gibson 731-487-2784 \n6:00 pm\nBingo – Sponsored by the Trenton Downtown Committee\nFirst Presbyterian Church\n$5 per Card – Popcorn & Drinks Available\nContact: Brenda Horner 731-571-8079 \n7:00 pm\nWrestling\nTrenton Fire Department\nFREE ADMISSION\nContact: Kenny Cole 731-855-9131 \nFriday\, May 3rd\n11:00 am-1:00 pm\nTeapot Cafe\nFirst Baptist Church\nSpaghetti\, Salad\, Garlic Bread & Tea\nTickets: $12 – Dine In\, Carry Out or Delivery (5 or more)\nContact: Greater Gibson County Chamber of Commerce 731-855-0973 \n6:30 pm\nCrawfish Boil Sponsored by Scott’s Pizza & Kitchen\nScott’s Pizza Kitchen & Square Tavern\n$25 All You Can Eat & Live DJ\nContact: Scott Rabb 731-855-3600 \n9:00 pm\nWalter Kilzer Stadium\nFREE ADMISSION! \nSaturday\, May 4th\n8:00 am-2:00 pm\nTrenton Outdoor Flea Market\nAcross from Then & Now Flea Market\n204 E. Eaton St.\nContact: Cheyenne Duschl 731-420-2970 \n9:30 am-3:30 pm\nTeapot Market\nRoosevelt Hall\n120 S. High St.\nContact: Katey Vernon 731-414-1306 \n10:00 am\nTeapot Festival Parade\nBegins at Trenton Elementary School\nForms available at City Hall 731-855-2013\nContact: Katie Burke 731-694-4215 or Courtney Smith 731-414-5624 \n7:00 pm\nTruck & Tractor Pull\nTrenton City Park\nTickets $15 – 5 & Under Free!\nGates Open at 5:30 pm
URL:https://visitjacksontn.com/event/trenton-teapot-festival/
LOCATION:Trenton\, TN\, 309 South College Street\, Trenton\, TN\, 38382\, United States
CATEGORIES:Arts & Culture,Sports & Outdoor
ATTACH;FMTTYPE=image/jpeg:https://visitjacksontn.com/wp-content/uploads/434771703_751318420434950_3479700510020812635_n.jpg
END:VEVENT
BEGIN:VEVENT
DTSTART;VALUE=DATE:20240427
DTEND;VALUE=DATE:20240505
DTSTAMP:20260424T195737
CREATED:20240411T192524Z
LAST-MODIFIED:20240412T165801Z
UID:10001757-1714176000-1714867199@visitjacksontn.com
SUMMARY:Tennessee Iris Festival
DESCRIPTION:Click here for the 2024 Tennessee Iris Festival Schedule. For more information\, visit the Tennessee Iris Festival Facebook page.
URL:https://visitjacksontn.com/event/tennessee-iris-festival/
LOCATION:Downtown Dresden\, Dresden\, TN\, Dresden\, TN\, 38225
CATEGORIES:Arts & Culture,Sports & Outdoor
ATTACH;FMTTYPE=image/png:https://visitjacksontn.com/wp-content/uploads/276096254_333831072106683_2840564814799364582_n.png
END:VEVENT
BEGIN:VEVENT
DTSTART;TZID=America/Chicago:20240502T000000
DTEND;TZID=America/Chicago:20240502T000000
DTSTAMP:20260424T195737
CREATED:20240502T150854Z
LAST-MODIFIED:20240502T150908Z
UID:10002195-1714608000-1714608000@visitjacksontn.com
SUMMARY:City of Jackson\, TN Asian American & Pacific Islander Heritage Month Celebration
DESCRIPTION:The City of Jackson will celebrate Asian American & Pacific Islander Heritage Month during the month of May this year at City Hall by showcasing visual and performing art from members of the city’s AAPI community. \n“The City of Jackson\, TN honors and uplifts the vibrant contributions of our Asian American & Pacific Islander community\,” said Mayor Scott Conger. “We embrace the rich diversity of our city as we celebrate AAPI month with this inaugural event at city hall.” \nThe month-long celebration will open with a proclamation from Mayor Scott Conger and feature Opening Ceremony speaker Dr. Sandra Dee\, and a dance performed by Dr. Nivedita Prasanna. \nIn addition to the visual exhibits\, which will be on display throughout the month of May at City Hall\, Asian American & Pacific Islander culture will be celebrated in the performing arts as well featuring music and song. \nAAPI Heritage Month Live Performance Schedule (all performances will begin at 4:00 p.m.): \n\nFriday\, May 3: Opening Ceremony / Reading of the Proclamation by Mayor Scott Conger / Dr. Sandra Dee / Dance by Dr. Nivedita Prasanna\nFriday\, May 10: Song – Tanishi Sorker / Dance – JerieJoy Broadway\nFriday\, May 17: Song – Maria Teresa Castro / Dance – Dr. Natasha Gupta & Navya Parashar\nFriday\, May 31: Guitar and Song- JerieJoy Broadway / Flute – Catherine Cheng
URL:https://visitjacksontn.com/event/city-of-jackson-tn-to-host-inaugural-asian-american-pacific-islander-heritage-month-celebration/
LOCATION:TN
CATEGORIES:Arts & Culture,Events
END:VEVENT
BEGIN:VEVENT
DTSTART;TZID=America/Chicago:20240503T170000
DTEND;TZID=America/Chicago:20240503T193000
DTSTAMP:20260424T195737
CREATED:20240416T153039Z
LAST-MODIFIED:20240416T153708Z
UID:10002108-1714755600-1714764600@visitjacksontn.com
SUMMARY:First Friday Art Walk
DESCRIPTION:Walk throughout Downtown Jackson and shop for local art\, enjoy live music\, and eat from local food trucks on the first Friday of every month April – June and September – November. \nParticipating businesses include:\nThe Ned\nTurntable Coffee Counter\nHavner’s Frame Shop\nSacred Adornments\nEast Main Salon\nThe 906\nSmith Oddities\nIdea Factory \nParticipating artists coming soon! \nArtist members of the Jackson Arts Council can still register to participate.https://forms.gle/CDrimiDhua86Mqar9 \nFor more information about how to participate or on our future events\, visit our website: 731arts.com
URL:https://visitjacksontn.com/event/first-friday-art-walk-11/
LOCATION:Art Walk on Main\, 301 E Main St\, Jackson\, 38301\, United States
CATEGORIES:Arts & Culture,Events
ATTACH;FMTTYPE=image/jpeg:https://visitjacksontn.com/wp-content/uploads/431383062_948658030595451_4523311989809539622_n.jpg
END:VEVENT
BEGIN:VEVENT
DTSTART;TZID=America/Chicago:20240503T190000
DTEND;TZID=America/Chicago:20240503T190000
DTSTAMP:20260424T195737
CREATED:20240430T212730Z
LAST-MODIFIED:20240430T212730Z
UID:10002188-1714762800-1714762800@visitjacksontn.com
SUMMARY:FHU Legacy Wind Ensemble Concert
DESCRIPTION:After a decade of silence\, symphonic music is back at FHU! Join us Friday\, May 3 at 7 p.m. in Draughon Center for the Musical Arts. All are welcome to attend. \nClick here for more event information.
URL:https://visitjacksontn.com/event/fhu-legacy-wind-ensemble-concert/
LOCATION:Freed-Hardeman University\, 202 E Mill Street\, Henderson\, TN\, 38340\, United States
CATEGORIES:Arts & Culture,Events
ATTACH;FMTTYPE=image/jpeg:https://visitjacksontn.com/wp-content/uploads/439906227_827618186060469_1196376341698200765_n.jpg
END:VEVENT
BEGIN:VEVENT
DTSTART;VALUE=DATE:20240504
DTEND;VALUE=DATE:20240506
DTSTAMP:20260424T195737
CREATED:20240411T192517Z
LAST-MODIFIED:20240412T170455Z
UID:10001752-1714780800-1714953599@visitjacksontn.com
SUMMARY:Vintage Makers Music and Arts Festival
DESCRIPTION:Join us for the Second Annual Vintage Makers Music and Arts Festival May 4th\, 4-9pm\, and May 5th\, 10am-3pm! If you love vintage\, art\, music\, and community\, this is the event for you. \nSaturday’s music lineup includes Music By Kota\, The Young Fables\, Hope MacGregor\, Dakota Hayden\, Ben T. Colling\, and a special performance by LOLO. \nSunday’s lineup includes Izzy Arthurs\, Almost Issac\, and Lindsey Russell. \nHub City Brewing will be present\, selling their Hop 100s and more! Come shop over 65 vintage and art vendors! There’s something for everyone. \nLocated at The West TN Farmer’s Market and The Amp.91 New Market St. Jackson\, TN 38301 \nClick here for more event details.
URL:https://visitjacksontn.com/event/vintage-makers-music-and-arts-festival/
LOCATION:Downtown Jackson\, 314 E Main St\, Jackson\, TN\, 38301\, United States
CATEGORIES:Arts & Culture,Music,Sports & Outdoor
ATTACH;FMTTYPE=image/jpeg:https://visitjacksontn.com/wp-content/uploads/335053293_647920460567091_168640044135987755_n-1.jpg
END:VEVENT
BEGIN:VEVENT
DTSTART;VALUE=DATE:20240505
DTEND;VALUE=DATE:20240512
DTSTAMP:20260424T195737
CREATED:20240411T192517Z
LAST-MODIFIED:20240411T192517Z
UID:10001751-1714867200-1715471999@visitjacksontn.com
SUMMARY:West Tennessee Strawberry Festival
DESCRIPTION:The West Tennessee Strawberry Festival is an 84-year tradition in Humboldt\, an opportunity for a classic West Tennessee homecoming as people travel from across the country to enjoy the events\, the food\, and the fellowship of family and friends. Stay tuned for more details on the 2024 West Tennessee Strawberry Festival. For more information\, click learn more.
URL:https://visitjacksontn.com/event/west-tennessee-strawberry-festival/
LOCATION:Humboldt\, TN\, 1200 West Main St.\, Humboldt\, TN\, 38343\, United States
CATEGORIES:Arts & Culture,Sports & Outdoor
END:VEVENT
BEGIN:VEVENT
DTSTART;TZID=America/Chicago:20240510T173000
DTEND;TZID=America/Chicago:20240510T173000
DTSTAMP:20260424T195737
CREATED:20240416T154133Z
LAST-MODIFIED:20240416T154133Z
UID:10002109-1715362200-1715362200@visitjacksontn.com
SUMMARY:Arts Backstage 2024
DESCRIPTION:Arts Backstage 2024\, presented by Los Portales and Hiller Plumbing benefitting the Jackson Arts Council\, will be held inside the Ned Ray McWherter Cultural Arts Center in Downtown Jackson Tennessee on May 10 th at 5:30 p.m. \nCome out and enjoy live music\, dance\, literary arts\, theatre performances\, visual arts\, film\, dinner\, drinks\, a silent auction\, and more! \nThis event is a true celebration of the rich arts community of West Tennessee. \nArts Backstage 2024 is presented by Hiller Plumbing and Los Portales. \nClick here to purchase tickets. Click here for more event information.
URL:https://visitjacksontn.com/event/arts-backstage-2024/
LOCATION:The Ned McWherter West TN Cultural Arts Center\, 314 E. Main St.\, Jackson\, TN\, 38301\, United States
CATEGORIES:Arts & Culture,Events
ATTACH;FMTTYPE=image/jpeg:https://visitjacksontn.com/wp-content/uploads/426514804_930174425777145_1888300720563086902_n-1.jpg
END:VEVENT
BEGIN:VEVENT
DTSTART;VALUE=DATE:20240516
DTEND;VALUE=DATE:20240519
DTSTAMP:20260424T195737
CREATED:20240425T202820Z
LAST-MODIFIED:20240425T202820Z
UID:10002177-1715817600-1716076799@visitjacksontn.com
SUMMARY:Annie\, Jr.
DESCRIPTION:Come out and enjoy Annie Jr presented by the K-8 grade students of the Jackson Madison County School System. \nSHOW TIMES:\nMay 16 @ 7 pm\nMay 17 @ 7 pm\nMay 18 @ 2 pm\nMay 18 @ 7 pm \nClick here to purchase tickets and to see a full cast list.
URL:https://visitjacksontn.com/event/annie-jr/
LOCATION:Liberty Technology Magnet High School\, 3470 Ridgecrest Rd Exd\, Jackson\, TN\, 38305\, United States
CATEGORIES:Arts & Culture,Events
ATTACH;FMTTYPE=image/jpeg:https://visitjacksontn.com/wp-content/uploads/hero.jpg
END:VEVENT
BEGIN:VEVENT
DTSTART;VALUE=DATE:20240518
DTEND;VALUE=DATE:20240519
DTSTAMP:20260424T195737
CREATED:20240411T192524Z
LAST-MODIFIED:20240411T192524Z
UID:10001755-1715990400-1716076799@visitjacksontn.com
SUMMARY:Bemis Heritage Days
DESCRIPTION:Stay tuned for more details.
URL:https://visitjacksontn.com/event/bemis-heritage-days/
LOCATION:Bemis Mill Village Museum\, 2 N Missouri St\, Jackson\, TN\, TN\, 38301\, United States
CATEGORIES:Arts & Culture,History & Civil War,Sports & Outdoor
END:VEVENT
BEGIN:VEVENT
DTSTART;TZID=America/Chicago:20240519T140000
DTEND;TZID=America/Chicago:20240519T170000
DTSTAMP:20260424T195737
CREATED:20240417T181504Z
LAST-MODIFIED:20240417T181504Z
UID:10002136-1716127200-1716138000@visitjacksontn.com
SUMMARY:VSS DANCE: Showtime 2024
DESCRIPTION:VSS Dance presents their 2024 Showtime recital. Admission is FREE! \nClick here for more event information.
URL:https://visitjacksontn.com/event/vss-dance-showtime-2024/
LOCATION:Carl Perkins Civic Center\, 400 South Highland Avenue\, Jackson\, TN\, 38301\, United States
CATEGORIES:Arts & Culture,Events
ATTACH;FMTTYPE=image/jpeg:https://visitjacksontn.com/wp-content/uploads/434404434_1189355955804971_7870467206289720551_n.jpg
END:VEVENT
BEGIN:VEVENT
DTSTART;VALUE=DATE:20240525
DTEND;VALUE=DATE:20240527
DTSTAMP:20260424T195737
CREATED:20240411T192523Z
LAST-MODIFIED:20240521T202117Z
UID:10001753-1716595200-1716767999@visitjacksontn.com
SUMMARY:Exit 56 Blues Fest
DESCRIPTION:Be ready for great music\, great food\, and a lot of fun at the Exit 56 Blues Fest! 2 Days of live Blues – Memorial Day Weekend! \nCelebrating the Blues and our 3 Brownsville Bluesmen who were pioneers in the industry- Sleepy John Estes\, Hammie Nixon and Yank Rachell. \n2-days of music beginning Saturday\, May 25\, and going through Sunday\, May 26. Plus a cruise-in\, Corvette Car Show\, food trucks and arts and crafts! \nFree Admission! We’re located right off of Interstate 40 at Exit 56\, right behind McDonald’s. \nClick here for more information.
URL:https://visitjacksontn.com/event/exit-56-blues-fest/
LOCATION:Downtown Brownsville\, 1 N Washington Ave\, Brownsville\, TN\, 38012\, United States
CATEGORIES:Arts & Culture,Sports & Outdoor
ATTACH;FMTTYPE=image/jpeg:https://visitjacksontn.com/wp-content/uploads/433576081_943318804460461_3584051909220832789_n.jpg
END:VEVENT
BEGIN:VEVENT
DTSTART;TZID=America/Chicago:20240525T100000
DTEND;TZID=America/Chicago:20240525T160000
DTSTAMP:20260424T195737
CREATED:20240416T181520Z
LAST-MODIFIED:20240416T181757Z
UID:10002118-1716631200-1716652800@visitjacksontn.com
SUMMARY:Art in the Vineyard
DESCRIPTION:Immerse yourself in a unique fusion of creativity and flavor at Art in the Vineyard! This special collaboration between Century Farm Winery and the Jackson Arts Council promises a day filled with local art\, live painting/drawing\, and\, of course\, delightful wines. \nSaturday\, May 25\n10 am-4 pm\nFREE ADMISSION! \nWhat to Expect:\n– Live painting and drawing sessions by talented local artists\n– Artwork Available for purchase to support our local creatives\n– Sip & Swirl your favorite Century Farm wines while enjoying the artistic ambiance \nWhy Attend?\n– Support local artists and the vibrant arts community\n– Indulge in exquisite wines amidst the picturesque vineyard setting\n– Experience the joy of art and wine with friends and family \nBring your friends\, family\, and an appetite for creativity. Let’s make Art in the Vineyard a day to remember! \nClick here for more event details.
URL:https://visitjacksontn.com/event/art-in-the-vineyard/
LOCATION:Century Farm Winery\, 1548 Lower Brownsville Rd.\, Jackson\, TN\, 38301\, United States
CATEGORIES:Arts & Culture,Events
ATTACH;FMTTYPE=image/jpeg:https://visitjacksontn.com/wp-content/uploads/425526280_892369879560321_7569777844278913995_n-1.jpg
END:VEVENT
BEGIN:VEVENT
DTSTART;TZID=America/Chicago:20240530T120000
DTEND;TZID=America/Chicago:20240530T120000
DTSTAMP:20260424T195737
CREATED:20240513T140405Z
LAST-MODIFIED:20240513T140405Z
UID:10002215-1717070400-1717070400@visitjacksontn.com
SUMMARY:Symphony on the Move
DESCRIPTION:The Jackson Symphony is bringing their Symphony on the Move Concert to the Library. Help us kick off Summer Reading with a concert in the park! Join us in Rotary Park\, next to the Main Library and bring a chair or blanket to enjoy the music on. Thanks to Simmons Bank for sponsoring this event! \nClick here for more information.
URL:https://visitjacksontn.com/event/symphony-on-the-move/
LOCATION:Jackson Madison County Library\, 433 East Lafayette St.\, Jackson\, TN\, 38301\, United States
CATEGORIES:Arts & Culture,Events
ATTACH;FMTTYPE=image/jpeg:https://visitjacksontn.com/wp-content/uploads/438302919_818695140306388_6719316576171752206_n.jpg
END:VEVENT
END:VCALENDAR