BEGIN:VCALENDAR
VERSION:2.0
PRODID:-//Jackson Tourism - ECPv6.15.18//NONSGML v1.0//EN
CALSCALE:GREGORIAN
METHOD:PUBLISH
X-ORIGINAL-URL:https://visitjacksontn.com
X-WR-CALDESC:Events for Jackson Tourism
REFRESH-INTERVAL;VALUE=DURATION:PT1H
X-Robots-Tag:noindex
X-PUBLISHED-TTL:PT1H
BEGIN:VTIMEZONE
TZID:America/Chicago
BEGIN:DAYLIGHT
TZOFFSETFROM:-0600
TZOFFSETTO:-0500
TZNAME:CDT
DTSTART:20240310T080000
END:DAYLIGHT
BEGIN:STANDARD
TZOFFSETFROM:-0500
TZOFFSETTO:-0600
TZNAME:CST
DTSTART:20241103T070000
END:STANDARD
BEGIN:DAYLIGHT
TZOFFSETFROM:-0600
TZOFFSETTO:-0500
TZNAME:CDT
DTSTART:20250309T080000
END:DAYLIGHT
BEGIN:STANDARD
TZOFFSETFROM:-0500
TZOFFSETTO:-0600
TZNAME:CST
DTSTART:20251102T070000
END:STANDARD
BEGIN:DAYLIGHT
TZOFFSETFROM:-0600
TZOFFSETTO:-0500
TZNAME:CDT
DTSTART:20260308T080000
END:DAYLIGHT
BEGIN:STANDARD
TZOFFSETFROM:-0500
TZOFFSETTO:-0600
TZNAME:CST
DTSTART:20261101T070000
END:STANDARD
END:VTIMEZONE
BEGIN:VEVENT
DTSTART;VALUE=DATE:20250618
DTEND;VALUE=DATE:20250625
DTSTAMP:20260419T225437
CREATED:20250620T155456Z
LAST-MODIFIED:20250620T155456Z
UID:10005629-1750204800-1750809599@visitjacksontn.com
SUMMARY:Weekly Music Events
DESCRIPTION:Enjoy live music throughout the week in Jackson and West Tennessee! \nSign up here to have the weekly newsletter delivered to your inbox every Wednesday. \n\n\n\n\n\n\n\n\nWEDNESDAY – JUNE 18th\nPiano After Work\, The Blacksmith\, 4:00\, Jackson \nKickin’ w/ Karleigh\, The Tap\, 8:30\, Jackson\n\n\n\n\n\n\n\n\n\n\n\nTHURSDAY – JUNE 19th\nPiano After Work\, The Blacksmith\, 4:00\, Jackson \nChelsea Rhodes\, Sombrero’s Mexican Grill\, 6:00\, Crump \nOpen Mic (w/ Adam Johnson)\, Baker Bros. BBQ\, 6:30\, Jackson \nOpen Jam (w/ Justin White)\, The Downtown Tavern\, 7:00\, Jackson \nSingo\, Hub City Brewing\, 7:00\, Jackson \nJohnny Mac\, Blues Landing\, 7:00\, Buchanan \nKaraoke (w/ ATL Karaoke)\, The Tap\, 9:30\, Jackson\n\n\n\n\n\n\n\n\n\n\n\nFRIDAY – JUNE 20th\nPiano After Work\, The Blacksmith\, 4:00\, Jackson \nRhythm on the Rails: Katrina Anderson & B.B. King’s All Star Band w/ Riley Jenkins & The David Fontana Band\, Discovery Park of America\, 5:00\, Union City \nDylan Jordan\, The Loaded Spud\, 5:30\, Lexington \nKelso Mojo (acoustic)\, Tekila\, 6:00\, Jackson \nDinosaur Hippies\, The Blacksmith\, 6:00\, Jackson \nSmooth Jazz with Randy Fisher\, Magnolia Manor\, 6:00\, Humboldt \nBeast & Beauty\, El Potrillo\, 6:00\, Lexington \nNick Bentley\, Freddy T’s Dining Room\, 6:00\, Counce \nDavid Thomas & Bobby Stokely\, Doe’s Eat Place\, 6:30\, Jackson \nLive Music\, Baker Bros. BBQ\, 6:30\, Jackson \nBryan Moffitt\, Main and Monroe\, 6:30\, Lexington \nJoseph Baldwin\, Freddy T’s Rooftop\, 7:00\, Counce \nSparky Sparks\, Music on the Square\, 7:00\, Bolivar \nKaraoke (w/ ATL Karaoke)\, Red Dog Bar & Grill\, 7:00\, Jackson \nKaraoke and DJ (w/ Musical Mayhem)\, The SPOT Eatery\, 7:00\, Bells \nSmall Shack\, Jackson’s AMP at the Market\, 7:30\, Jackson \nSkoda and The Damwrights\, Redbone’s\, 8:00\, Jackson \nRev. Jessie & The Holy Smokes\, Elks #192\, 8:00\, Jackson \nHunt Pearson and Michael Blackwood\, JT’s Sports Bar & Patio\, 8:00\, Jackson \nLisa Lambert\, Music on the Square\, 8:00\, Bolivar \nTypsy Gypsy\, Blues Landing\, 8:00\, Buchanan \nTim Lynch\, Mojo’s\, 8:00\, Dyersburg \nKaraoke\, The Office Lounge\, 8:00\, Jackson \nKaraoke\, Darlin’s\, 8:00\, Sharon \nKaraoke (w/ Gray Hilmerson)\, Hub City Brewing\, 8:30\, Jackson \nKaraoke (w/ Kobra Karaoke)\, The Ponds\, 9:00\, Medon \nKaraoke (w/ Christian Jones)\, The Pine Ridge Club\, 9:00\, Medon \nKaraoke (w/ Bobby & Laurie)\, Bub’s Place\, 9:00\, Dyersburg \nHope MacGregor\, The Downtown Tavern\, 9:00\, Jackson \nKaraoke\, Ricochet Bar\, 9:00\, Jackson \nThe Pinch\, The Tap\, 9:00\, Jackson\n\n\n\n\n\n\n\n\n\n\n\nSATURDAY – JUNE 21st\nDavid Thomas\, Bobby Stokely\, & Jaylon Douglas\, Blue Oval Community Center Event\, 1:00\, Stanton \nLindsey Russell (acoustic)\, Clifton Bar & Marina\, 1:00\, Clifton \nMissing Fifth\, Crown Winery\, 1:00\, Humboldt \nJustUs\, Magnolia Manor\, 6:00\, Humboldt \nJoseph Baldwin\, Freddy T’s Dining Room\, 6:00\, Counce \nHeart of the Hub City Dance Night\, City Hall\, 6:00\, Jackson \nBeast & Beauty\, The Blacksmith\, 6:30\, Jackson \nStone Silo\, Main and Monroe\, 6:30\, Lexington \nChelsea Rhodes\, Paris Station\, 7:00\, Paris \nLakewood Drive\, Clifton Bar & Marina\, 7:00\, Clifton \nMitch Mann\, Freddy T’s Rooftop\, 7:00\, Counce \nDouble Edge\, Community Center\, 7:00\, Reagan \nThe Will Beyer Band\, Bootsie’s Barn Dance\, 7:00\, Gadsden \nKaraoke (w/ Kobra Karaoke)\, Red Dog Bar & Grill\, 7:00\, Jackson \nKaraoke (w/ ATL Karaoke)\, Art’s Lounge\, 7:00\, Jackson \nVoices in the Vineyard: Bullettown Trio\, Century Farm Winery\, 7:00\, Jackson \nDavid Thomas & Bobby Stokely\, JT’s Sports Bar & Patio\, 8:00\, Jackson \nLindsey Russell Band\, Redbone’s\, 8:00\, Jackson \nTR KANE\, Cody’s Sports Bar and Grill\, 8:00\, Jackson \nOverwatch Band\, Southern State\, 8:00\, South Fulton \nThe Trace\, Blues Landing\, 8:00\, Buchanan \nThe River Dust Duo\, Mojo’s\, 8:00\, Dyersburg \nKaraoke (w/ Bobby & Laurie)\, Mark N Sharon’s\, 8:00\, Dyersburg \nKaraoke (w/ Debbie Honey)\, The City Limits Bar\, 8:00\, Trenton \nKaraoke (w/ Christian Jones)\, The Windmill Bar\, 8:30\, Decaturville \nMatt Boone Band\, Slide & Ride Rodeo\, 9:00\, Jackson \nKaraoke\, Ricochet Bar\, 9:00\, Jackson \nHunt Pearson Band\, The Pine Ridge Club\, 9:00\, Medon \nFlathead\, The Downtown Tavern\, 9:00\, Jackson \nHerz\, The Tap\, 9:00\, Jackson\n\n\n\n\n\n\n\n\n\n\n\nSUNDAY – JUNE 22nd\nKaraoke (w/ ATL Karaoke)\, Cody’s Sport Bar & Grill\, 7:30\, Jackson \nDJ Leslie\, The Tap\, 9:30\, Jackson \nScott Myatt\, Crown Winery\, 1:00\, Humboldt\n\n\n\n\n\n\n\n\n\n\n\nMONDAY – JUNE 23rd\nOpen Mic (w/ Mark Williams)\, Ricochet Bar\, 7:30\, Jackson\n\n\n\n\n\n\n\n\n\n\n\nTUESDAY – JUNE 24th\nLive Music\, Tekila\, 6:00\, Jackson \nLindsey Russell (acoustic)\, Doe’s Eat Place\, 6:00\, Jackson \nKaraoke (w/ ATL Karaoke)\, JT’s Sports Bar & Patio\, 7:00\, Jackson
URL:https://visitjacksontn.com/event/weekly-music-events-29/
LOCATION:T
CATEGORIES:Events,Music
ATTACH;FMTTYPE=image/jpeg:https://visitjacksontn.com/wp-content/uploads/509440314_1177001317773731_3352583655386507246_n.jpg
END:VEVENT
BEGIN:VEVENT
DTSTART;VALUE=DATE:20250620
DTEND;VALUE=DATE:20250623
DTSTAMP:20260419T225437
CREATED:20250227T192351Z
LAST-MODIFIED:20250227T192351Z
UID:10005320-1750377600-1750636799@visitjacksontn.com
SUMMARY:Battle of the Bats (Free Team Entry)
DESCRIPTION:The Battle of the Bats is a thrilling USSSA Baseball tournament open to AA and Open divisions. \nWith free team entry\, this action-packed event provides teams with the chance to showcase their skills and compete in a high-energy\, competitive environment.
URL:https://visitjacksontn.com/event/battle-of-the-bats-free-team-entry/
LOCATION:West Tennessee Healthcare Sportsplex\, 250 Bancorpsouth Pkwy\, Jackson\, TN\, 38305\, United States
CATEGORIES:Events,Sports & Outdoor
ATTACH;FMTTYPE=image/jpeg:https://visitjacksontn.com/wp-content/uploads/images-1.jpg
END:VEVENT
BEGIN:VEVENT
DTSTART;VALUE=DATE:20250620
DTEND;VALUE=DATE:20250623
DTSTAMP:20260419T225437
CREATED:20250325T162937Z
LAST-MODIFIED:20250325T162955Z
UID:10005440-1750377600-1750636799@visitjacksontn.com
SUMMARY:TMTA Junior Championships
DESCRIPTION:Get ready for the TMTA Junior Championships! \nA Tennessee Middle Tennis Association (TMTA) event\, this tournament welcomes junior players for an exciting weekend of singles and doubles competition.
URL:https://visitjacksontn.com/event/tmta-junior-championships/
LOCATION:Jackson Tennis Center\, 40 Match Point Drive\, Jackson\, TN\, 38305\, United States
CATEGORIES:Events,Sports & Outdoor
ATTACH;FMTTYPE=image/jpeg:https://visitjacksontn.com/wp-content/uploads/486348611_1329081142004219_1110149124669159466_n.jpg
END:VEVENT
BEGIN:VEVENT
DTSTART;VALUE=DATE:20250621
DTEND;VALUE=DATE:20250623
DTSTAMP:20260419T225437
CREATED:20250603T133907Z
LAST-MODIFIED:20250603T134059Z
UID:10005584-1750464000-1750636799@visitjacksontn.com
SUMMARY:Fire on the Water - Drag Boat Races
DESCRIPTION:Mark your calendars for the Fire on the Water – Drag Boat Races\, as the thrill of high-speed racing returns to the water! \nGet ready for an action-packed weekend with roaring engines\, fierce competition\, and an unforgettable experience on the lake! The races will start at 9:00 AM. \nWant to be part of the excitement? Contact Mark Robinson\, President of River Ratt Drag Racing Association\, at 731-307-8429\, for more details on how you can get involved.
URL:https://visitjacksontn.com/event/fire-on-the-water-drag-boat-races/
LOCATION:Beech Lake\, 210 Bob Henderson Drive\, Lexington\, TN\, 38351\, United States
CATEGORIES:Events,Sports & Outdoor
ATTACH;FMTTYPE=image/jpeg:https://visitjacksontn.com/wp-content/uploads/487874440_122148340112454147_2107410079990389696_n.jpg
END:VEVENT
BEGIN:VEVENT
DTSTART;VALUE=DATE:20250621
DTEND;VALUE=DATE:20250623
DTSTAMP:20260419T225437
CREATED:20250227T192541Z
LAST-MODIFIED:20250227T192541Z
UID:10005321-1750464000-1750636799@visitjacksontn.com
SUMMARY:Big Bang Fastpitch Presents: FunTyme Tournament (TWO DAY)
DESCRIPTION:Big Bang Fastpitch Presents: FunTyme Tournament (TWO DAY) is an exciting two-day softball event featuring 8U\, 10U\, 12U\, 14U\, 16U\, and 18U divisions. \nThis tournament provides a competitive atmosphere for athletes to showcase their skills. For more information or to register\, contact David Rousch at 731-819-3885.
URL:https://visitjacksontn.com/event/big-bang-fastpitch-presents-funtyme-tournament-two-day/
LOCATION:West Tennessee Healthcare Sportsplex\, 250 Bancorpsouth Pkwy\, Jackson\, TN\, 38305\, United States
CATEGORIES:Events,Sports & Outdoor
ATTACH;FMTTYPE=image/jpeg:https://visitjacksontn.com/wp-content/uploads/images-1.jpg
END:VEVENT
BEGIN:VEVENT
DTSTART;TZID=America/Chicago:20250621T180000
DTEND;TZID=America/Chicago:20250621T210000
DTSTAMP:20260419T225437
CREATED:20250408T153627Z
LAST-MODIFIED:20250408T154612Z
UID:10005494-1750528800-1750539600@visitjacksontn.com
SUMMARY:2025 Heart of the Hub City Dance Night
DESCRIPTION:Downtown Jackson is the place to be for the Heart of the Hub City Dance Night- a free\, family-friendly night of entertainment and dancing! \nHosted by the City of Jackson\, Jackson Parks & Rec\, Ballet Arts\, The Ned\, and a cast of incredible local talents\, this community celebration promises something for everyone—live performances\, great music\, food trucks\, and more.
URL:https://visitjacksontn.com/event/2025-heart-of-the-hub-city-dance-night-downtown-jackson/
LOCATION:Jackson City Hall\, 101 E. Main St.\, Jackson\, TN\, 38301\, United States
CATEGORIES:Events,Music
ATTACH;FMTTYPE=image/jpeg:https://visitjacksontn.com/wp-content/uploads/487379775_995271106049342_3724684790935611536_n.jpg
END:VEVENT
BEGIN:VEVENT
DTSTART;TZID=America/Chicago:20250621T183000
DTEND;TZID=America/Chicago:20250621T183000
DTSTAMP:20260419T225437
CREATED:20250612T142058Z
LAST-MODIFIED:20250612T142821Z
UID:10005617-1750530600-1750530600@visitjacksontn.com
SUMMARY:Hub City Theatre Co. Pop Up. Improv Show
DESCRIPTION:Don’t miss an evening of hilarious unscripted comedy featuring the (allegedly) funniest people in Jackson! \nIf you get excited about spontaneous laughter\, quick thinking\, and watching actors create unforgettable moments onstage\, this is the opportunity you’ve been waiting for! Audience members should be aware that since performances are live and unscripted\, some jokes may be appropriate for adults only. All ticketed guests will receive a $5 credit towards drinks provided by Turntable Coffee Counter.
URL:https://visitjacksontn.com/event/hub-city-theatre-co-pop-up-improv-show/
LOCATION:Turntable Coffee\, 300 E Main Street\, Jackson\, TN\, 38301\, United States
CATEGORIES:Arts & Culture,Events
ATTACH;FMTTYPE=image/webp:https://visitjacksontn.com/wp-content/uploads/event_photo-1.webp
END:VEVENT
BEGIN:VEVENT
DTSTART;TZID=America/Chicago:20250621T190000
DTEND;TZID=America/Chicago:20250621T190000
DTSTAMP:20260419T225437
CREATED:20241106T155442Z
LAST-MODIFIED:20241106T220045Z
UID:10002826-1750532400-1750532400@visitjacksontn.com
SUMMARY:Miss Volunteer America Pageant: Finals & Crowning
DESCRIPTION:Mark your calendars for the Miss Volunteer America Pageant & the final night of competition at the Carl Perkins Civic Center. The top 16 will be announced and the new Miss Volunteer America will be crowned! The pageant will begin at 7:00 p.m.\, and doors will open at 6:00 pm. \nMiss Volunteer America is a nationwide\, service-oriented scholarship program based in Tennessee that seeks to empower young women across the country through educational scholarships and extraordinary opportunities. The fourth Miss Volunteer America will be crowned right here in Jackson\, TN\, on June 21\, 2025\, at the Carl Perkins Civic Center. Pageant week is June 18-21\, with preliminary competitions held on June 18\, 19\, and 20\, and the crowning on June 21. Tickets are required for all events. \n 
URL:https://visitjacksontn.com/event/miss-volunteer-america-pageant-finals-and-crowning/
LOCATION:Carl Perkins Civic Center\, 400 South Highland Avenue\, Jackson\, TN\, 38301\, United States
CATEGORIES:Events
ATTACH;FMTTYPE=image/jpeg:https://visitjacksontn.com/wp-content/uploads/449317637_869752601839114_7157101734239662979_n.jpg
END:VEVENT
BEGIN:VEVENT
DTSTART;TZID=America/Chicago:20250621T190000
DTEND;TZID=America/Chicago:20250621T220000
DTSTAMP:20260419T225437
CREATED:20250310T171333Z
LAST-MODIFIED:20250310T171720Z
UID:10005375-1750532400-1750543200@visitjacksontn.com
SUMMARY:Voices in the Vineyard
DESCRIPTION:Experience live music under the stars with the Voices in the Vineyard concert series! \nEnjoy the sounds of the Bullettown Trio\, and enjoy great wine and a welcoming atmosphere. Admission is free\, so bring your friends\, relax\, and let the music set the tone for a perfect evening in the vineyard. \n 
URL:https://visitjacksontn.com/event/voices-in-the-vineyard-3/
LOCATION:Century Farm Winery\, 1548 Lower Brownsville Rd.\, Jackson\, TN\, 38301\, United States
CATEGORIES:Events,Music
ATTACH;FMTTYPE=image/jpeg:https://visitjacksontn.com/wp-content/uploads/482057626_1188564106607562_3194305577673548934_n.jpg
END:VEVENT
END:VCALENDAR